Workbook

Sheet Introduktion
A1: Introduktion, Regneark til beregning af CO2 udledning - drivhusgaseffekten ved udtagning af organiske lavbundsjorder, Version 2.0.1
A2: 7 november 2017
B4: Dette regneark er udarbejdet til at beregne CO2 effekten ved udtagning af organiske jorde/etablering af vådområder under Lavbundsordningen.
B6: Regnarket består følgende sider:
B7: Aktiv udtag - CO2 beregning
B8: Faneblad til indtastning af jordprøver
B9: Faneblad til indtastning af tørvelagets tykkelse
B10: Liste over afgrøder med GLR afgrødekoder i 2014 (Afgrøder 2014)
B11: Anvendte emissionsfaktorer
B13: Indtastningsfelterne er opbygget som en matrice hvor de forskellige arealkombinationer SKAL passe sammen. Hvis ikke, vil der fremkomme en meddelelse om "FEJL i AREALER"
B14: Der anvendes forskellige farvekoder:
B15: Indtastningsfelter
B16: Mellemregninger
B17: CO2 beregninger
... B66: Steen Gyldenkærne, Inst. for Miljøvidenskab, DCE, Aarhus Universitet
B67: =A2 -> 7 november 2017
B68: e-mail: sgy@envs.au.dk
B69: tlf. 871 58543
A72: Ændring i forhold til version 2.0.
B73: Korrigering af arealberegningen for ikke støtteberettigede GLR koder i del 2. (Ekstra linje med ha angivelse indført)
B74: Afgrødekode 312 (udyrket med 20-årig udtagning) indgår nu i emissionsberegningen for nu-drift med en emission som fuldt drænet permanent græs.
B75: Afgrødekode 906 (afmeldte arealer) indgår ikke i emissionsberegningen.

Sheet Aktiv udtag - CO2 beregning
A1: Aktiv udtagning - CO2 beregning - drivhusgaseffekten ved udtagning af organiske lavbundsjorde, Version 2.0.1
H3: Dato for oprettelse:
H4: Dato for sidste lagring:
A5: Projektansøgnings ID: | D5: Venø Nord efu
A6: Total projektareal, ha | D6: 17.9888
A8: Del 1
A9: Før omlægning
A10: Løbenummer | B10: Evt. Markblok- nummer | C10: GLR Afgrødekode | D10: Afgrødetekst | E10: Afgrødetype | F10: Areal i alt | G10: Areal på => 12% OC, ha | H10: Areal på 6-12 % OC (JB11), ha | I10: Mineraljord, 0-6% OC, ha | J10: Areal kontrol tjek | K10: CO2-ækv., tons i alt/år
C11: 254 | D11: =IF(ISBLANK(C11)," ",IFERROR(IF(MATCH(C11,'Afgrøder 2014'!$B$2:$B$260,0),VLOOKUP(C11,'Afgrøder 2014'!$B$2:$H$260,2)),"Ukendt")) -> Miljøgræs Mvj-t | E11: =IF(ISBLANK(C11)," ",IFERROR(IF(MATCH(C11,'Afgrøder 2014'!$B$2:$B$260,0),VLOOKUP(C11,'Afgrøder 2014'!$B$2:$H$260,3)),"Ukendt")) -> Permanent Græs | F11: 6.0987 | G11: 0 | H11: 1.9613 | I11: 4.1374 | J11: =IF(SUM(G11:I11)<>F11,"Fejl i arealer",IF(SUM(G11:I11)=0, "", "OK")) -> OK | K11: =IF(ISBLANK(F11),"",IF(D11=FALSE," ", SUM(beregninger!A9:G9))) -> 34.36192
C12: 264 | D12: =IF(ISBLANK(C12)," ",IFERROR(IF(MATCH(C12,'Afgrøder 2014'!$B$2:$B$260,0),VLOOKUP(C12,'Afgrøder 2014'!$B$2:$H$260,2)),"Ukendt")) -> Græs/kløvergræs | E12: =IF(ISBLANK(C12)," ",IFERROR(IF(MATCH(C12,'Afgrøder 2014'!$B$2:$B$260,0),VLOOKUP(C12,'Afgrøder 2014'!$B$2:$H$260,3)),"Ukendt")) -> Omdrift | F12: 7.1426 | G12: 0 | H12: 1.6197 | I12: 5.5229 | J12: =IF(SUM(G12:I12)<>F12,"Fejl i arealer",IF(SUM(G12:I12)=0, "", "OK")) -> OK | K12: =IF(ISBLANK(F12),"",IF(D12=FALSE," ", SUM(beregninger!A10:G10))) -> 39.07881
C13: 271 | D13: =IF(ISBLANK(C13)," ",IFERROR(IF(MATCH(C13,'Afgrøder 2014'!$B$2:$B$260,0),VLOOKUP(C13,'Afgrøder 2014'!$B$2:$H$260,2)),"Ukendt")) -> Rekreative form | E13: =IF(ISBLANK(C13)," ",IFERROR(IF(MATCH(C13,'Afgrøder 2014'!$B$2:$B$260,0),VLOOKUP(C13,'Afgrøder 2014'!$B$2:$H$260,3)),"Ukendt")) -> Permanent Græs | F13: 1.0277 | G13: 0 | H13: 0.4546 | I13: 0.5731 | J13: =IF(SUM(G13:I13)<>F13,"Fejl i arealer",IF(SUM(G13:I13)=0, "", "OK")) -> OK | K13: =IF(ISBLANK(F13),"",IF(D13=FALSE," ", SUM(beregninger!A11:G11))) -> 7.964579
D14: =IF(ISBLANK(C14)," ",IFERROR(IF(MATCH(C14,'Afgrøder 2014'!$B$2:$B$260,0),VLOOKUP(C14,'Afgrøder 2014'!$B$2:$H$260,2)),"Findes ikke i GLR 2014")) | E14: =IF(ISBLANK(C14)," ",IFERROR(IF(MATCH(C14,'Afgrøder 2014'!$B$2:$B$260,0),VLOOKUP(C14,'Afgrøder 2014'!$B$2:$H$260,3)),"Findes ikke i GLR 2014")) | J14: =IF(SUM(G14:I14)<>F14,"Fejl i arealer",IF(SUM(G14:I14)=0, "", "OK")) | K14: =IF(ISBLANK(F14),"",IF(D14=FALSE," ", SUM(beregninger!A12:G12)))
D15: =IF(ISBLANK(C15)," ",IFERROR(IF(MATCH(C15,'Afgrøder 2014'!$B$2:$B$260,0),VLOOKUP(C15,'Afgrøder 2014'!$B$2:$H$260,2)),"Ukendt")) | E15: =IF(ISBLANK(C15)," ",IFERROR(IF(MATCH(C15,'Afgrøder 2014'!$B$2:$B$260,0),VLOOKUP(C15,'Afgrøder 2014'!$B$2:$H$260,3)),"Ukendt")) | J15: =IF(SUM(G15:I15)<>F15,"Fejl i arealer",IF(SUM(G15:I15)=0, "", "OK")) | K15: =IF(ISBLANK(F15),"",IF(D15=FALSE," ", SUM(beregninger!A13:G13)))
D16: =IF(ISBLANK(C16)," ",IFERROR(IF(MATCH(C16,'Afgrøder 2014'!$B$2:$B$260,0),VLOOKUP(C16,'Afgrøder 2014'!$B$2:$H$260,2)),"Ukendt")) | E16: =IF(ISBLANK(C16)," ",IFERROR(IF(MATCH(C16,'Afgrøder 2014'!$B$2:$B$260,0),VLOOKUP(C16,'Afgrøder 2014'!$B$2:$H$260,3)),"Ukendt")) | J16: =IF(SUM(G16:I16)<>F16,"Fejl i arealer",IF(SUM(G16:I16)=0, "", "OK")) | K16: =IF(ISBLANK(F16),"",IF(D16=FALSE," ", SUM(beregninger!A14:G14)))
D17: =IF(ISBLANK(C17)," ",IFERROR(IF(MATCH(C17,'Afgrøder 2014'!$B$2:$B$260,0),VLOOKUP(C17,'Afgrøder 2014'!$B$2:$H$260,2)),"Ukendt")) | E17: =IF(ISBLANK(C17)," ",IFERROR(IF(MATCH(C17,'Afgrøder 2014'!$B$2:$B$260,0),VLOOKUP(C17,'Afgrøder 2014'!$B$2:$H$260,3)),"Ukendt")) | J17: =IF(SUM(G17:I17)<>F17,"Fejl i arealer",IF(SUM(G17:I17)=0, "", "OK")) | K17: =IF(ISBLANK(F17),"",IF(D17=FALSE," ", SUM(beregninger!A15:G15)))
D18: =IF(ISBLANK(C18)," ",IFERROR(IF(MATCH(C18,'Afgrøder 2014'!$B$2:$B$260,0),VLOOKUP(C18,'Afgrøder 2014'!$B$2:$H$260,2)),"Ukendt")) | E18: =IF(ISBLANK(C18)," ",IFERROR(IF(MATCH(C18,'Afgrøder 2014'!$B$2:$B$260,0),VLOOKUP(C18,'Afgrøder 2014'!$B$2:$H$260,3)),"Ukendt")) | J18: =IF(SUM(G18:I18)<>F18,"Fejl i arealer",IF(SUM(G18:I18)=0, "", "OK")) | K18: =IF(ISBLANK(F18),"",IF(D18=FALSE," ", SUM(beregninger!A16:G16)))
D19: =IF(ISBLANK(C19)," ",IFERROR(IF(MATCH(C19,'Afgrøder 2014'!$B$2:$B$260,0),VLOOKUP(C19,'Afgrøder 2014'!$B$2:$H$260,2)),"Ukendt")) | E19: =IF(ISBLANK(C19)," ",IFERROR(IF(MATCH(C19,'Afgrøder 2014'!$B$2:$B$260,0),VLOOKUP(C19,'Afgrøder 2014'!$B$2:$H$260,3)),"Ukendt")) | J19: =IF(SUM(G19:I19)<>F19,"Fejl i arealer",IF(SUM(G19:I19)=0, "", "OK")) | K19: =IF(ISBLANK(F19),"",IF(D19=FALSE," ", SUM(beregninger!A17:G17)))
D20: =IF(ISBLANK(C20)," ",IFERROR(IF(MATCH(C20,'Afgrøder 2014'!$B$2:$B$260,0),VLOOKUP(C20,'Afgrøder 2014'!$B$2:$H$260,2)),"Ukendt")) | E20: =IF(ISBLANK(C20)," ",IFERROR(IF(MATCH(C20,'Afgrøder 2014'!$B$2:$B$260,0),VLOOKUP(C20,'Afgrøder 2014'!$B$2:$H$260,3)),"Ukendt")) | J20: =IF(SUM(G20:I20)<>F20,"Fejl i arealer",IF(SUM(G20:I20)=0, "", "OK")) | K20: =IF(ISBLANK(F20),"",IF(D20=FALSE," ", SUM(beregninger!A18:G18)))
D21: =IF(ISBLANK(C21)," ",IFERROR(IF(MATCH(C21,'Afgrøder 2014'!$B$2:$B$260,0),VLOOKUP(C21,'Afgrøder 2014'!$B$2:$H$260,2)),"Ukendt")) | E21: =IF(ISBLANK(C21)," ",IFERROR(IF(MATCH(C21,'Afgrøder 2014'!$B$2:$B$260,0),VLOOKUP(C21,'Afgrøder 2014'!$B$2:$H$260,3)),"Ukendt")) | J21: =IF(SUM(G21:I21)<>F21,"Fejl i arealer",IF(SUM(G21:I21)=0, "", "OK")) | K21: =IF(ISBLANK(F21),"",IF(D21=FALSE," ", SUM(beregninger!A19:G19)))
D22: =IF(ISBLANK(C22)," ",IFERROR(IF(MATCH(C22,'Afgrøder 2014'!$B$2:$B$260,0),VLOOKUP(C22,'Afgrøder 2014'!$B$2:$H$260,2)),"Ukendt")) | E22: =IF(ISBLANK(C22)," ",IFERROR(IF(MATCH(C22,'Afgrøder 2014'!$B$2:$B$260,0),VLOOKUP(C22,'Afgrøder 2014'!$B$2:$H$260,3)),"Ukendt")) | J22: =IF(SUM(G22:I22)<>F22,"Fejl i arealer",IF(SUM(G22:I22)=0, "", "OK")) | K22: =IF(ISBLANK(F22),"",IF(D22=FALSE," ", SUM(beregninger!A20:G20)))
D23: =IF(ISBLANK(C23)," ",IFERROR(IF(MATCH(C23,'Afgrøder 2014'!$B$2:$B$260,0),VLOOKUP(C23,'Afgrøder 2014'!$B$2:$H$260,2)),"Ukendt")) | E23: =IF(ISBLANK(C23)," ",IFERROR(IF(MATCH(C23,'Afgrøder 2014'!$B$2:$B$260,0),VLOOKUP(C23,'Afgrøder 2014'!$B$2:$H$260,3)),"Ukendt")) | J23: =IF(SUM(G23:I23)<>F23,"Fejl i arealer",IF(SUM(G23:I23)=0, "", "OK")) | K23: =IF(ISBLANK(F23),"",IF(D23=FALSE," ", SUM(beregninger!A21:G21)))
D24: =IF(ISBLANK(C24)," ",IFERROR(IF(MATCH(C24,'Afgrøder 2014'!$B$2:$B$260,0),VLOOKUP(C24,'Afgrøder 2014'!$B$2:$H$260,2)),"Ukendt")) | E24: =IF(ISBLANK(C24)," ",IFERROR(IF(MATCH(C24,'Afgrøder 2014'!$B$2:$B$260,0),VLOOKUP(C24,'Afgrøder 2014'!$B$2:$H$260,3)),"Ukendt")) | J24: =IF(SUM(G24:I24)<>F24,"Fejl i arealer",IF(SUM(G24:I24)=0, "", "OK")) | K24: =IF(ISBLANK(F24),"",IF(D24=FALSE," ", SUM(beregninger!A22:G22)))
D25: =IF(ISBLANK(C25)," ",IFERROR(IF(MATCH(C25,'Afgrøder 2014'!$B$2:$B$260,0),VLOOKUP(C25,'Afgrøder 2014'!$B$2:$H$260,2)),"Ukendt")) | E25: =IF(ISBLANK(C25)," ",IFERROR(IF(MATCH(C25,'Afgrøder 2014'!$B$2:$B$260,0),VLOOKUP(C25,'Afgrøder 2014'!$B$2:$H$260,3)),"Ukendt")) | J25: =IF(SUM(G25:I25)<>F25,"Fejl i arealer",IF(SUM(G25:I25)=0, "", "OK")) | K25: =IF(ISBLANK(F25),"",IF(D25=FALSE," ", SUM(beregninger!A23:G23)))
D26: =IF(ISBLANK(C26)," ",IFERROR(IF(MATCH(C26,'Afgrøder 2014'!$B$2:$B$260,0),VLOOKUP(C26,'Afgrøder 2014'!$B$2:$H$260,2)),"Ukendt")) | E26: =IF(ISBLANK(C26)," ",IFERROR(IF(MATCH(C26,'Afgrøder 2014'!$B$2:$B$260,0),VLOOKUP(C26,'Afgrøder 2014'!$B$2:$H$260,3)),"Ukendt")) | J26: =IF(SUM(G26:I26)<>F26,"Fejl i arealer",IF(SUM(G26:I26)=0, "", "OK")) | K26: =IF(ISBLANK(F26),"",IF(D26=FALSE," ", SUM(beregninger!A24:G24)))
... D31: =IF(ISBLANK(C31)," ",IFERROR(IF(MATCH(C31,'Afgrøder 2014'!$B$2:$B$260,0),VLOOKUP(C31,'Afgrøder 2014'!$B$2:$H$260,2)),"Ukendt")) | E31: =IF(ISBLANK(C31)," ",IFERROR(IF(MATCH(C31,'Afgrøder 2014'!$B$2:$B$260,0),VLOOKUP(C31,'Afgrøder 2014'!$B$2:$H$260,3)),"Ukendt")) | J31: =IF(SUM(G31:I31)<>F31,"Fejl i arealer",IF(SUM(G31:I31)=0, "", "OK")) | K31: =IF(ISBLANK(F31),"",IF(D31=FALSE," ", SUM(beregninger!A29:G29)))
A32: Arealer med GLR koder, ha | F32: =SUM(F11:F31) -> 14.269 | G32: =SUM(G11:G31) -> 0 | H32: =SUM(H11:H31) -> 4.0356 | I32: =SUM(I11:I31) -> 10.2334
A33: Naturarealer, ha (ej vanddækket) | D33: Uspecificeret | F33: 3.7198 | G33: 0 | H33: 0.3151 | I33: 3.4047 | J33: =IF(SUM(G33:I33)<>F33,"Fejl i arealer",IF(SUM(G33:I33)=0, "", "OK")) -> OK | K33: Disse arealer indgår ikke i CO2 opgørelsen for nudrift
A34: Vanddækket areal, ha | D34: Vanddækket | J34: OK
A35: Areal sum | F35: =SUM(F11:F31)+F33+F34 -> 17.9888 | G35: =SUM(G11:G31)+G33 -> 0 | H35: =SUM(H11:H31)+H33 -> 4.3507 | I35: =SUM(I11:I31)+I33 -> 13.6381 | J35: =IF(SUM(G35:I35)+F34<>D6,"Fejl i arealer",IF(SUM(G35:I35)=0, "", "OK")) -> OK
K38: Tons CO2-ækvivalenter/år
A39: I alt for arealer med GLR-koder for projektområdet inden omlægning | K39: =IF(D6<(F32),"Fejl i arealer", SUM(K11:K31)) -> 81.405309
A40: Gennemsnit per ha inden for projektområdet ved nudrift, uden evt. emission fra naturarealer | K40: =K39/D6 -> 4.525333
A42: Del 2
B43: CO2 udledning efter omlægning, tons CO2-ækv./projektområde
G44: Areal, =>12 %OC, ha | H44: Areal, 6-12 %OC, ha | I44: Areal, Mineraljord, 0-6 % OC, ha | J44: Hektar i alt, ha | K44: CO2-ækv. tons i alt/år/projektområde, efter omlægning
B45: Løbenummer | C45: Tidligere fuldt vanddækket | F45: =F34 -> 0
A46: Hektar med GLR koder | B46: 1 | D46: Nyt fuldt vanddækket | G46: 0 | H46: 1.514 | I46: 1.9317 | J46: =SUM(G46:I46) -> 3.4457 | K46: =G46*Emissionsfaktorer!H12+H46*Emissionsfaktorer!H26+'Aktiv udtag - CO2 beregning'!I46*Emissionsfaktorer!H41 -> 0
B47: 1 | D47: 0-25 cm til mættet zone | G47: 0 | H47: 0.2286 | I47: 1.0537 | J47: =SUM(G47:I47) -> 1.2823 | K47: =G47*Emissionsfaktorer!H13+H47*Emissionsfaktorer!H27+'Aktiv udtag - CO2 beregning'!I47*Emissionsfaktorer!H42 -> 0.82296
B48: 1 | D48: 25-50 cm til mættet zone | G48: 0 | H48: 0.0977 | I48: 1.0884 | J48: =SUM(G48:I48) -> 1.1861 | K48: =G48*Emissionsfaktorer!H14+H48*Emissionsfaktorer!H28+'Aktiv udtag - CO2 beregning'!I48*Emissionsfaktorer!H43 -> 0.7920204
B49: 1 | D49: 50-75 cm til mættet zone | G49: 0 | H49: 0.5673 | I49: 1.787 | J49: =SUM(G49:I49) -> 2.3543 | K49: =G49*Emissionsfaktorer!H15+H49*Emissionsfaktorer!H29+'Aktiv udtag - CO2 beregning'!I49*Emissionsfaktorer!H44 -> 7.2689932
B50: 1 | D50: > 75 cm til mættet zone | G50: 0 | H50: 1.628 | I50: 4.3726 | J50: =SUM(G50:I50) -> 6.0006 | K50: =G50*Emissionsfaktorer!H16+H50*Emissionsfaktorer!H30+'Aktiv udtag - CO2 beregning'!I50*Emissionsfaktorer!H45 -> 28.522513
D51: Ha med GLR koder, i alt | G51: =SUM(G46:G50) -> 0 | H51: =SUM(H46:H50) -> 4.0356 | I51: =SUM(I46:I50) -> 10.2334 | J51: =SUM(G51:I51) -> 14.269 | K51: =SUM(K46:K50) -> 37.406487
D52: Arealtjek, landbrugs- og skovarealer | G52: =IF(G32=G51,"OK","Fejl") -> OK | H52: =IF(H32=H51,"OK","Fejl") -> OK | I52: =IF(I32=I51,"OK","Fejl") -> OK
D53: Ha naturarealer, i alt | F53: =F33 -> 3.7198 | J53: =F33 -> 3.7198
D54: Ha vanddækket, i alt | F54: =F34 -> 0 | G54: =G46 -> 0 | H54: =H46 -> 1.514 | I54: =I46 -> 1.9317 | J54: =F45+J46 -> 3.4457
D55: Ha, projektareal i alt | F55: =SUM(F53:F54) -> 3.7198 | G55: =G51 -> 0 | H55: =H51 -> 4.0356 | I55: =I51 -> 10.2334 | J55: =IF((J51+F33+F34)=D6,(J51+F33+F34),"Fejl") -> 17.9888
A57: Del 3
A58: Effekt af omlægning, tons CO2-ækv./projektområde
A59: I alt for projektområdet efter omlægning, tons CO2-ækv./år | G59: =IF(J51<> D6,"Tjek arealer", SUM(K47:K50)) -> Tjek arealer | I59: Opfylder projektkrav ?
A61: % af projektareal => 12 % OC | G61: =(SUM(G11:G31)+G33)/(SUM(F11:F31)+F33+F34) -> 0 | H61: =IF(G61>=75%,"Ja","Krav ikke opfyldt") -> Krav ikke opfyldt
A63: Samlet CO2 reduktion efter omlægning (for landbrugs- og skovarealet),tons CO2-ækv./år | G63: =(K39-K51) -> 43.998822
A64: Per ha projektareal, efter omlægning, tons CO2-ækvivalenter/ha/år | G64: =(K39-K51)/D6 -> 2.4459009 | I64: =IF(G64>=13,"Ja","Nej") -> Nej

Sheet Jordprøver
A1: Udtagning af jordprøver
A3: Projekt nummer:
A4: Adresse:
A7: Løbe- nummer | B7: Prøve- nummer | C7: Løbenummer | D7: Udtagningsdato | E7: Prøveudtager | F7: Sendt til laboratorie, dato, format: dato-måned-år | G7: UTM 32, X-Koordinat | H7: UTM 32, Y-Koordinat | I7: Afgrøde, bevoksning (skriv tekst) | J7: Prøve- udtagnings- dybde, cm | K7: Tykkelse af organisk lag, cm, se vejledning | L7: Prøveudtagningsmetode (spade, bor,, diameter og andet) | M7: Vandstand ved prøveudtagning | N7: Bemærkninger
A8: 1
A9: 2
A10: 3
A11: 4
A12: 5
A13: 6
A14: 7
A15: 8
A16: 9
A17: 10
A18: 11
A19: 12
... A22: 15

Sheet beregninger
F7: EF som skov
A8: Omdrift | B8: Perm græs | C8: Vådområde | D8: Skov | E8: Naturområde | F8: Buske og Frugttræer | G8: Energiafgrøde | I8: Støtte- berettiget | J8: Ha, Øvrige GLR koder
A9: =IF(ISBLANK('Aktiv udtag - CO2 beregning'!F11),"",IF('Aktiv udtag - CO2 beregning'!D11=FALSE," ", IF('Aktiv udtag - CO2 beregning'!J11="OK",IF('Aktiv udtag - CO2 beregning'!E11<>"Omdrift","",(IF(beregninger!I9="Nej",0,IF(beregninger!I9="Ja",IF('Aktiv udtag - CO2 beregning'!E11="Omdrift", 'Aktiv udtag - CO2 beregning'!G11*Emissionsfaktorer!$H$6+'Aktiv udtag - CO2 beregning'!$H11*Emissionsfaktorer!$H$20+'Aktiv udtag - CO2 beregning'!$I11*Emissionsfaktorer!$H$35))+((IF('Aktiv udtag - CO2 beregning'!C11<1," ",VLOOKUP('Aktiv udtag - CO2 beregning'!C11,'Afgrøder 2014'!$B$2:$H$260,7))*0.01*44/28)*298/1000+(IF('Aktiv udtag - CO2 beregning'!C11<1," ",VLOOKUP('Aktiv udtag - CO2 beregning'!C11,'Afgrøder 2014'!$B$2:$H$260,7))*0.34*0.0025*44/28)*298/1000+(IF('Aktiv udtag - CO2 beregning'!C11<1," ",VLOOKUP('Aktiv udtag - CO2 beregning'!C11,'Afgrøder 2014'!$B$2:$H$260,7))*0.34*0.6*0.0025*44/28)*298/1000)*SUM('Aktiv udtag - CO2 beregning'!G11:I11)))),""))) | B9: =IF(ISBLANK('Aktiv udtag - CO2 beregning'!F11),"",IF('Aktiv udtag - CO2 beregning'!D11=FALSE," ", IF('Aktiv udtag - CO2 beregning'!J11="OK",IF('Aktiv udtag - CO2 beregning'!E11<>"Permanent Græs","",(IF(beregninger!I9="Nej",0,IF(beregninger!I9="Ja",IF('Aktiv udtag - CO2 beregning'!E11="Permanent Græs", Emissionsfaktorer!$H$7*'Aktiv udtag - CO2 beregning'!$G11+'Aktiv udtag - CO2 beregning'!$H11*Emissionsfaktorer!$H$21+'Aktiv udtag - CO2 beregning'!$I11*Emissionsfaktorer!$H$36))+((IF('Aktiv udtag - CO2 beregning'!C11<1," ",VLOOKUP('Aktiv udtag - CO2 beregning'!C11,'Afgrøder 2014'!$B$2:$H$260,7))*0.01*44/28)*298/1000+(IF('Aktiv udtag - CO2 beregning'!C11<1," ",VLOOKUP('Aktiv udtag - CO2 beregning'!C11,'Afgrøder 2014'!$B$2:$H$260,7))*0.34*0.0025*44/28)*298/1000+(IF('Aktiv udtag - CO2 beregning'!C11<1," ",VLOOKUP('Aktiv udtag - CO2 beregning'!C11,'Afgrøder 2014'!$B$2:$H$260,7))*0.34*0.6*0.0025*44/28)*298/1000)*SUM('Aktiv udtag - CO2 beregning'!G11:I11)))),""))) -> 34.36192 | C9: =IF(ISBLANK('Aktiv udtag - CO2 beregning'!F11),"",IF('Aktiv udtag - CO2 beregning'!D11=FALSE," ", IF('Aktiv udtag - CO2 beregning'!J11="OK",IF('Aktiv udtag - CO2 beregning'!E11<>"Vådområde","",(IF(beregninger!I9="Nej",0,IF(beregninger!I9="Ja",IF('Aktiv udtag - CO2 beregning'!E11="Vådområde", Emissionsfaktorer!$H$9*'Aktiv udtag - CO2 beregning'!$G11+'Aktiv udtag - CO2 beregning'!$H11*Emissionsfaktorer!$H$23+'Aktiv udtag - CO2 beregning'!$I11*Emissionsfaktorer!$H$38))+((IF('Aktiv udtag - CO2 beregning'!C11<1," ",VLOOKUP('Aktiv udtag - CO2 beregning'!C11,'Afgrøder 2014'!$B$2:$H$260,7))*0.01*44/28)*298/1000+(IF('Aktiv udtag - CO2 beregning'!C11<1," ",VLOOKUP('Aktiv udtag - CO2 beregning'!C11,'Afgrøder 2014'!$B$2:$H$260,7))*0.34*0.0025*44/28)*298/1000+(IF('Aktiv udtag - CO2 beregning'!C11<1," ",VLOOKUP('Aktiv udtag - CO2 beregning'!C11,'Afgrøder 2014'!$B$2:$H$260,7))*0.34*0.6*0.0025*44/28)*298/1000)*SUM('Aktiv udtag - CO2 beregning'!G11:I11)))),""))) | D9: =IF(ISBLANK('Aktiv udtag - CO2 beregning'!F11),"",IF('Aktiv udtag - CO2 beregning'!D11=FALSE," ", IF('Aktiv udtag - CO2 beregning'!J11="OK",IF('Aktiv udtag - CO2 beregning'!E11<>"Skov","",(IF(beregninger!I9="Nej",0,IF(beregninger!I9="Ja",IF('Aktiv udtag - CO2 beregning'!E11="Skov", Emissionsfaktorer!$H$9*'Aktiv udtag - CO2 beregning'!$G11+'Aktiv udtag - CO2 beregning'!$H11*Emissionsfaktorer!$H$23+'Aktiv udtag - CO2 beregning'!$I11*Emissionsfaktorer!$H$38))+((IF('Aktiv udtag - CO2 beregning'!C11<1," ",VLOOKUP('Aktiv udtag - CO2 beregning'!C11,'Afgrøder 2014'!$B$2:$H$260,7))*0.01*44/28)*298/1000+(IF('Aktiv udtag - CO2 beregning'!C11<1," ",VLOOKUP('Aktiv udtag - CO2 beregning'!C11,'Afgrøder 2014'!$B$2:$H$260,7))*0.34*0.0025*44/28)*298/1000+(IF('Aktiv udtag - CO2 beregning'!C11<1," ",VLOOKUP('Aktiv udtag - CO2 beregning'!C11,'Afgrøder 2014'!$B$2:$H$260,7))*0.34*0.6*0.0025*44/28)*298/1000)*SUM('Aktiv udtag - CO2 beregning'!G11:I11)))),""))) | E9: =IF(ISBLANK('Aktiv udtag - CO2 beregning'!F11),"",IF('Aktiv udtag - CO2 beregning'!D11=FALSE," ", IF('Aktiv udtag - CO2 beregning'!J11="OK",IF('Aktiv udtag - CO2 beregning'!E11<>"Naturområde","",(IF(beregninger!I9="Nej",0,IF(beregninger!I9="Ja",IF('Aktiv udtag - CO2 beregning'!E11="Naturområde", Emissionsfaktorer!$H$8*'Aktiv udtag - CO2 beregning'!$G11+'Aktiv udtag - CO2 beregning'!$H11*Emissionsfaktorer!$H$22+'Aktiv udtag - CO2 beregning'!$I11*Emissionsfaktorer!$H$37))+((IF('Aktiv udtag - CO2 beregning'!C11<1," ",VLOOKUP('Aktiv udtag - CO2 beregning'!C11,'Afgrøder 2014'!$B$2:$H$260,7))*0.01*44/28)*298/1000+(IF('Aktiv udtag - CO2 beregning'!C11<1," ",VLOOKUP('Aktiv udtag - CO2 beregning'!C11,'Afgrøder 2014'!$B$2:$H$260,7))*0.34*0.0025*44/28)*298/1000+(IF('Aktiv udtag - CO2 beregning'!C11<1," ",VLOOKUP('Aktiv udtag - CO2 beregning'!C11,'Afgrøder 2014'!$B$2:$H$260,7))*0.34*0.6*0.0025*44/28)*298/1000)*SUM('Aktiv udtag - CO2 beregning'!G11:I11)))),""))) | F9: =IF(ISBLANK('Aktiv udtag - CO2 beregning'!F11),"",IF('Aktiv udtag - CO2 beregning'!D11=FALSE," ", IF('Aktiv udtag - CO2 beregning'!J11="OK",IF('Aktiv udtag - CO2 beregning'!E11<>"Buske og Frugttræer","",(IF(beregninger!I9="Nej",0,IF(beregninger!I9="Ja",IF('Aktiv udtag - CO2 beregning'!E11="Buske og Frugttræer", Emissionsfaktorer!$H$11*'Aktiv udtag - CO2 beregning'!$G11+'Aktiv udtag - CO2 beregning'!$H11*Emissionsfaktorer!$H$25+'Aktiv udtag - CO2 beregning'!$I11*Emissionsfaktorer!$H$40))+((IF('Aktiv udtag - CO2 beregning'!C11<1," ",VLOOKUP('Aktiv udtag - CO2 beregning'!C11,'Afgrøder 2014'!$B$2:$H$260,7))*0.01*44/28)*298/1000+(IF('Aktiv udtag - CO2 beregning'!C11<1," ",VLOOKUP('Aktiv udtag - CO2 beregning'!C11,'Afgrøder 2014'!$B$2:$H$260,7))*0.34*0.0025*44/28)*298/1000+(IF('Aktiv udtag - CO2 beregning'!C11<1," ",VLOOKUP('Aktiv udtag - CO2 beregning'!C11,'Afgrøder 2014'!$B$2:$H$260,7))*0.34*0.6*0.0025*44/28)*298/1000)*SUM('Aktiv udtag - CO2 beregning'!G11:I11)))),""))) | G9: =IF(ISBLANK('Aktiv udtag - CO2 beregning'!F11),"",IF('Aktiv udtag - CO2 beregning'!D11=FALSE," ", IF('Aktiv udtag - CO2 beregning'!J11="OK",IF('Aktiv udtag - CO2 beregning'!E11<>"Energiafgrøde","",(IF(beregninger!I9="Nej",0,IF(beregninger!I9="Ja",IF('Aktiv udtag - CO2 beregning'!E11="Energiafgrøde", Emissionsfaktorer!$H$11*'Aktiv udtag - CO2 beregning'!$G11+'Aktiv udtag - CO2 beregning'!$H11*Emissionsfaktorer!$H$25+'Aktiv udtag - CO2 beregning'!$I11*Emissionsfaktorer!$H$40))+((IF('Aktiv udtag - CO2 beregning'!C11<1," ",VLOOKUP('Aktiv udtag - CO2 beregning'!C11,'Afgrøder 2014'!$B$2:$H$260,7))*0.01*44/28)*298/1000+(IF('Aktiv udtag - CO2 beregning'!C11<1," ",VLOOKUP('Aktiv udtag - CO2 beregning'!C11,'Afgrøder 2014'!$B$2:$H$260,7))*0.34*0.0025*44/28)*298/1000+(IF('Aktiv udtag - CO2 beregning'!C11<1," ",VLOOKUP('Aktiv udtag - CO2 beregning'!C11,'Afgrøder 2014'!$B$2:$H$260,7))*0.34*0.6*0.0025*44/28)*298/1000)*SUM('Aktiv udtag - CO2 beregning'!G11:I11)))),""))) | I9: =IF(ISBLANK('Aktiv udtag - CO2 beregning'!C11)," ",IFERROR(IF(MATCH('Aktiv udtag - CO2 beregning'!C11,'Afgrøder 2014'!$B$2:$B$261,0),VLOOKUP('Aktiv udtag - CO2 beregning'!C11,'Afgrøder 2014'!$B$2:$H$261,4)),"Ukendt")) -> Ja | J9: =IF((I9="ja"),0,'Aktiv udtag - CO2 beregning'!F11) -> 0
A10: =IF(ISBLANK('Aktiv udtag - CO2 beregning'!F12),"",IF('Aktiv udtag - CO2 beregning'!D12=FALSE," ", IF('Aktiv udtag - CO2 beregning'!J12="OK",IF('Aktiv udtag - CO2 beregning'!E12<>"Omdrift","",(IF(beregninger!I10="Nej",0,IF(beregninger!I10="Ja",IF('Aktiv udtag - CO2 beregning'!E12="Omdrift", 'Aktiv udtag - CO2 beregning'!G12*Emissionsfaktorer!$H$6+'Aktiv udtag - CO2 beregning'!$H12*Emissionsfaktorer!$H$20+'Aktiv udtag - CO2 beregning'!$I12*Emissionsfaktorer!$H$35))+((IF('Aktiv udtag - CO2 beregning'!C12<1," ",VLOOKUP('Aktiv udtag - CO2 beregning'!C12,'Afgrøder 2014'!$B$2:$H$260,7))*0.01*44/28)*298/1000+(IF('Aktiv udtag - CO2 beregning'!C12<1," ",VLOOKUP('Aktiv udtag - CO2 beregning'!C12,'Afgrøder 2014'!$B$2:$H$260,7))*0.34*0.0025*44/28)*298/1000+(IF('Aktiv udtag - CO2 beregning'!C12<1," ",VLOOKUP('Aktiv udtag - CO2 beregning'!C12,'Afgrøder 2014'!$B$2:$H$260,7))*0.34*0.6*0.0025*44/28)*298/1000)*SUM('Aktiv udtag - CO2 beregning'!G12:I12)))),""))) -> 39.07881 | B10: =IF(ISBLANK('Aktiv udtag - CO2 beregning'!F12),"",IF('Aktiv udtag - CO2 beregning'!D12=FALSE," ", IF('Aktiv udtag - CO2 beregning'!J12="OK",IF('Aktiv udtag - CO2 beregning'!E12<>"Permanent Græs","",(IF(beregninger!I10="Nej",0,IF(beregninger!I10="Ja",IF('Aktiv udtag - CO2 beregning'!E12="Permanent Græs", Emissionsfaktorer!$H$7*'Aktiv udtag - CO2 beregning'!$G12+'Aktiv udtag - CO2 beregning'!$H12*Emissionsfaktorer!$H$21+'Aktiv udtag - CO2 beregning'!$I12*Emissionsfaktorer!$H$36))+((IF('Aktiv udtag - CO2 beregning'!C12<1," ",VLOOKUP('Aktiv udtag - CO2 beregning'!C12,'Afgrøder 2014'!$B$2:$H$260,7))*0.01*44/28)*298/1000+(IF('Aktiv udtag - CO2 beregning'!C12<1," ",VLOOKUP('Aktiv udtag - CO2 beregning'!C12,'Afgrøder 2014'!$B$2:$H$260,7))*0.34*0.0025*44/28)*298/1000+(IF('Aktiv udtag - CO2 beregning'!C12<1," ",VLOOKUP('Aktiv udtag - CO2 beregning'!C12,'Afgrøder 2014'!$B$2:$H$260,7))*0.34*0.6*0.0025*44/28)*298/1000)*SUM('Aktiv udtag - CO2 beregning'!G12:I12)))),""))) | C10: =IF(ISBLANK('Aktiv udtag - CO2 beregning'!F12),"",IF('Aktiv udtag - CO2 beregning'!D12=FALSE," ", IF('Aktiv udtag - CO2 beregning'!J12="OK",IF('Aktiv udtag - CO2 beregning'!E12<>"Vådområde","",(IF(beregninger!I10="Nej",0,IF(beregninger!I10="Ja",IF('Aktiv udtag - CO2 beregning'!E12="Vådområde", Emissionsfaktorer!$H$9*'Aktiv udtag - CO2 beregning'!$G12+'Aktiv udtag - CO2 beregning'!$H12*Emissionsfaktorer!$H$23+'Aktiv udtag - CO2 beregning'!$I12*Emissionsfaktorer!$H$38))+((IF('Aktiv udtag - CO2 beregning'!C12<1," ",VLOOKUP('Aktiv udtag - CO2 beregning'!C12,'Afgrøder 2014'!$B$2:$H$260,7))*0.01*44/28)*298/1000+(IF('Aktiv udtag - CO2 beregning'!C12<1," ",VLOOKUP('Aktiv udtag - CO2 beregning'!C12,'Afgrøder 2014'!$B$2:$H$260,7))*0.34*0.0025*44/28)*298/1000+(IF('Aktiv udtag - CO2 beregning'!C12<1," ",VLOOKUP('Aktiv udtag - CO2 beregning'!C12,'Afgrøder 2014'!$B$2:$H$260,7))*0.34*0.6*0.0025*44/28)*298/1000)*SUM('Aktiv udtag - CO2 beregning'!G12:I12)))),""))) | D10: =IF(ISBLANK('Aktiv udtag - CO2 beregning'!F12),"",IF('Aktiv udtag - CO2 beregning'!D12=FALSE," ", IF('Aktiv udtag - CO2 beregning'!J12="OK",IF('Aktiv udtag - CO2 beregning'!E12<>"Skov","",(IF(beregninger!I10="Nej",0,IF(beregninger!I10="Ja",IF('Aktiv udtag - CO2 beregning'!E12="Skov", Emissionsfaktorer!$H$9*'Aktiv udtag - CO2 beregning'!$G12+'Aktiv udtag - CO2 beregning'!$H12*Emissionsfaktorer!$H$23+'Aktiv udtag - CO2 beregning'!$I12*Emissionsfaktorer!$H$38))+((IF('Aktiv udtag - CO2 beregning'!C12<1," ",VLOOKUP('Aktiv udtag - CO2 beregning'!C12,'Afgrøder 2014'!$B$2:$H$260,7))*0.01*44/28)*298/1000+(IF('Aktiv udtag - CO2 beregning'!C12<1," ",VLOOKUP('Aktiv udtag - CO2 beregning'!C12,'Afgrøder 2014'!$B$2:$H$260,7))*0.34*0.0025*44/28)*298/1000+(IF('Aktiv udtag - CO2 beregning'!C12<1," ",VLOOKUP('Aktiv udtag - CO2 beregning'!C12,'Afgrøder 2014'!$B$2:$H$260,7))*0.34*0.6*0.0025*44/28)*298/1000)*SUM('Aktiv udtag - CO2 beregning'!G12:I12)))),""))) | E10: =IF(ISBLANK('Aktiv udtag - CO2 beregning'!F12),"",IF('Aktiv udtag - CO2 beregning'!D12=FALSE," ", IF('Aktiv udtag - CO2 beregning'!J12="OK",IF('Aktiv udtag - CO2 beregning'!E12<>"Naturområde","",(IF(beregninger!I10="Nej",0,IF(beregninger!I10="Ja",IF('Aktiv udtag - CO2 beregning'!E12="Naturområde", Emissionsfaktorer!$H$8*'Aktiv udtag - CO2 beregning'!$G12+'Aktiv udtag - CO2 beregning'!$H12*Emissionsfaktorer!$H$22+'Aktiv udtag - CO2 beregning'!$I12*Emissionsfaktorer!$H$37))+((IF('Aktiv udtag - CO2 beregning'!C12<1," ",VLOOKUP('Aktiv udtag - CO2 beregning'!C12,'Afgrøder 2014'!$B$2:$H$260,7))*0.01*44/28)*298/1000+(IF('Aktiv udtag - CO2 beregning'!C12<1," ",VLOOKUP('Aktiv udtag - CO2 beregning'!C12,'Afgrøder 2014'!$B$2:$H$260,7))*0.34*0.0025*44/28)*298/1000+(IF('Aktiv udtag - CO2 beregning'!C12<1," ",VLOOKUP('Aktiv udtag - CO2 beregning'!C12,'Afgrøder 2014'!$B$2:$H$260,7))*0.34*0.6*0.0025*44/28)*298/1000)*SUM('Aktiv udtag - CO2 beregning'!G12:I12)))),""))) | F10: =IF(ISBLANK('Aktiv udtag - CO2 beregning'!F12),"",IF('Aktiv udtag - CO2 beregning'!D12=FALSE," ", IF('Aktiv udtag - CO2 beregning'!J12="OK",IF('Aktiv udtag - CO2 beregning'!E12<>"Buske og Frugttræer","",(IF(beregninger!I10="Nej",0,IF(beregninger!I10="Ja",IF('Aktiv udtag - CO2 beregning'!E12="Buske og Frugttræer", Emissionsfaktorer!$H$11*'Aktiv udtag - CO2 beregning'!$G12+'Aktiv udtag - CO2 beregning'!$H12*Emissionsfaktorer!$H$25+'Aktiv udtag - CO2 beregning'!$I12*Emissionsfaktorer!$H$40))+((IF('Aktiv udtag - CO2 beregning'!C12<1," ",VLOOKUP('Aktiv udtag - CO2 beregning'!C12,'Afgrøder 2014'!$B$2:$H$260,7))*0.01*44/28)*298/1000+(IF('Aktiv udtag - CO2 beregning'!C12<1," ",VLOOKUP('Aktiv udtag - CO2 beregning'!C12,'Afgrøder 2014'!$B$2:$H$260,7))*0.34*0.0025*44/28)*298/1000+(IF('Aktiv udtag - CO2 beregning'!C12<1," ",VLOOKUP('Aktiv udtag - CO2 beregning'!C12,'Afgrøder 2014'!$B$2:$H$260,7))*0.34*0.6*0.0025*44/28)*298/1000)*SUM('Aktiv udtag - CO2 beregning'!G12:I12)))),""))) | G10: =IF(ISBLANK('Aktiv udtag - CO2 beregning'!F12),"",IF('Aktiv udtag - CO2 beregning'!D12=FALSE," ", IF('Aktiv udtag - CO2 beregning'!J12="OK",IF('Aktiv udtag - CO2 beregning'!E12<>"Energiafgrøde","",(IF(beregninger!I10="Nej",0,IF(beregninger!I10="Ja",IF('Aktiv udtag - CO2 beregning'!E12="Energiafgrøde", Emissionsfaktorer!$H$11*'Aktiv udtag - CO2 beregning'!$G12+'Aktiv udtag - CO2 beregning'!$H12*Emissionsfaktorer!$H$25+'Aktiv udtag - CO2 beregning'!$I12*Emissionsfaktorer!$H$40))+((IF('Aktiv udtag - CO2 beregning'!C12<1," ",VLOOKUP('Aktiv udtag - CO2 beregning'!C12,'Afgrøder 2014'!$B$2:$H$260,7))*0.01*44/28)*298/1000+(IF('Aktiv udtag - CO2 beregning'!C12<1," ",VLOOKUP('Aktiv udtag - CO2 beregning'!C12,'Afgrøder 2014'!$B$2:$H$260,7))*0.34*0.0025*44/28)*298/1000+(IF('Aktiv udtag - CO2 beregning'!C12<1," ",VLOOKUP('Aktiv udtag - CO2 beregning'!C12,'Afgrøder 2014'!$B$2:$H$260,7))*0.34*0.6*0.0025*44/28)*298/1000)*SUM('Aktiv udtag - CO2 beregning'!G12:I12)))),""))) | I10: =IF(ISBLANK('Aktiv udtag - CO2 beregning'!C12)," ",IFERROR(IF(MATCH('Aktiv udtag - CO2 beregning'!C12,'Afgrøder 2014'!$B$2:$B$261,0),VLOOKUP('Aktiv udtag - CO2 beregning'!C12,'Afgrøder 2014'!$B$2:$H$261,4)),"Ukendt")) -> Ja | J10: =IF((I10="ja"),0,'Aktiv udtag - CO2 beregning'!F12) -> 0
A11: =IF(ISBLANK('Aktiv udtag - CO2 beregning'!F13),"",IF('Aktiv udtag - CO2 beregning'!D13=FALSE," ", IF('Aktiv udtag - CO2 beregning'!J13="OK",IF('Aktiv udtag - CO2 beregning'!E13<>"Omdrift","",(IF(beregninger!I11="Nej",0,IF(beregninger!I11="Ja",IF('Aktiv udtag - CO2 beregning'!E13="Omdrift", 'Aktiv udtag - CO2 beregning'!G13*Emissionsfaktorer!$H$6+'Aktiv udtag - CO2 beregning'!$H13*Emissionsfaktorer!$H$20+'Aktiv udtag - CO2 beregning'!$I13*Emissionsfaktorer!$H$35))+((IF('Aktiv udtag - CO2 beregning'!C13<1," ",VLOOKUP('Aktiv udtag - CO2 beregning'!C13,'Afgrøder 2014'!$B$2:$H$260,7))*0.01*44/28)*298/1000+(IF('Aktiv udtag - CO2 beregning'!C13<1," ",VLOOKUP('Aktiv udtag - CO2 beregning'!C13,'Afgrøder 2014'!$B$2:$H$260,7))*0.34*0.0025*44/28)*298/1000+(IF('Aktiv udtag - CO2 beregning'!C13<1," ",VLOOKUP('Aktiv udtag - CO2 beregning'!C13,'Afgrøder 2014'!$B$2:$H$260,7))*0.34*0.6*0.0025*44/28)*298/1000)*SUM('Aktiv udtag - CO2 beregning'!G13:I13)))),""))) | B11: =IF(ISBLANK('Aktiv udtag - CO2 beregning'!F13),"",IF('Aktiv udtag - CO2 beregning'!D13=FALSE," ", IF('Aktiv udtag - CO2 beregning'!J13="OK",IF('Aktiv udtag - CO2 beregning'!E13<>"Permanent Græs","",(IF(beregninger!I11="Nej",0,IF(beregninger!I11="Ja",IF('Aktiv udtag - CO2 beregning'!E13="Permanent Græs", Emissionsfaktorer!$H$7*'Aktiv udtag - CO2 beregning'!$G13+'Aktiv udtag - CO2 beregning'!$H13*Emissionsfaktorer!$H$21+'Aktiv udtag - CO2 beregning'!$I13*Emissionsfaktorer!$H$36))+((IF('Aktiv udtag - CO2 beregning'!C13<1," ",VLOOKUP('Aktiv udtag - CO2 beregning'!C13,'Afgrøder 2014'!$B$2:$H$260,7))*0.01*44/28)*298/1000+(IF('Aktiv udtag - CO2 beregning'!C13<1," ",VLOOKUP('Aktiv udtag - CO2 beregning'!C13,'Afgrøder 2014'!$B$2:$H$260,7))*0.34*0.0025*44/28)*298/1000+(IF('Aktiv udtag - CO2 beregning'!C13<1," ",VLOOKUP('Aktiv udtag - CO2 beregning'!C13,'Afgrøder 2014'!$B$2:$H$260,7))*0.34*0.6*0.0025*44/28)*298/1000)*SUM('Aktiv udtag - CO2 beregning'!G13:I13)))),""))) -> 7.964579 | C11: =IF(ISBLANK('Aktiv udtag - CO2 beregning'!F13),"",IF('Aktiv udtag - CO2 beregning'!D13=FALSE," ", IF('Aktiv udtag - CO2 beregning'!J13="OK",IF('Aktiv udtag - CO2 beregning'!E13<>"Vådområde","",(IF(beregninger!I11="Nej",0,IF(beregninger!I11="Ja",IF('Aktiv udtag - CO2 beregning'!E13="Vådområde", Emissionsfaktorer!$H$9*'Aktiv udtag - CO2 beregning'!$G13+'Aktiv udtag - CO2 beregning'!$H13*Emissionsfaktorer!$H$23+'Aktiv udtag - CO2 beregning'!$I13*Emissionsfaktorer!$H$38))+((IF('Aktiv udtag - CO2 beregning'!C13<1," ",VLOOKUP('Aktiv udtag - CO2 beregning'!C13,'Afgrøder 2014'!$B$2:$H$260,7))*0.01*44/28)*298/1000+(IF('Aktiv udtag - CO2 beregning'!C13<1," ",VLOOKUP('Aktiv udtag - CO2 beregning'!C13,'Afgrøder 2014'!$B$2:$H$260,7))*0.34*0.0025*44/28)*298/1000+(IF('Aktiv udtag - CO2 beregning'!C13<1," ",VLOOKUP('Aktiv udtag - CO2 beregning'!C13,'Afgrøder 2014'!$B$2:$H$260,7))*0.34*0.6*0.0025*44/28)*298/1000)*SUM('Aktiv udtag - CO2 beregning'!G13:I13)))),""))) | D11: =IF(ISBLANK('Aktiv udtag - CO2 beregning'!F13),"",IF('Aktiv udtag - CO2 beregning'!D13=FALSE," ", IF('Aktiv udtag - CO2 beregning'!J13="OK",IF('Aktiv udtag - CO2 beregning'!E13<>"Skov","",(IF(beregninger!I11="Nej",0,IF(beregninger!I11="Ja",IF('Aktiv udtag - CO2 beregning'!E13="Skov", Emissionsfaktorer!$H$9*'Aktiv udtag - CO2 beregning'!$G13+'Aktiv udtag - CO2 beregning'!$H13*Emissionsfaktorer!$H$23+'Aktiv udtag - CO2 beregning'!$I13*Emissionsfaktorer!$H$38))+((IF('Aktiv udtag - CO2 beregning'!C13<1," ",VLOOKUP('Aktiv udtag - CO2 beregning'!C13,'Afgrøder 2014'!$B$2:$H$260,7))*0.01*44/28)*298/1000+(IF('Aktiv udtag - CO2 beregning'!C13<1," ",VLOOKUP('Aktiv udtag - CO2 beregning'!C13,'Afgrøder 2014'!$B$2:$H$260,7))*0.34*0.0025*44/28)*298/1000+(IF('Aktiv udtag - CO2 beregning'!C13<1," ",VLOOKUP('Aktiv udtag - CO2 beregning'!C13,'Afgrøder 2014'!$B$2:$H$260,7))*0.34*0.6*0.0025*44/28)*298/1000)*SUM('Aktiv udtag - CO2 beregning'!G13:I13)))),""))) | E11: =IF(ISBLANK('Aktiv udtag - CO2 beregning'!F13),"",IF('Aktiv udtag - CO2 beregning'!D13=FALSE," ", IF('Aktiv udtag - CO2 beregning'!J13="OK",IF('Aktiv udtag - CO2 beregning'!E13<>"Naturområde","",(IF(beregninger!I11="Nej",0,IF(beregninger!I11="Ja",IF('Aktiv udtag - CO2 beregning'!E13="Naturområde", Emissionsfaktorer!$H$8*'Aktiv udtag - CO2 beregning'!$G13+'Aktiv udtag - CO2 beregning'!$H13*Emissionsfaktorer!$H$22+'Aktiv udtag - CO2 beregning'!$I13*Emissionsfaktorer!$H$37))+((IF('Aktiv udtag - CO2 beregning'!C13<1," ",VLOOKUP('Aktiv udtag - CO2 beregning'!C13,'Afgrøder 2014'!$B$2:$H$260,7))*0.01*44/28)*298/1000+(IF('Aktiv udtag - CO2 beregning'!C13<1," ",VLOOKUP('Aktiv udtag - CO2 beregning'!C13,'Afgrøder 2014'!$B$2:$H$260,7))*0.34*0.0025*44/28)*298/1000+(IF('Aktiv udtag - CO2 beregning'!C13<1," ",VLOOKUP('Aktiv udtag - CO2 beregning'!C13,'Afgrøder 2014'!$B$2:$H$260,7))*0.34*0.6*0.0025*44/28)*298/1000)*SUM('Aktiv udtag - CO2 beregning'!G13:I13)))),""))) | F11: =IF(ISBLANK('Aktiv udtag - CO2 beregning'!F13),"",IF('Aktiv udtag - CO2 beregning'!D13=FALSE," ", IF('Aktiv udtag - CO2 beregning'!J13="OK",IF('Aktiv udtag - CO2 beregning'!E13<>"Buske og Frugttræer","",(IF(beregninger!I11="Nej",0,IF(beregninger!I11="Ja",IF('Aktiv udtag - CO2 beregning'!E13="Buske og Frugttræer", Emissionsfaktorer!$H$11*'Aktiv udtag - CO2 beregning'!$G13+'Aktiv udtag - CO2 beregning'!$H13*Emissionsfaktorer!$H$25+'Aktiv udtag - CO2 beregning'!$I13*Emissionsfaktorer!$H$40))+((IF('Aktiv udtag - CO2 beregning'!C13<1," ",VLOOKUP('Aktiv udtag - CO2 beregning'!C13,'Afgrøder 2014'!$B$2:$H$260,7))*0.01*44/28)*298/1000+(IF('Aktiv udtag - CO2 beregning'!C13<1," ",VLOOKUP('Aktiv udtag - CO2 beregning'!C13,'Afgrøder 2014'!$B$2:$H$260,7))*0.34*0.0025*44/28)*298/1000+(IF('Aktiv udtag - CO2 beregning'!C13<1," ",VLOOKUP('Aktiv udtag - CO2 beregning'!C13,'Afgrøder 2014'!$B$2:$H$260,7))*0.34*0.6*0.0025*44/28)*298/1000)*SUM('Aktiv udtag - CO2 beregning'!G13:I13)))),""))) | G11: =IF(ISBLANK('Aktiv udtag - CO2 beregning'!F13),"",IF('Aktiv udtag - CO2 beregning'!D13=FALSE," ", IF('Aktiv udtag - CO2 beregning'!J13="OK",IF('Aktiv udtag - CO2 beregning'!E13<>"Energiafgrøde","",(IF(beregninger!I11="Nej",0,IF(beregninger!I11="Ja",IF('Aktiv udtag - CO2 beregning'!E13="Energiafgrøde", Emissionsfaktorer!$H$11*'Aktiv udtag - CO2 beregning'!$G13+'Aktiv udtag - CO2 beregning'!$H13*Emissionsfaktorer!$H$25+'Aktiv udtag - CO2 beregning'!$I13*Emissionsfaktorer!$H$40))+((IF('Aktiv udtag - CO2 beregning'!C13<1," ",VLOOKUP('Aktiv udtag - CO2 beregning'!C13,'Afgrøder 2014'!$B$2:$H$260,7))*0.01*44/28)*298/1000+(IF('Aktiv udtag - CO2 beregning'!C13<1," ",VLOOKUP('Aktiv udtag - CO2 beregning'!C13,'Afgrøder 2014'!$B$2:$H$260,7))*0.34*0.0025*44/28)*298/1000+(IF('Aktiv udtag - CO2 beregning'!C13<1," ",VLOOKUP('Aktiv udtag - CO2 beregning'!C13,'Afgrøder 2014'!$B$2:$H$260,7))*0.34*0.6*0.0025*44/28)*298/1000)*SUM('Aktiv udtag - CO2 beregning'!G13:I13)))),""))) | I11: =IF(ISBLANK('Aktiv udtag - CO2 beregning'!C13)," ",IFERROR(IF(MATCH('Aktiv udtag - CO2 beregning'!C13,'Afgrøder 2014'!$B$2:$B$261,0),VLOOKUP('Aktiv udtag - CO2 beregning'!C13,'Afgrøder 2014'!$B$2:$H$261,4)),"Ukendt")) -> Ja | J11: =IF((I11="ja"),0,'Aktiv udtag - CO2 beregning'!F13) -> 0
A12: =IF(ISBLANK('Aktiv udtag - CO2 beregning'!F14),"",IF('Aktiv udtag - CO2 beregning'!D14=FALSE," ", IF('Aktiv udtag - CO2 beregning'!J14="OK",IF('Aktiv udtag - CO2 beregning'!E14<>"Omdrift","",(IF(beregninger!I12="Nej",0,IF(beregninger!I12="Ja",IF('Aktiv udtag - CO2 beregning'!E14="Omdrift", 'Aktiv udtag - CO2 beregning'!G14*Emissionsfaktorer!$H$6+'Aktiv udtag - CO2 beregning'!$H14*Emissionsfaktorer!$H$20+'Aktiv udtag - CO2 beregning'!$I14*Emissionsfaktorer!$H$35))+((IF('Aktiv udtag - CO2 beregning'!C14<1," ",VLOOKUP('Aktiv udtag - CO2 beregning'!C14,'Afgrøder 2014'!$B$2:$H$260,7))*0.01*44/28)*298/1000+(IF('Aktiv udtag - CO2 beregning'!C14<1," ",VLOOKUP('Aktiv udtag - CO2 beregning'!C14,'Afgrøder 2014'!$B$2:$H$260,7))*0.34*0.0025*44/28)*298/1000+(IF('Aktiv udtag - CO2 beregning'!C14<1," ",VLOOKUP('Aktiv udtag - CO2 beregning'!C14,'Afgrøder 2014'!$B$2:$H$260,7))*0.34*0.6*0.0025*44/28)*298/1000)*SUM('Aktiv udtag - CO2 beregning'!G14:I14)))),""))) | B12: =IF(ISBLANK('Aktiv udtag - CO2 beregning'!F14),"",IF('Aktiv udtag - CO2 beregning'!D14=FALSE," ", IF('Aktiv udtag - CO2 beregning'!J14="OK",IF('Aktiv udtag - CO2 beregning'!E14<>"Permanent Græs","",(IF(beregninger!I12="Nej",0,IF(beregninger!I12="Ja",IF('Aktiv udtag - CO2 beregning'!E14="Permanent Græs", Emissionsfaktorer!$H$7*'Aktiv udtag - CO2 beregning'!$G14+'Aktiv udtag - CO2 beregning'!$H14*Emissionsfaktorer!$H$21+'Aktiv udtag - CO2 beregning'!$I14*Emissionsfaktorer!$H$36))+((IF('Aktiv udtag - CO2 beregning'!C14<1," ",VLOOKUP('Aktiv udtag - CO2 beregning'!C14,'Afgrøder 2014'!$B$2:$H$260,7))*0.01*44/28)*298/1000+(IF('Aktiv udtag - CO2 beregning'!C14<1," ",VLOOKUP('Aktiv udtag - CO2 beregning'!C14,'Afgrøder 2014'!$B$2:$H$260,7))*0.34*0.0025*44/28)*298/1000+(IF('Aktiv udtag - CO2 beregning'!C14<1," ",VLOOKUP('Aktiv udtag - CO2 beregning'!C14,'Afgrøder 2014'!$B$2:$H$260,7))*0.34*0.6*0.0025*44/28)*298/1000)*SUM('Aktiv udtag - CO2 beregning'!G14:I14)))),""))) | C12: =IF(ISBLANK('Aktiv udtag - CO2 beregning'!F14),"",IF('Aktiv udtag - CO2 beregning'!D14=FALSE," ", IF('Aktiv udtag - CO2 beregning'!J14="OK",IF('Aktiv udtag - CO2 beregning'!E14<>"Vådområde","",(IF(beregninger!I12="Nej",0,IF(beregninger!I12="Ja",IF('Aktiv udtag - CO2 beregning'!E14="Vådområde", Emissionsfaktorer!$H$9*'Aktiv udtag - CO2 beregning'!$G14+'Aktiv udtag - CO2 beregning'!$H14*Emissionsfaktorer!$H$23+'Aktiv udtag - CO2 beregning'!$I14*Emissionsfaktorer!$H$38))+((IF('Aktiv udtag - CO2 beregning'!C14<1," ",VLOOKUP('Aktiv udtag - CO2 beregning'!C14,'Afgrøder 2014'!$B$2:$H$260,7))*0.01*44/28)*298/1000+(IF('Aktiv udtag - CO2 beregning'!C14<1," ",VLOOKUP('Aktiv udtag - CO2 beregning'!C14,'Afgrøder 2014'!$B$2:$H$260,7))*0.34*0.0025*44/28)*298/1000+(IF('Aktiv udtag - CO2 beregning'!C14<1," ",VLOOKUP('Aktiv udtag - CO2 beregning'!C14,'Afgrøder 2014'!$B$2:$H$260,7))*0.34*0.6*0.0025*44/28)*298/1000)*SUM('Aktiv udtag - CO2 beregning'!G14:I14)))),""))) | D12: =IF(ISBLANK('Aktiv udtag - CO2 beregning'!F14),"",IF('Aktiv udtag - CO2 beregning'!D14=FALSE," ", IF('Aktiv udtag - CO2 beregning'!J14="OK",IF('Aktiv udtag - CO2 beregning'!E14<>"Skov","",(IF(beregninger!I12="Nej",0,IF(beregninger!I12="Ja",IF('Aktiv udtag - CO2 beregning'!E14="Skov", Emissionsfaktorer!$H$9*'Aktiv udtag - CO2 beregning'!$G14+'Aktiv udtag - CO2 beregning'!$H14*Emissionsfaktorer!$H$23+'Aktiv udtag - CO2 beregning'!$I14*Emissionsfaktorer!$H$38))+((IF('Aktiv udtag - CO2 beregning'!C14<1," ",VLOOKUP('Aktiv udtag - CO2 beregning'!C14,'Afgrøder 2014'!$B$2:$H$260,7))*0.01*44/28)*298/1000+(IF('Aktiv udtag - CO2 beregning'!C14<1," ",VLOOKUP('Aktiv udtag - CO2 beregning'!C14,'Afgrøder 2014'!$B$2:$H$260,7))*0.34*0.0025*44/28)*298/1000+(IF('Aktiv udtag - CO2 beregning'!C14<1," ",VLOOKUP('Aktiv udtag - CO2 beregning'!C14,'Afgrøder 2014'!$B$2:$H$260,7))*0.34*0.6*0.0025*44/28)*298/1000)*SUM('Aktiv udtag - CO2 beregning'!G14:I14)))),""))) | E12: =IF(ISBLANK('Aktiv udtag - CO2 beregning'!F14),"",IF('Aktiv udtag - CO2 beregning'!D14=FALSE," ", IF('Aktiv udtag - CO2 beregning'!J14="OK",IF('Aktiv udtag - CO2 beregning'!E14<>"Naturområde","",(IF(beregninger!I12="Nej",0,IF(beregninger!I12="Ja",IF('Aktiv udtag - CO2 beregning'!E14="Naturområde", Emissionsfaktorer!$H$8*'Aktiv udtag - CO2 beregning'!$G14+'Aktiv udtag - CO2 beregning'!$H14*Emissionsfaktorer!$H$22+'Aktiv udtag - CO2 beregning'!$I14*Emissionsfaktorer!$H$37))+((IF('Aktiv udtag - CO2 beregning'!C14<1," ",VLOOKUP('Aktiv udtag - CO2 beregning'!C14,'Afgrøder 2014'!$B$2:$H$260,7))*0.01*44/28)*298/1000+(IF('Aktiv udtag - CO2 beregning'!C14<1," ",VLOOKUP('Aktiv udtag - CO2 beregning'!C14,'Afgrøder 2014'!$B$2:$H$260,7))*0.34*0.0025*44/28)*298/1000+(IF('Aktiv udtag - CO2 beregning'!C14<1," ",VLOOKUP('Aktiv udtag - CO2 beregning'!C14,'Afgrøder 2014'!$B$2:$H$260,7))*0.34*0.6*0.0025*44/28)*298/1000)*SUM('Aktiv udtag - CO2 beregning'!G14:I14)))),""))) | F12: =IF(ISBLANK('Aktiv udtag - CO2 beregning'!F14),"",IF('Aktiv udtag - CO2 beregning'!D14=FALSE," ", IF('Aktiv udtag - CO2 beregning'!J14="OK",IF('Aktiv udtag - CO2 beregning'!E14<>"Buske og Frugttræer","",(IF(beregninger!I12="Nej",0,IF(beregninger!I12="Ja",IF('Aktiv udtag - CO2 beregning'!E14="Buske og Frugttræer", Emissionsfaktorer!$H$11*'Aktiv udtag - CO2 beregning'!$G14+'Aktiv udtag - CO2 beregning'!$H14*Emissionsfaktorer!$H$25+'Aktiv udtag - CO2 beregning'!$I14*Emissionsfaktorer!$H$40))+((IF('Aktiv udtag - CO2 beregning'!C14<1," ",VLOOKUP('Aktiv udtag - CO2 beregning'!C14,'Afgrøder 2014'!$B$2:$H$260,7))*0.01*44/28)*298/1000+(IF('Aktiv udtag - CO2 beregning'!C14<1," ",VLOOKUP('Aktiv udtag - CO2 beregning'!C14,'Afgrøder 2014'!$B$2:$H$260,7))*0.34*0.0025*44/28)*298/1000+(IF('Aktiv udtag - CO2 beregning'!C14<1," ",VLOOKUP('Aktiv udtag - CO2 beregning'!C14,'Afgrøder 2014'!$B$2:$H$260,7))*0.34*0.6*0.0025*44/28)*298/1000)*SUM('Aktiv udtag - CO2 beregning'!G14:I14)))),""))) | G12: =IF(ISBLANK('Aktiv udtag - CO2 beregning'!F14),"",IF('Aktiv udtag - CO2 beregning'!D14=FALSE," ", IF('Aktiv udtag - CO2 beregning'!J14="OK",IF('Aktiv udtag - CO2 beregning'!E14<>"Energiafgrøde","",(IF(beregninger!I12="Nej",0,IF(beregninger!I12="Ja",IF('Aktiv udtag - CO2 beregning'!E14="Energiafgrøde", Emissionsfaktorer!$H$11*'Aktiv udtag - CO2 beregning'!$G14+'Aktiv udtag - CO2 beregning'!$H14*Emissionsfaktorer!$H$25+'Aktiv udtag - CO2 beregning'!$I14*Emissionsfaktorer!$H$40))+((IF('Aktiv udtag - CO2 beregning'!C14<1," ",VLOOKUP('Aktiv udtag - CO2 beregning'!C14,'Afgrøder 2014'!$B$2:$H$260,7))*0.01*44/28)*298/1000+(IF('Aktiv udtag - CO2 beregning'!C14<1," ",VLOOKUP('Aktiv udtag - CO2 beregning'!C14,'Afgrøder 2014'!$B$2:$H$260,7))*0.34*0.0025*44/28)*298/1000+(IF('Aktiv udtag - CO2 beregning'!C14<1," ",VLOOKUP('Aktiv udtag - CO2 beregning'!C14,'Afgrøder 2014'!$B$2:$H$260,7))*0.34*0.6*0.0025*44/28)*298/1000)*SUM('Aktiv udtag - CO2 beregning'!G14:I14)))),""))) | I12: =IF(ISBLANK('Aktiv udtag - CO2 beregning'!C14)," ",IFERROR(IF(MATCH('Aktiv udtag - CO2 beregning'!C14,'Afgrøder 2014'!$B$2:$B$261,0),VLOOKUP('Aktiv udtag - CO2 beregning'!C14,'Afgrøder 2014'!$B$2:$H$261,4)),"Ukendt")) | J12: =IF((I12="ja"),0,'Aktiv udtag - CO2 beregning'!F14) -> 0
A13: =IF(ISBLANK('Aktiv udtag - CO2 beregning'!F15),"",IF('Aktiv udtag - CO2 beregning'!D15=FALSE," ", IF('Aktiv udtag - CO2 beregning'!J15="OK",IF('Aktiv udtag - CO2 beregning'!E15<>"Omdrift","",(IF(beregninger!I13="Nej",0,IF(beregninger!I13="Ja",IF('Aktiv udtag - CO2 beregning'!E15="Omdrift", 'Aktiv udtag - CO2 beregning'!G15*Emissionsfaktorer!$H$6+'Aktiv udtag - CO2 beregning'!$H15*Emissionsfaktorer!$H$20+'Aktiv udtag - CO2 beregning'!$I15*Emissionsfaktorer!$H$35))+((IF('Aktiv udtag - CO2 beregning'!C15<1," ",VLOOKUP('Aktiv udtag - CO2 beregning'!C15,'Afgrøder 2014'!$B$2:$H$260,7))*0.01*44/28)*298/1000+(IF('Aktiv udtag - CO2 beregning'!C15<1," ",VLOOKUP('Aktiv udtag - CO2 beregning'!C15,'Afgrøder 2014'!$B$2:$H$260,7))*0.34*0.0025*44/28)*298/1000+(IF('Aktiv udtag - CO2 beregning'!C15<1," ",VLOOKUP('Aktiv udtag - CO2 beregning'!C15,'Afgrøder 2014'!$B$2:$H$260,7))*0.34*0.6*0.0025*44/28)*298/1000)*SUM('Aktiv udtag - CO2 beregning'!G15:I15)))),""))) | B13: =IF(ISBLANK('Aktiv udtag - CO2 beregning'!F15),"",IF('Aktiv udtag - CO2 beregning'!D15=FALSE," ", IF('Aktiv udtag - CO2 beregning'!J15="OK",IF('Aktiv udtag - CO2 beregning'!E15<>"Permanent Græs","",(IF(beregninger!I13="Nej",0,IF(beregninger!I13="Ja",IF('Aktiv udtag - CO2 beregning'!E15="Permanent Græs", Emissionsfaktorer!$H$7*'Aktiv udtag - CO2 beregning'!$G15+'Aktiv udtag - CO2 beregning'!$H15*Emissionsfaktorer!$H$21+'Aktiv udtag - CO2 beregning'!$I15*Emissionsfaktorer!$H$36))+((IF('Aktiv udtag - CO2 beregning'!C15<1," ",VLOOKUP('Aktiv udtag - CO2 beregning'!C15,'Afgrøder 2014'!$B$2:$H$260,7))*0.01*44/28)*298/1000+(IF('Aktiv udtag - CO2 beregning'!C15<1," ",VLOOKUP('Aktiv udtag - CO2 beregning'!C15,'Afgrøder 2014'!$B$2:$H$260,7))*0.34*0.0025*44/28)*298/1000+(IF('Aktiv udtag - CO2 beregning'!C15<1," ",VLOOKUP('Aktiv udtag - CO2 beregning'!C15,'Afgrøder 2014'!$B$2:$H$260,7))*0.34*0.6*0.0025*44/28)*298/1000)*SUM('Aktiv udtag - CO2 beregning'!G15:I15)))),""))) | C13: =IF(ISBLANK('Aktiv udtag - CO2 beregning'!F15),"",IF('Aktiv udtag - CO2 beregning'!D15=FALSE," ", IF('Aktiv udtag - CO2 beregning'!J15="OK",IF('Aktiv udtag - CO2 beregning'!E15<>"Vådområde","",(IF(beregninger!I13="Nej",0,IF(beregninger!I13="Ja",IF('Aktiv udtag - CO2 beregning'!E15="Vådområde", Emissionsfaktorer!$H$9*'Aktiv udtag - CO2 beregning'!$G15+'Aktiv udtag - CO2 beregning'!$H15*Emissionsfaktorer!$H$23+'Aktiv udtag - CO2 beregning'!$I15*Emissionsfaktorer!$H$38))+((IF('Aktiv udtag - CO2 beregning'!C15<1," ",VLOOKUP('Aktiv udtag - CO2 beregning'!C15,'Afgrøder 2014'!$B$2:$H$260,7))*0.01*44/28)*298/1000+(IF('Aktiv udtag - CO2 beregning'!C15<1," ",VLOOKUP('Aktiv udtag - CO2 beregning'!C15,'Afgrøder 2014'!$B$2:$H$260,7))*0.34*0.0025*44/28)*298/1000+(IF('Aktiv udtag - CO2 beregning'!C15<1," ",VLOOKUP('Aktiv udtag - CO2 beregning'!C15,'Afgrøder 2014'!$B$2:$H$260,7))*0.34*0.6*0.0025*44/28)*298/1000)*SUM('Aktiv udtag - CO2 beregning'!G15:I15)))),""))) | D13: =IF(ISBLANK('Aktiv udtag - CO2 beregning'!F15),"",IF('Aktiv udtag - CO2 beregning'!D15=FALSE," ", IF('Aktiv udtag - CO2 beregning'!J15="OK",IF('Aktiv udtag - CO2 beregning'!E15<>"Skov","",(IF(beregninger!I13="Nej",0,IF(beregninger!I13="Ja",IF('Aktiv udtag - CO2 beregning'!E15="Skov", Emissionsfaktorer!$H$9*'Aktiv udtag - CO2 beregning'!$G15+'Aktiv udtag - CO2 beregning'!$H15*Emissionsfaktorer!$H$23+'Aktiv udtag - CO2 beregning'!$I15*Emissionsfaktorer!$H$38))+((IF('Aktiv udtag - CO2 beregning'!C15<1," ",VLOOKUP('Aktiv udtag - CO2 beregning'!C15,'Afgrøder 2014'!$B$2:$H$260,7))*0.01*44/28)*298/1000+(IF('Aktiv udtag - CO2 beregning'!C15<1," ",VLOOKUP('Aktiv udtag - CO2 beregning'!C15,'Afgrøder 2014'!$B$2:$H$260,7))*0.34*0.0025*44/28)*298/1000+(IF('Aktiv udtag - CO2 beregning'!C15<1," ",VLOOKUP('Aktiv udtag - CO2 beregning'!C15,'Afgrøder 2014'!$B$2:$H$260,7))*0.34*0.6*0.0025*44/28)*298/1000)*SUM('Aktiv udtag - CO2 beregning'!G15:I15)))),""))) | E13: =IF(ISBLANK('Aktiv udtag - CO2 beregning'!F15),"",IF('Aktiv udtag - CO2 beregning'!D15=FALSE," ", IF('Aktiv udtag - CO2 beregning'!J15="OK",IF('Aktiv udtag - CO2 beregning'!E15<>"Naturområde","",(IF(beregninger!I13="Nej",0,IF(beregninger!I13="Ja",IF('Aktiv udtag - CO2 beregning'!E15="Naturområde", Emissionsfaktorer!$H$8*'Aktiv udtag - CO2 beregning'!$G15+'Aktiv udtag - CO2 beregning'!$H15*Emissionsfaktorer!$H$22+'Aktiv udtag - CO2 beregning'!$I15*Emissionsfaktorer!$H$37))+((IF('Aktiv udtag - CO2 beregning'!C15<1," ",VLOOKUP('Aktiv udtag - CO2 beregning'!C15,'Afgrøder 2014'!$B$2:$H$260,7))*0.01*44/28)*298/1000+(IF('Aktiv udtag - CO2 beregning'!C15<1," ",VLOOKUP('Aktiv udtag - CO2 beregning'!C15,'Afgrøder 2014'!$B$2:$H$260,7))*0.34*0.0025*44/28)*298/1000+(IF('Aktiv udtag - CO2 beregning'!C15<1," ",VLOOKUP('Aktiv udtag - CO2 beregning'!C15,'Afgrøder 2014'!$B$2:$H$260,7))*0.34*0.6*0.0025*44/28)*298/1000)*SUM('Aktiv udtag - CO2 beregning'!G15:I15)))),""))) | F13: =IF(ISBLANK('Aktiv udtag - CO2 beregning'!F15),"",IF('Aktiv udtag - CO2 beregning'!D15=FALSE," ", IF('Aktiv udtag - CO2 beregning'!J15="OK",IF('Aktiv udtag - CO2 beregning'!E15<>"Buske og Frugttræer","",(IF(beregninger!I13="Nej",0,IF(beregninger!I13="Ja",IF('Aktiv udtag - CO2 beregning'!E15="Buske og Frugttræer", Emissionsfaktorer!$H$11*'Aktiv udtag - CO2 beregning'!$G15+'Aktiv udtag - CO2 beregning'!$H15*Emissionsfaktorer!$H$25+'Aktiv udtag - CO2 beregning'!$I15*Emissionsfaktorer!$H$40))+((IF('Aktiv udtag - CO2 beregning'!C15<1," ",VLOOKUP('Aktiv udtag - CO2 beregning'!C15,'Afgrøder 2014'!$B$2:$H$260,7))*0.01*44/28)*298/1000+(IF('Aktiv udtag - CO2 beregning'!C15<1," ",VLOOKUP('Aktiv udtag - CO2 beregning'!C15,'Afgrøder 2014'!$B$2:$H$260,7))*0.34*0.0025*44/28)*298/1000+(IF('Aktiv udtag - CO2 beregning'!C15<1," ",VLOOKUP('Aktiv udtag - CO2 beregning'!C15,'Afgrøder 2014'!$B$2:$H$260,7))*0.34*0.6*0.0025*44/28)*298/1000)*SUM('Aktiv udtag - CO2 beregning'!G15:I15)))),""))) | G13: =IF(ISBLANK('Aktiv udtag - CO2 beregning'!F15),"",IF('Aktiv udtag - CO2 beregning'!D15=FALSE," ", IF('Aktiv udtag - CO2 beregning'!J15="OK",IF('Aktiv udtag - CO2 beregning'!E15<>"Energiafgrøde","",(IF(beregninger!I13="Nej",0,IF(beregninger!I13="Ja",IF('Aktiv udtag - CO2 beregning'!E15="Energiafgrøde", Emissionsfaktorer!$H$11*'Aktiv udtag - CO2 beregning'!$G15+'Aktiv udtag - CO2 beregning'!$H15*Emissionsfaktorer!$H$25+'Aktiv udtag - CO2 beregning'!$I15*Emissionsfaktorer!$H$40))+((IF('Aktiv udtag - CO2 beregning'!C15<1," ",VLOOKUP('Aktiv udtag - CO2 beregning'!C15,'Afgrøder 2014'!$B$2:$H$260,7))*0.01*44/28)*298/1000+(IF('Aktiv udtag - CO2 beregning'!C15<1," ",VLOOKUP('Aktiv udtag - CO2 beregning'!C15,'Afgrøder 2014'!$B$2:$H$260,7))*0.34*0.0025*44/28)*298/1000+(IF('Aktiv udtag - CO2 beregning'!C15<1," ",VLOOKUP('Aktiv udtag - CO2 beregning'!C15,'Afgrøder 2014'!$B$2:$H$260,7))*0.34*0.6*0.0025*44/28)*298/1000)*SUM('Aktiv udtag - CO2 beregning'!G15:I15)))),""))) | I13: =IF(ISBLANK('Aktiv udtag - CO2 beregning'!C15)," ",IFERROR(IF(MATCH('Aktiv udtag - CO2 beregning'!C15,'Afgrøder 2014'!$B$2:$B$261,0),VLOOKUP('Aktiv udtag - CO2 beregning'!C15,'Afgrøder 2014'!$B$2:$H$261,4)),"Ukendt")) | J13: =IF((I13="ja"),0,'Aktiv udtag - CO2 beregning'!F15) -> 0
A14: =IF(ISBLANK('Aktiv udtag - CO2 beregning'!F16),"",IF('Aktiv udtag - CO2 beregning'!D16=FALSE," ", IF('Aktiv udtag - CO2 beregning'!J16="OK",IF('Aktiv udtag - CO2 beregning'!E16<>"Omdrift","",(IF(beregninger!I14="Nej",0,IF(beregninger!I14="Ja",IF('Aktiv udtag - CO2 beregning'!E16="Omdrift", 'Aktiv udtag - CO2 beregning'!G16*Emissionsfaktorer!$H$6+'Aktiv udtag - CO2 beregning'!$H16*Emissionsfaktorer!$H$20+'Aktiv udtag - CO2 beregning'!$I16*Emissionsfaktorer!$H$35))+((IF('Aktiv udtag - CO2 beregning'!C16<1," ",VLOOKUP('Aktiv udtag - CO2 beregning'!C16,'Afgrøder 2014'!$B$2:$H$260,7))*0.01*44/28)*298/1000+(IF('Aktiv udtag - CO2 beregning'!C16<1," ",VLOOKUP('Aktiv udtag - CO2 beregning'!C16,'Afgrøder 2014'!$B$2:$H$260,7))*0.34*0.0025*44/28)*298/1000+(IF('Aktiv udtag - CO2 beregning'!C16<1," ",VLOOKUP('Aktiv udtag - CO2 beregning'!C16,'Afgrøder 2014'!$B$2:$H$260,7))*0.34*0.6*0.0025*44/28)*298/1000)*SUM('Aktiv udtag - CO2 beregning'!G16:I16)))),""))) | B14: =IF(ISBLANK('Aktiv udtag - CO2 beregning'!F16),"",IF('Aktiv udtag - CO2 beregning'!D16=FALSE," ", IF('Aktiv udtag - CO2 beregning'!J16="OK",IF('Aktiv udtag - CO2 beregning'!E16<>"Permanent Græs","",(IF(beregninger!I14="Nej",0,IF(beregninger!I14="Ja",IF('Aktiv udtag - CO2 beregning'!E16="Permanent Græs", Emissionsfaktorer!$H$7*'Aktiv udtag - CO2 beregning'!$G16+'Aktiv udtag - CO2 beregning'!$H16*Emissionsfaktorer!$H$21+'Aktiv udtag - CO2 beregning'!$I16*Emissionsfaktorer!$H$36))+((IF('Aktiv udtag - CO2 beregning'!C16<1," ",VLOOKUP('Aktiv udtag - CO2 beregning'!C16,'Afgrøder 2014'!$B$2:$H$260,7))*0.01*44/28)*298/1000+(IF('Aktiv udtag - CO2 beregning'!C16<1," ",VLOOKUP('Aktiv udtag - CO2 beregning'!C16,'Afgrøder 2014'!$B$2:$H$260,7))*0.34*0.0025*44/28)*298/1000+(IF('Aktiv udtag - CO2 beregning'!C16<1," ",VLOOKUP('Aktiv udtag - CO2 beregning'!C16,'Afgrøder 2014'!$B$2:$H$260,7))*0.34*0.6*0.0025*44/28)*298/1000)*SUM('Aktiv udtag - CO2 beregning'!G16:I16)))),""))) | C14: =IF(ISBLANK('Aktiv udtag - CO2 beregning'!F16),"",IF('Aktiv udtag - CO2 beregning'!D16=FALSE," ", IF('Aktiv udtag - CO2 beregning'!J16="OK",IF('Aktiv udtag - CO2 beregning'!E16<>"Vådområde","",(IF(beregninger!I14="Nej",0,IF(beregninger!I14="Ja",IF('Aktiv udtag - CO2 beregning'!E16="Vådområde", Emissionsfaktorer!$H$9*'Aktiv udtag - CO2 beregning'!$G16+'Aktiv udtag - CO2 beregning'!$H16*Emissionsfaktorer!$H$23+'Aktiv udtag - CO2 beregning'!$I16*Emissionsfaktorer!$H$38))+((IF('Aktiv udtag - CO2 beregning'!C16<1," ",VLOOKUP('Aktiv udtag - CO2 beregning'!C16,'Afgrøder 2014'!$B$2:$H$260,7))*0.01*44/28)*298/1000+(IF('Aktiv udtag - CO2 beregning'!C16<1," ",VLOOKUP('Aktiv udtag - CO2 beregning'!C16,'Afgrøder 2014'!$B$2:$H$260,7))*0.34*0.0025*44/28)*298/1000+(IF('Aktiv udtag - CO2 beregning'!C16<1," ",VLOOKUP('Aktiv udtag - CO2 beregning'!C16,'Afgrøder 2014'!$B$2:$H$260,7))*0.34*0.6*0.0025*44/28)*298/1000)*SUM('Aktiv udtag - CO2 beregning'!G16:I16)))),""))) | D14: =IF(ISBLANK('Aktiv udtag - CO2 beregning'!F16),"",IF('Aktiv udtag - CO2 beregning'!D16=FALSE," ", IF('Aktiv udtag - CO2 beregning'!J16="OK",IF('Aktiv udtag - CO2 beregning'!E16<>"Skov","",(IF(beregninger!I14="Nej",0,IF(beregninger!I14="Ja",IF('Aktiv udtag - CO2 beregning'!E16="Skov", Emissionsfaktorer!$H$9*'Aktiv udtag - CO2 beregning'!$G16+'Aktiv udtag - CO2 beregning'!$H16*Emissionsfaktorer!$H$23+'Aktiv udtag - CO2 beregning'!$I16*Emissionsfaktorer!$H$38))+((IF('Aktiv udtag - CO2 beregning'!C16<1," ",VLOOKUP('Aktiv udtag - CO2 beregning'!C16,'Afgrøder 2014'!$B$2:$H$260,7))*0.01*44/28)*298/1000+(IF('Aktiv udtag - CO2 beregning'!C16<1," ",VLOOKUP('Aktiv udtag - CO2 beregning'!C16,'Afgrøder 2014'!$B$2:$H$260,7))*0.34*0.0025*44/28)*298/1000+(IF('Aktiv udtag - CO2 beregning'!C16<1," ",VLOOKUP('Aktiv udtag - CO2 beregning'!C16,'Afgrøder 2014'!$B$2:$H$260,7))*0.34*0.6*0.0025*44/28)*298/1000)*SUM('Aktiv udtag - CO2 beregning'!G16:I16)))),""))) | E14: =IF(ISBLANK('Aktiv udtag - CO2 beregning'!F16),"",IF('Aktiv udtag - CO2 beregning'!D16=FALSE," ", IF('Aktiv udtag - CO2 beregning'!J16="OK",IF('Aktiv udtag - CO2 beregning'!E16<>"Naturområde","",(IF(beregninger!I14="Nej",0,IF(beregninger!I14="Ja",IF('Aktiv udtag - CO2 beregning'!E16="Naturområde", Emissionsfaktorer!$H$8*'Aktiv udtag - CO2 beregning'!$G16+'Aktiv udtag - CO2 beregning'!$H16*Emissionsfaktorer!$H$22+'Aktiv udtag - CO2 beregning'!$I16*Emissionsfaktorer!$H$37))+((IF('Aktiv udtag - CO2 beregning'!C16<1," ",VLOOKUP('Aktiv udtag - CO2 beregning'!C16,'Afgrøder 2014'!$B$2:$H$260,7))*0.01*44/28)*298/1000+(IF('Aktiv udtag - CO2 beregning'!C16<1," ",VLOOKUP('Aktiv udtag - CO2 beregning'!C16,'Afgrøder 2014'!$B$2:$H$260,7))*0.34*0.0025*44/28)*298/1000+(IF('Aktiv udtag - CO2 beregning'!C16<1," ",VLOOKUP('Aktiv udtag - CO2 beregning'!C16,'Afgrøder 2014'!$B$2:$H$260,7))*0.34*0.6*0.0025*44/28)*298/1000)*SUM('Aktiv udtag - CO2 beregning'!G16:I16)))),""))) | F14: =IF(ISBLANK('Aktiv udtag - CO2 beregning'!F16),"",IF('Aktiv udtag - CO2 beregning'!D16=FALSE," ", IF('Aktiv udtag - CO2 beregning'!J16="OK",IF('Aktiv udtag - CO2 beregning'!E16<>"Buske og Frugttræer","",(IF(beregninger!I14="Nej",0,IF(beregninger!I14="Ja",IF('Aktiv udtag - CO2 beregning'!E16="Buske og Frugttræer", Emissionsfaktorer!$H$11*'Aktiv udtag - CO2 beregning'!$G16+'Aktiv udtag - CO2 beregning'!$H16*Emissionsfaktorer!$H$25+'Aktiv udtag - CO2 beregning'!$I16*Emissionsfaktorer!$H$40))+((IF('Aktiv udtag - CO2 beregning'!C16<1," ",VLOOKUP('Aktiv udtag - CO2 beregning'!C16,'Afgrøder 2014'!$B$2:$H$260,7))*0.01*44/28)*298/1000+(IF('Aktiv udtag - CO2 beregning'!C16<1," ",VLOOKUP('Aktiv udtag - CO2 beregning'!C16,'Afgrøder 2014'!$B$2:$H$260,7))*0.34*0.0025*44/28)*298/1000+(IF('Aktiv udtag - CO2 beregning'!C16<1," ",VLOOKUP('Aktiv udtag - CO2 beregning'!C16,'Afgrøder 2014'!$B$2:$H$260,7))*0.34*0.6*0.0025*44/28)*298/1000)*SUM('Aktiv udtag - CO2 beregning'!G16:I16)))),""))) | G14: =IF(ISBLANK('Aktiv udtag - CO2 beregning'!F16),"",IF('Aktiv udtag - CO2 beregning'!D16=FALSE," ", IF('Aktiv udtag - CO2 beregning'!J16="OK",IF('Aktiv udtag - CO2 beregning'!E16<>"Energiafgrøde","",(IF(beregninger!I14="Nej",0,IF(beregninger!I14="Ja",IF('Aktiv udtag - CO2 beregning'!E16="Energiafgrøde", Emissionsfaktorer!$H$11*'Aktiv udtag - CO2 beregning'!$G16+'Aktiv udtag - CO2 beregning'!$H16*Emissionsfaktorer!$H$25+'Aktiv udtag - CO2 beregning'!$I16*Emissionsfaktorer!$H$40))+((IF('Aktiv udtag - CO2 beregning'!C16<1," ",VLOOKUP('Aktiv udtag - CO2 beregning'!C16,'Afgrøder 2014'!$B$2:$H$260,7))*0.01*44/28)*298/1000+(IF('Aktiv udtag - CO2 beregning'!C16<1," ",VLOOKUP('Aktiv udtag - CO2 beregning'!C16,'Afgrøder 2014'!$B$2:$H$260,7))*0.34*0.0025*44/28)*298/1000+(IF('Aktiv udtag - CO2 beregning'!C16<1," ",VLOOKUP('Aktiv udtag - CO2 beregning'!C16,'Afgrøder 2014'!$B$2:$H$260,7))*0.34*0.6*0.0025*44/28)*298/1000)*SUM('Aktiv udtag - CO2 beregning'!G16:I16)))),""))) | I14: =IF(ISBLANK('Aktiv udtag - CO2 beregning'!C16)," ",IFERROR(IF(MATCH('Aktiv udtag - CO2 beregning'!C16,'Afgrøder 2014'!$B$2:$B$261,0),VLOOKUP('Aktiv udtag - CO2 beregning'!C16,'Afgrøder 2014'!$B$2:$H$261,4)),"Ukendt")) | J14: =IF((I14="ja"),0,'Aktiv udtag - CO2 beregning'!F16) -> 0
A15: =IF(ISBLANK('Aktiv udtag - CO2 beregning'!F17),"",IF('Aktiv udtag - CO2 beregning'!D17=FALSE," ", IF('Aktiv udtag - CO2 beregning'!J17="OK",IF('Aktiv udtag - CO2 beregning'!E17<>"Omdrift","",(IF(beregninger!I15="Nej",0,IF(beregninger!I15="Ja",IF('Aktiv udtag - CO2 beregning'!E17="Omdrift", 'Aktiv udtag - CO2 beregning'!G17*Emissionsfaktorer!$H$6+'Aktiv udtag - CO2 beregning'!$H17*Emissionsfaktorer!$H$20+'Aktiv udtag - CO2 beregning'!$I17*Emissionsfaktorer!$H$35))+((IF('Aktiv udtag - CO2 beregning'!C17<1," ",VLOOKUP('Aktiv udtag - CO2 beregning'!C17,'Afgrøder 2014'!$B$2:$H$260,7))*0.01*44/28)*298/1000+(IF('Aktiv udtag - CO2 beregning'!C17<1," ",VLOOKUP('Aktiv udtag - CO2 beregning'!C17,'Afgrøder 2014'!$B$2:$H$260,7))*0.34*0.0025*44/28)*298/1000+(IF('Aktiv udtag - CO2 beregning'!C17<1," ",VLOOKUP('Aktiv udtag - CO2 beregning'!C17,'Afgrøder 2014'!$B$2:$H$260,7))*0.34*0.6*0.0025*44/28)*298/1000)*SUM('Aktiv udtag - CO2 beregning'!G17:I17)))),""))) | B15: =IF(ISBLANK('Aktiv udtag - CO2 beregning'!F17),"",IF('Aktiv udtag - CO2 beregning'!D17=FALSE," ", IF('Aktiv udtag - CO2 beregning'!J17="OK",IF('Aktiv udtag - CO2 beregning'!E17<>"Permanent Græs","",(IF(beregninger!I15="Nej",0,IF(beregninger!I15="Ja",IF('Aktiv udtag - CO2 beregning'!E17="Permanent Græs", Emissionsfaktorer!$H$7*'Aktiv udtag - CO2 beregning'!$G17+'Aktiv udtag - CO2 beregning'!$H17*Emissionsfaktorer!$H$21+'Aktiv udtag - CO2 beregning'!$I17*Emissionsfaktorer!$H$36))+((IF('Aktiv udtag - CO2 beregning'!C17<1," ",VLOOKUP('Aktiv udtag - CO2 beregning'!C17,'Afgrøder 2014'!$B$2:$H$260,7))*0.01*44/28)*298/1000+(IF('Aktiv udtag - CO2 beregning'!C17<1," ",VLOOKUP('Aktiv udtag - CO2 beregning'!C17,'Afgrøder 2014'!$B$2:$H$260,7))*0.34*0.0025*44/28)*298/1000+(IF('Aktiv udtag - CO2 beregning'!C17<1," ",VLOOKUP('Aktiv udtag - CO2 beregning'!C17,'Afgrøder 2014'!$B$2:$H$260,7))*0.34*0.6*0.0025*44/28)*298/1000)*SUM('Aktiv udtag - CO2 beregning'!G17:I17)))),""))) | C15: =IF(ISBLANK('Aktiv udtag - CO2 beregning'!F17),"",IF('Aktiv udtag - CO2 beregning'!D17=FALSE," ", IF('Aktiv udtag - CO2 beregning'!J17="OK",IF('Aktiv udtag - CO2 beregning'!E17<>"Vådområde","",(IF(beregninger!I15="Nej",0,IF(beregninger!I15="Ja",IF('Aktiv udtag - CO2 beregning'!E17="Vådområde", Emissionsfaktorer!$H$9*'Aktiv udtag - CO2 beregning'!$G17+'Aktiv udtag - CO2 beregning'!$H17*Emissionsfaktorer!$H$23+'Aktiv udtag - CO2 beregning'!$I17*Emissionsfaktorer!$H$38))+((IF('Aktiv udtag - CO2 beregning'!C17<1," ",VLOOKUP('Aktiv udtag - CO2 beregning'!C17,'Afgrøder 2014'!$B$2:$H$260,7))*0.01*44/28)*298/1000+(IF('Aktiv udtag - CO2 beregning'!C17<1," ",VLOOKUP('Aktiv udtag - CO2 beregning'!C17,'Afgrøder 2014'!$B$2:$H$260,7))*0.34*0.0025*44/28)*298/1000+(IF('Aktiv udtag - CO2 beregning'!C17<1," ",VLOOKUP('Aktiv udtag - CO2 beregning'!C17,'Afgrøder 2014'!$B$2:$H$260,7))*0.34*0.6*0.0025*44/28)*298/1000)*SUM('Aktiv udtag - CO2 beregning'!G17:I17)))),""))) | D15: =IF(ISBLANK('Aktiv udtag - CO2 beregning'!F17),"",IF('Aktiv udtag - CO2 beregning'!D17=FALSE," ", IF('Aktiv udtag - CO2 beregning'!J17="OK",IF('Aktiv udtag - CO2 beregning'!E17<>"Skov","",(IF(beregninger!I15="Nej",0,IF(beregninger!I15="Ja",IF('Aktiv udtag - CO2 beregning'!E17="Skov", Emissionsfaktorer!$H$9*'Aktiv udtag - CO2 beregning'!$G17+'Aktiv udtag - CO2 beregning'!$H17*Emissionsfaktorer!$H$23+'Aktiv udtag - CO2 beregning'!$I17*Emissionsfaktorer!$H$38))+((IF('Aktiv udtag - CO2 beregning'!C17<1," ",VLOOKUP('Aktiv udtag - CO2 beregning'!C17,'Afgrøder 2014'!$B$2:$H$260,7))*0.01*44/28)*298/1000+(IF('Aktiv udtag - CO2 beregning'!C17<1," ",VLOOKUP('Aktiv udtag - CO2 beregning'!C17,'Afgrøder 2014'!$B$2:$H$260,7))*0.34*0.0025*44/28)*298/1000+(IF('Aktiv udtag - CO2 beregning'!C17<1," ",VLOOKUP('Aktiv udtag - CO2 beregning'!C17,'Afgrøder 2014'!$B$2:$H$260,7))*0.34*0.6*0.0025*44/28)*298/1000)*SUM('Aktiv udtag - CO2 beregning'!G17:I17)))),""))) | E15: =IF(ISBLANK('Aktiv udtag - CO2 beregning'!F17),"",IF('Aktiv udtag - CO2 beregning'!D17=FALSE," ", IF('Aktiv udtag - CO2 beregning'!J17="OK",IF('Aktiv udtag - CO2 beregning'!E17<>"Naturområde","",(IF(beregninger!I15="Nej",0,IF(beregninger!I15="Ja",IF('Aktiv udtag - CO2 beregning'!E17="Naturområde", Emissionsfaktorer!$H$8*'Aktiv udtag - CO2 beregning'!$G17+'Aktiv udtag - CO2 beregning'!$H17*Emissionsfaktorer!$H$22+'Aktiv udtag - CO2 beregning'!$I17*Emissionsfaktorer!$H$37))+((IF('Aktiv udtag - CO2 beregning'!C17<1," ",VLOOKUP('Aktiv udtag - CO2 beregning'!C17,'Afgrøder 2014'!$B$2:$H$260,7))*0.01*44/28)*298/1000+(IF('Aktiv udtag - CO2 beregning'!C17<1," ",VLOOKUP('Aktiv udtag - CO2 beregning'!C17,'Afgrøder 2014'!$B$2:$H$260,7))*0.34*0.0025*44/28)*298/1000+(IF('Aktiv udtag - CO2 beregning'!C17<1," ",VLOOKUP('Aktiv udtag - CO2 beregning'!C17,'Afgrøder 2014'!$B$2:$H$260,7))*0.34*0.6*0.0025*44/28)*298/1000)*SUM('Aktiv udtag - CO2 beregning'!G17:I17)))),""))) | F15: =IF(ISBLANK('Aktiv udtag - CO2 beregning'!F17),"",IF('Aktiv udtag - CO2 beregning'!D17=FALSE," ", IF('Aktiv udtag - CO2 beregning'!J17="OK",IF('Aktiv udtag - CO2 beregning'!E17<>"Buske og Frugttræer","",(IF(beregninger!I15="Nej",0,IF(beregninger!I15="Ja",IF('Aktiv udtag - CO2 beregning'!E17="Buske og Frugttræer", Emissionsfaktorer!$H$11*'Aktiv udtag - CO2 beregning'!$G17+'Aktiv udtag - CO2 beregning'!$H17*Emissionsfaktorer!$H$25+'Aktiv udtag - CO2 beregning'!$I17*Emissionsfaktorer!$H$40))+((IF('Aktiv udtag - CO2 beregning'!C17<1," ",VLOOKUP('Aktiv udtag - CO2 beregning'!C17,'Afgrøder 2014'!$B$2:$H$260,7))*0.01*44/28)*298/1000+(IF('Aktiv udtag - CO2 beregning'!C17<1," ",VLOOKUP('Aktiv udtag - CO2 beregning'!C17,'Afgrøder 2014'!$B$2:$H$260,7))*0.34*0.0025*44/28)*298/1000+(IF('Aktiv udtag - CO2 beregning'!C17<1," ",VLOOKUP('Aktiv udtag - CO2 beregning'!C17,'Afgrøder 2014'!$B$2:$H$260,7))*0.34*0.6*0.0025*44/28)*298/1000)*SUM('Aktiv udtag - CO2 beregning'!G17:I17)))),""))) | G15: =IF(ISBLANK('Aktiv udtag - CO2 beregning'!F17),"",IF('Aktiv udtag - CO2 beregning'!D17=FALSE," ", IF('Aktiv udtag - CO2 beregning'!J17="OK",IF('Aktiv udtag - CO2 beregning'!E17<>"Energiafgrøde","",(IF(beregninger!I15="Nej",0,IF(beregninger!I15="Ja",IF('Aktiv udtag - CO2 beregning'!E17="Energiafgrøde", Emissionsfaktorer!$H$11*'Aktiv udtag - CO2 beregning'!$G17+'Aktiv udtag - CO2 beregning'!$H17*Emissionsfaktorer!$H$25+'Aktiv udtag - CO2 beregning'!$I17*Emissionsfaktorer!$H$40))+((IF('Aktiv udtag - CO2 beregning'!C17<1," ",VLOOKUP('Aktiv udtag - CO2 beregning'!C17,'Afgrøder 2014'!$B$2:$H$260,7))*0.01*44/28)*298/1000+(IF('Aktiv udtag - CO2 beregning'!C17<1," ",VLOOKUP('Aktiv udtag - CO2 beregning'!C17,'Afgrøder 2014'!$B$2:$H$260,7))*0.34*0.0025*44/28)*298/1000+(IF('Aktiv udtag - CO2 beregning'!C17<1," ",VLOOKUP('Aktiv udtag - CO2 beregning'!C17,'Afgrøder 2014'!$B$2:$H$260,7))*0.34*0.6*0.0025*44/28)*298/1000)*SUM('Aktiv udtag - CO2 beregning'!G17:I17)))),""))) | I15: =IF(ISBLANK('Aktiv udtag - CO2 beregning'!C17)," ",IFERROR(IF(MATCH('Aktiv udtag - CO2 beregning'!C17,'Afgrøder 2014'!$B$2:$B$261,0),VLOOKUP('Aktiv udtag - CO2 beregning'!C17,'Afgrøder 2014'!$B$2:$H$261,4)),"Ukendt")) | J15: =IF((I15="ja"),0,'Aktiv udtag - CO2 beregning'!F17) -> 0
A16: =IF(ISBLANK('Aktiv udtag - CO2 beregning'!F18),"",IF('Aktiv udtag - CO2 beregning'!D18=FALSE," ", IF('Aktiv udtag - CO2 beregning'!J18="OK",IF('Aktiv udtag - CO2 beregning'!E18<>"Omdrift","",(IF(beregninger!I16="Nej",0,IF(beregninger!I16="Ja",IF('Aktiv udtag - CO2 beregning'!E18="Omdrift", 'Aktiv udtag - CO2 beregning'!G18*Emissionsfaktorer!$H$6+'Aktiv udtag - CO2 beregning'!$H18*Emissionsfaktorer!$H$20+'Aktiv udtag - CO2 beregning'!$I18*Emissionsfaktorer!$H$35))+((IF('Aktiv udtag - CO2 beregning'!C18<1," ",VLOOKUP('Aktiv udtag - CO2 beregning'!C18,'Afgrøder 2014'!$B$2:$H$260,7))*0.01*44/28)*298/1000+(IF('Aktiv udtag - CO2 beregning'!C18<1," ",VLOOKUP('Aktiv udtag - CO2 beregning'!C18,'Afgrøder 2014'!$B$2:$H$260,7))*0.34*0.0025*44/28)*298/1000+(IF('Aktiv udtag - CO2 beregning'!C18<1," ",VLOOKUP('Aktiv udtag - CO2 beregning'!C18,'Afgrøder 2014'!$B$2:$H$260,7))*0.34*0.6*0.0025*44/28)*298/1000)*SUM('Aktiv udtag - CO2 beregning'!G18:I18)))),""))) | B16: =IF(ISBLANK('Aktiv udtag - CO2 beregning'!F18),"",IF('Aktiv udtag - CO2 beregning'!D18=FALSE," ", IF('Aktiv udtag - CO2 beregning'!J18="OK",IF('Aktiv udtag - CO2 beregning'!E18<>"Permanent Græs","",(IF(beregninger!I16="Nej",0,IF(beregninger!I16="Ja",IF('Aktiv udtag - CO2 beregning'!E18="Permanent Græs", Emissionsfaktorer!$H$7*'Aktiv udtag - CO2 beregning'!$G18+'Aktiv udtag - CO2 beregning'!$H18*Emissionsfaktorer!$H$21+'Aktiv udtag - CO2 beregning'!$I18*Emissionsfaktorer!$H$36))+((IF('Aktiv udtag - CO2 beregning'!C18<1," ",VLOOKUP('Aktiv udtag - CO2 beregning'!C18,'Afgrøder 2014'!$B$2:$H$260,7))*0.01*44/28)*298/1000+(IF('Aktiv udtag - CO2 beregning'!C18<1," ",VLOOKUP('Aktiv udtag - CO2 beregning'!C18,'Afgrøder 2014'!$B$2:$H$260,7))*0.34*0.0025*44/28)*298/1000+(IF('Aktiv udtag - CO2 beregning'!C18<1," ",VLOOKUP('Aktiv udtag - CO2 beregning'!C18,'Afgrøder 2014'!$B$2:$H$260,7))*0.34*0.6*0.0025*44/28)*298/1000)*SUM('Aktiv udtag - CO2 beregning'!G18:I18)))),""))) | C16: =IF(ISBLANK('Aktiv udtag - CO2 beregning'!F18),"",IF('Aktiv udtag - CO2 beregning'!D18=FALSE," ", IF('Aktiv udtag - CO2 beregning'!J18="OK",IF('Aktiv udtag - CO2 beregning'!E18<>"Vådområde","",(IF(beregninger!I16="Nej",0,IF(beregninger!I16="Ja",IF('Aktiv udtag - CO2 beregning'!E18="Vådområde", Emissionsfaktorer!$H$9*'Aktiv udtag - CO2 beregning'!$G18+'Aktiv udtag - CO2 beregning'!$H18*Emissionsfaktorer!$H$23+'Aktiv udtag - CO2 beregning'!$I18*Emissionsfaktorer!$H$38))+((IF('Aktiv udtag - CO2 beregning'!C18<1," ",VLOOKUP('Aktiv udtag - CO2 beregning'!C18,'Afgrøder 2014'!$B$2:$H$260,7))*0.01*44/28)*298/1000+(IF('Aktiv udtag - CO2 beregning'!C18<1," ",VLOOKUP('Aktiv udtag - CO2 beregning'!C18,'Afgrøder 2014'!$B$2:$H$260,7))*0.34*0.0025*44/28)*298/1000+(IF('Aktiv udtag - CO2 beregning'!C18<1," ",VLOOKUP('Aktiv udtag - CO2 beregning'!C18,'Afgrøder 2014'!$B$2:$H$260,7))*0.34*0.6*0.0025*44/28)*298/1000)*SUM('Aktiv udtag - CO2 beregning'!G18:I18)))),""))) | D16: =IF(ISBLANK('Aktiv udtag - CO2 beregning'!F18),"",IF('Aktiv udtag - CO2 beregning'!D18=FALSE," ", IF('Aktiv udtag - CO2 beregning'!J18="OK",IF('Aktiv udtag - CO2 beregning'!E18<>"Skov","",(IF(beregninger!I16="Nej",0,IF(beregninger!I16="Ja",IF('Aktiv udtag - CO2 beregning'!E18="Skov", Emissionsfaktorer!$H$9*'Aktiv udtag - CO2 beregning'!$G18+'Aktiv udtag - CO2 beregning'!$H18*Emissionsfaktorer!$H$23+'Aktiv udtag - CO2 beregning'!$I18*Emissionsfaktorer!$H$38))+((IF('Aktiv udtag - CO2 beregning'!C18<1," ",VLOOKUP('Aktiv udtag - CO2 beregning'!C18,'Afgrøder 2014'!$B$2:$H$260,7))*0.01*44/28)*298/1000+(IF('Aktiv udtag - CO2 beregning'!C18<1," ",VLOOKUP('Aktiv udtag - CO2 beregning'!C18,'Afgrøder 2014'!$B$2:$H$260,7))*0.34*0.0025*44/28)*298/1000+(IF('Aktiv udtag - CO2 beregning'!C18<1," ",VLOOKUP('Aktiv udtag - CO2 beregning'!C18,'Afgrøder 2014'!$B$2:$H$260,7))*0.34*0.6*0.0025*44/28)*298/1000)*SUM('Aktiv udtag - CO2 beregning'!G18:I18)))),""))) | E16: =IF(ISBLANK('Aktiv udtag - CO2 beregning'!F18),"",IF('Aktiv udtag - CO2 beregning'!D18=FALSE," ", IF('Aktiv udtag - CO2 beregning'!J18="OK",IF('Aktiv udtag - CO2 beregning'!E18<>"Naturområde","",(IF(beregninger!I16="Nej",0,IF(beregninger!I16="Ja",IF('Aktiv udtag - CO2 beregning'!E18="Naturområde", Emissionsfaktorer!$H$8*'Aktiv udtag - CO2 beregning'!$G18+'Aktiv udtag - CO2 beregning'!$H18*Emissionsfaktorer!$H$22+'Aktiv udtag - CO2 beregning'!$I18*Emissionsfaktorer!$H$37))+((IF('Aktiv udtag - CO2 beregning'!C18<1," ",VLOOKUP('Aktiv udtag - CO2 beregning'!C18,'Afgrøder 2014'!$B$2:$H$260,7))*0.01*44/28)*298/1000+(IF('Aktiv udtag - CO2 beregning'!C18<1," ",VLOOKUP('Aktiv udtag - CO2 beregning'!C18,'Afgrøder 2014'!$B$2:$H$260,7))*0.34*0.0025*44/28)*298/1000+(IF('Aktiv udtag - CO2 beregning'!C18<1," ",VLOOKUP('Aktiv udtag - CO2 beregning'!C18,'Afgrøder 2014'!$B$2:$H$260,7))*0.34*0.6*0.0025*44/28)*298/1000)*SUM('Aktiv udtag - CO2 beregning'!G18:I18)))),""))) | F16: =IF(ISBLANK('Aktiv udtag - CO2 beregning'!F18),"",IF('Aktiv udtag - CO2 beregning'!D18=FALSE," ", IF('Aktiv udtag - CO2 beregning'!J18="OK",IF('Aktiv udtag - CO2 beregning'!E18<>"Buske og Frugttræer","",(IF(beregninger!I16="Nej",0,IF(beregninger!I16="Ja",IF('Aktiv udtag - CO2 beregning'!E18="Buske og Frugttræer", Emissionsfaktorer!$H$11*'Aktiv udtag - CO2 beregning'!$G18+'Aktiv udtag - CO2 beregning'!$H18*Emissionsfaktorer!$H$25+'Aktiv udtag - CO2 beregning'!$I18*Emissionsfaktorer!$H$40))+((IF('Aktiv udtag - CO2 beregning'!C18<1," ",VLOOKUP('Aktiv udtag - CO2 beregning'!C18,'Afgrøder 2014'!$B$2:$H$260,7))*0.01*44/28)*298/1000+(IF('Aktiv udtag - CO2 beregning'!C18<1," ",VLOOKUP('Aktiv udtag - CO2 beregning'!C18,'Afgrøder 2014'!$B$2:$H$260,7))*0.34*0.0025*44/28)*298/1000+(IF('Aktiv udtag - CO2 beregning'!C18<1," ",VLOOKUP('Aktiv udtag - CO2 beregning'!C18,'Afgrøder 2014'!$B$2:$H$260,7))*0.34*0.6*0.0025*44/28)*298/1000)*SUM('Aktiv udtag - CO2 beregning'!G18:I18)))),""))) | G16: =IF(ISBLANK('Aktiv udtag - CO2 beregning'!F18),"",IF('Aktiv udtag - CO2 beregning'!D18=FALSE," ", IF('Aktiv udtag - CO2 beregning'!J18="OK",IF('Aktiv udtag - CO2 beregning'!E18<>"Energiafgrøde","",(IF(beregninger!I16="Nej",0,IF(beregninger!I16="Ja",IF('Aktiv udtag - CO2 beregning'!E18="Energiafgrøde", Emissionsfaktorer!$H$11*'Aktiv udtag - CO2 beregning'!$G18+'Aktiv udtag - CO2 beregning'!$H18*Emissionsfaktorer!$H$25+'Aktiv udtag - CO2 beregning'!$I18*Emissionsfaktorer!$H$40))+((IF('Aktiv udtag - CO2 beregning'!C18<1," ",VLOOKUP('Aktiv udtag - CO2 beregning'!C18,'Afgrøder 2014'!$B$2:$H$260,7))*0.01*44/28)*298/1000+(IF('Aktiv udtag - CO2 beregning'!C18<1," ",VLOOKUP('Aktiv udtag - CO2 beregning'!C18,'Afgrøder 2014'!$B$2:$H$260,7))*0.34*0.0025*44/28)*298/1000+(IF('Aktiv udtag - CO2 beregning'!C18<1," ",VLOOKUP('Aktiv udtag - CO2 beregning'!C18,'Afgrøder 2014'!$B$2:$H$260,7))*0.34*0.6*0.0025*44/28)*298/1000)*SUM('Aktiv udtag - CO2 beregning'!G18:I18)))),""))) | I16: =IF(ISBLANK('Aktiv udtag - CO2 beregning'!C18)," ",IFERROR(IF(MATCH('Aktiv udtag - CO2 beregning'!C18,'Afgrøder 2014'!$B$2:$B$261,0),VLOOKUP('Aktiv udtag - CO2 beregning'!C18,'Afgrøder 2014'!$B$2:$H$261,4)),"Ukendt")) | J16: =IF((I16="ja"),0,'Aktiv udtag - CO2 beregning'!F18) -> 0
A17: =IF(ISBLANK('Aktiv udtag - CO2 beregning'!F19),"",IF('Aktiv udtag - CO2 beregning'!D19=FALSE," ", IF('Aktiv udtag - CO2 beregning'!J19="OK",IF('Aktiv udtag - CO2 beregning'!E19<>"Omdrift","",(IF(beregninger!I17="Nej",0,IF(beregninger!I17="Ja",IF('Aktiv udtag - CO2 beregning'!E19="Omdrift", 'Aktiv udtag - CO2 beregning'!G19*Emissionsfaktorer!$H$6+'Aktiv udtag - CO2 beregning'!$H19*Emissionsfaktorer!$H$20+'Aktiv udtag - CO2 beregning'!$I19*Emissionsfaktorer!$H$35))+((IF('Aktiv udtag - CO2 beregning'!C19<1," ",VLOOKUP('Aktiv udtag - CO2 beregning'!C19,'Afgrøder 2014'!$B$2:$H$260,7))*0.01*44/28)*298/1000+(IF('Aktiv udtag - CO2 beregning'!C19<1," ",VLOOKUP('Aktiv udtag - CO2 beregning'!C19,'Afgrøder 2014'!$B$2:$H$260,7))*0.34*0.0025*44/28)*298/1000+(IF('Aktiv udtag - CO2 beregning'!C19<1," ",VLOOKUP('Aktiv udtag - CO2 beregning'!C19,'Afgrøder 2014'!$B$2:$H$260,7))*0.34*0.6*0.0025*44/28)*298/1000)*SUM('Aktiv udtag - CO2 beregning'!G19:I19)))),""))) | B17: =IF(ISBLANK('Aktiv udtag - CO2 beregning'!F19),"",IF('Aktiv udtag - CO2 beregning'!D19=FALSE," ", IF('Aktiv udtag - CO2 beregning'!J19="OK",IF('Aktiv udtag - CO2 beregning'!E19<>"Permanent Græs","",(IF(beregninger!I17="Nej",0,IF(beregninger!I17="Ja",IF('Aktiv udtag - CO2 beregning'!E19="Permanent Græs", Emissionsfaktorer!$H$7*'Aktiv udtag - CO2 beregning'!$G19+'Aktiv udtag - CO2 beregning'!$H19*Emissionsfaktorer!$H$21+'Aktiv udtag - CO2 beregning'!$I19*Emissionsfaktorer!$H$36))+((IF('Aktiv udtag - CO2 beregning'!C19<1," ",VLOOKUP('Aktiv udtag - CO2 beregning'!C19,'Afgrøder 2014'!$B$2:$H$260,7))*0.01*44/28)*298/1000+(IF('Aktiv udtag - CO2 beregning'!C19<1," ",VLOOKUP('Aktiv udtag - CO2 beregning'!C19,'Afgrøder 2014'!$B$2:$H$260,7))*0.34*0.0025*44/28)*298/1000+(IF('Aktiv udtag - CO2 beregning'!C19<1," ",VLOOKUP('Aktiv udtag - CO2 beregning'!C19,'Afgrøder 2014'!$B$2:$H$260,7))*0.34*0.6*0.0025*44/28)*298/1000)*SUM('Aktiv udtag - CO2 beregning'!G19:I19)))),""))) | C17: =IF(ISBLANK('Aktiv udtag - CO2 beregning'!F19),"",IF('Aktiv udtag - CO2 beregning'!D19=FALSE," ", IF('Aktiv udtag - CO2 beregning'!J19="OK",IF('Aktiv udtag - CO2 beregning'!E19<>"Vådområde","",(IF(beregninger!I17="Nej",0,IF(beregninger!I17="Ja",IF('Aktiv udtag - CO2 beregning'!E19="Vådområde", Emissionsfaktorer!$H$9*'Aktiv udtag - CO2 beregning'!$G19+'Aktiv udtag - CO2 beregning'!$H19*Emissionsfaktorer!$H$23+'Aktiv udtag - CO2 beregning'!$I19*Emissionsfaktorer!$H$38))+((IF('Aktiv udtag - CO2 beregning'!C19<1," ",VLOOKUP('Aktiv udtag - CO2 beregning'!C19,'Afgrøder 2014'!$B$2:$H$260,7))*0.01*44/28)*298/1000+(IF('Aktiv udtag - CO2 beregning'!C19<1," ",VLOOKUP('Aktiv udtag - CO2 beregning'!C19,'Afgrøder 2014'!$B$2:$H$260,7))*0.34*0.0025*44/28)*298/1000+(IF('Aktiv udtag - CO2 beregning'!C19<1," ",VLOOKUP('Aktiv udtag - CO2 beregning'!C19,'Afgrøder 2014'!$B$2:$H$260,7))*0.34*0.6*0.0025*44/28)*298/1000)*SUM('Aktiv udtag - CO2 beregning'!G19:I19)))),""))) | D17: =IF(ISBLANK('Aktiv udtag - CO2 beregning'!F19),"",IF('Aktiv udtag - CO2 beregning'!D19=FALSE," ", IF('Aktiv udtag - CO2 beregning'!J19="OK",IF('Aktiv udtag - CO2 beregning'!E19<>"Skov","",(IF(beregninger!I17="Nej",0,IF(beregninger!I17="Ja",IF('Aktiv udtag - CO2 beregning'!E19="Skov", Emissionsfaktorer!$H$9*'Aktiv udtag - CO2 beregning'!$G19+'Aktiv udtag - CO2 beregning'!$H19*Emissionsfaktorer!$H$23+'Aktiv udtag - CO2 beregning'!$I19*Emissionsfaktorer!$H$38))+((IF('Aktiv udtag - CO2 beregning'!C19<1," ",VLOOKUP('Aktiv udtag - CO2 beregning'!C19,'Afgrøder 2014'!$B$2:$H$260,7))*0.01*44/28)*298/1000+(IF('Aktiv udtag - CO2 beregning'!C19<1," ",VLOOKUP('Aktiv udtag - CO2 beregning'!C19,'Afgrøder 2014'!$B$2:$H$260,7))*0.34*0.0025*44/28)*298/1000+(IF('Aktiv udtag - CO2 beregning'!C19<1," ",VLOOKUP('Aktiv udtag - CO2 beregning'!C19,'Afgrøder 2014'!$B$2:$H$260,7))*0.34*0.6*0.0025*44/28)*298/1000)*SUM('Aktiv udtag - CO2 beregning'!G19:I19)))),""))) | E17: =IF(ISBLANK('Aktiv udtag - CO2 beregning'!F19),"",IF('Aktiv udtag - CO2 beregning'!D19=FALSE," ", IF('Aktiv udtag - CO2 beregning'!J19="OK",IF('Aktiv udtag - CO2 beregning'!E19<>"Naturområde","",(IF(beregninger!I17="Nej",0,IF(beregninger!I17="Ja",IF('Aktiv udtag - CO2 beregning'!E19="Naturområde", Emissionsfaktorer!$H$8*'Aktiv udtag - CO2 beregning'!$G19+'Aktiv udtag - CO2 beregning'!$H19*Emissionsfaktorer!$H$22+'Aktiv udtag - CO2 beregning'!$I19*Emissionsfaktorer!$H$37))+((IF('Aktiv udtag - CO2 beregning'!C19<1," ",VLOOKUP('Aktiv udtag - CO2 beregning'!C19,'Afgrøder 2014'!$B$2:$H$260,7))*0.01*44/28)*298/1000+(IF('Aktiv udtag - CO2 beregning'!C19<1," ",VLOOKUP('Aktiv udtag - CO2 beregning'!C19,'Afgrøder 2014'!$B$2:$H$260,7))*0.34*0.0025*44/28)*298/1000+(IF('Aktiv udtag - CO2 beregning'!C19<1," ",VLOOKUP('Aktiv udtag - CO2 beregning'!C19,'Afgrøder 2014'!$B$2:$H$260,7))*0.34*0.6*0.0025*44/28)*298/1000)*SUM('Aktiv udtag - CO2 beregning'!G19:I19)))),""))) | F17: =IF(ISBLANK('Aktiv udtag - CO2 beregning'!F19),"",IF('Aktiv udtag - CO2 beregning'!D19=FALSE," ", IF('Aktiv udtag - CO2 beregning'!J19="OK",IF('Aktiv udtag - CO2 beregning'!E19<>"Buske og Frugttræer","",(IF(beregninger!I17="Nej",0,IF(beregninger!I17="Ja",IF('Aktiv udtag - CO2 beregning'!E19="Buske og Frugttræer", Emissionsfaktorer!$H$11*'Aktiv udtag - CO2 beregning'!$G19+'Aktiv udtag - CO2 beregning'!$H19*Emissionsfaktorer!$H$25+'Aktiv udtag - CO2 beregning'!$I19*Emissionsfaktorer!$H$40))+((IF('Aktiv udtag - CO2 beregning'!C19<1," ",VLOOKUP('Aktiv udtag - CO2 beregning'!C19,'Afgrøder 2014'!$B$2:$H$260,7))*0.01*44/28)*298/1000+(IF('Aktiv udtag - CO2 beregning'!C19<1," ",VLOOKUP('Aktiv udtag - CO2 beregning'!C19,'Afgrøder 2014'!$B$2:$H$260,7))*0.34*0.0025*44/28)*298/1000+(IF('Aktiv udtag - CO2 beregning'!C19<1," ",VLOOKUP('Aktiv udtag - CO2 beregning'!C19,'Afgrøder 2014'!$B$2:$H$260,7))*0.34*0.6*0.0025*44/28)*298/1000)*SUM('Aktiv udtag - CO2 beregning'!G19:I19)))),""))) | G17: =IF(ISBLANK('Aktiv udtag - CO2 beregning'!F19),"",IF('Aktiv udtag - CO2 beregning'!D19=FALSE," ", IF('Aktiv udtag - CO2 beregning'!J19="OK",IF('Aktiv udtag - CO2 beregning'!E19<>"Energiafgrøde","",(IF(beregninger!I17="Nej",0,IF(beregninger!I17="Ja",IF('Aktiv udtag - CO2 beregning'!E19="Energiafgrøde", Emissionsfaktorer!$H$11*'Aktiv udtag - CO2 beregning'!$G19+'Aktiv udtag - CO2 beregning'!$H19*Emissionsfaktorer!$H$25+'Aktiv udtag - CO2 beregning'!$I19*Emissionsfaktorer!$H$40))+((IF('Aktiv udtag - CO2 beregning'!C19<1," ",VLOOKUP('Aktiv udtag - CO2 beregning'!C19,'Afgrøder 2014'!$B$2:$H$260,7))*0.01*44/28)*298/1000+(IF('Aktiv udtag - CO2 beregning'!C19<1," ",VLOOKUP('Aktiv udtag - CO2 beregning'!C19,'Afgrøder 2014'!$B$2:$H$260,7))*0.34*0.0025*44/28)*298/1000+(IF('Aktiv udtag - CO2 beregning'!C19<1," ",VLOOKUP('Aktiv udtag - CO2 beregning'!C19,'Afgrøder 2014'!$B$2:$H$260,7))*0.34*0.6*0.0025*44/28)*298/1000)*SUM('Aktiv udtag - CO2 beregning'!G19:I19)))),""))) | I17: =IF(ISBLANK('Aktiv udtag - CO2 beregning'!C19)," ",IFERROR(IF(MATCH('Aktiv udtag - CO2 beregning'!C19,'Afgrøder 2014'!$B$2:$B$261,0),VLOOKUP('Aktiv udtag - CO2 beregning'!C19,'Afgrøder 2014'!$B$2:$H$261,4)),"Ukendt")) | J17: =IF((I17="ja"),0,'Aktiv udtag - CO2 beregning'!F19) -> 0
A18: =IF(ISBLANK('Aktiv udtag - CO2 beregning'!F20),"",IF('Aktiv udtag - CO2 beregning'!D20=FALSE," ", IF('Aktiv udtag - CO2 beregning'!J20="OK",IF('Aktiv udtag - CO2 beregning'!E20<>"Omdrift","",(IF(beregninger!I18="Nej",0,IF(beregninger!I18="Ja",IF('Aktiv udtag - CO2 beregning'!E20="Omdrift", 'Aktiv udtag - CO2 beregning'!G20*Emissionsfaktorer!$H$6+'Aktiv udtag - CO2 beregning'!$H20*Emissionsfaktorer!$H$20+'Aktiv udtag - CO2 beregning'!$I20*Emissionsfaktorer!$H$35))+((IF('Aktiv udtag - CO2 beregning'!C20<1," ",VLOOKUP('Aktiv udtag - CO2 beregning'!C20,'Afgrøder 2014'!$B$2:$H$260,7))*0.01*44/28)*298/1000+(IF('Aktiv udtag - CO2 beregning'!C20<1," ",VLOOKUP('Aktiv udtag - CO2 beregning'!C20,'Afgrøder 2014'!$B$2:$H$260,7))*0.34*0.0025*44/28)*298/1000+(IF('Aktiv udtag - CO2 beregning'!C20<1," ",VLOOKUP('Aktiv udtag - CO2 beregning'!C20,'Afgrøder 2014'!$B$2:$H$260,7))*0.34*0.6*0.0025*44/28)*298/1000)*SUM('Aktiv udtag - CO2 beregning'!G20:I20)))),""))) | B18: =IF(ISBLANK('Aktiv udtag - CO2 beregning'!F20),"",IF('Aktiv udtag - CO2 beregning'!D20=FALSE," ", IF('Aktiv udtag - CO2 beregning'!J20="OK",IF('Aktiv udtag - CO2 beregning'!E20<>"Permanent Græs","",(IF(beregninger!I18="Nej",0,IF(beregninger!I18="Ja",IF('Aktiv udtag - CO2 beregning'!E20="Permanent Græs", Emissionsfaktorer!$H$7*'Aktiv udtag - CO2 beregning'!$G20+'Aktiv udtag - CO2 beregning'!$H20*Emissionsfaktorer!$H$21+'Aktiv udtag - CO2 beregning'!$I20*Emissionsfaktorer!$H$36))+((IF('Aktiv udtag - CO2 beregning'!C20<1," ",VLOOKUP('Aktiv udtag - CO2 beregning'!C20,'Afgrøder 2014'!$B$2:$H$260,7))*0.01*44/28)*298/1000+(IF('Aktiv udtag - CO2 beregning'!C20<1," ",VLOOKUP('Aktiv udtag - CO2 beregning'!C20,'Afgrøder 2014'!$B$2:$H$260,7))*0.34*0.0025*44/28)*298/1000+(IF('Aktiv udtag - CO2 beregning'!C20<1," ",VLOOKUP('Aktiv udtag - CO2 beregning'!C20,'Afgrøder 2014'!$B$2:$H$260,7))*0.34*0.6*0.0025*44/28)*298/1000)*SUM('Aktiv udtag - CO2 beregning'!G20:I20)))),""))) | C18: =IF(ISBLANK('Aktiv udtag - CO2 beregning'!F20),"",IF('Aktiv udtag - CO2 beregning'!D20=FALSE," ", IF('Aktiv udtag - CO2 beregning'!J20="OK",IF('Aktiv udtag - CO2 beregning'!E20<>"Vådområde","",(IF(beregninger!I18="Nej",0,IF(beregninger!I18="Ja",IF('Aktiv udtag - CO2 beregning'!E20="Vådområde", Emissionsfaktorer!$H$9*'Aktiv udtag - CO2 beregning'!$G20+'Aktiv udtag - CO2 beregning'!$H20*Emissionsfaktorer!$H$23+'Aktiv udtag - CO2 beregning'!$I20*Emissionsfaktorer!$H$38))+((IF('Aktiv udtag - CO2 beregning'!C20<1," ",VLOOKUP('Aktiv udtag - CO2 beregning'!C20,'Afgrøder 2014'!$B$2:$H$260,7))*0.01*44/28)*298/1000+(IF('Aktiv udtag - CO2 beregning'!C20<1," ",VLOOKUP('Aktiv udtag - CO2 beregning'!C20,'Afgrøder 2014'!$B$2:$H$260,7))*0.34*0.0025*44/28)*298/1000+(IF('Aktiv udtag - CO2 beregning'!C20<1," ",VLOOKUP('Aktiv udtag - CO2 beregning'!C20,'Afgrøder 2014'!$B$2:$H$260,7))*0.34*0.6*0.0025*44/28)*298/1000)*SUM('Aktiv udtag - CO2 beregning'!G20:I20)))),""))) | D18: =IF(ISBLANK('Aktiv udtag - CO2 beregning'!F20),"",IF('Aktiv udtag - CO2 beregning'!D20=FALSE," ", IF('Aktiv udtag - CO2 beregning'!J20="OK",IF('Aktiv udtag - CO2 beregning'!E20<>"Skov","",(IF(beregninger!I18="Nej",0,IF(beregninger!I18="Ja",IF('Aktiv udtag - CO2 beregning'!E20="Skov", Emissionsfaktorer!$H$9*'Aktiv udtag - CO2 beregning'!$G20+'Aktiv udtag - CO2 beregning'!$H20*Emissionsfaktorer!$H$23+'Aktiv udtag - CO2 beregning'!$I20*Emissionsfaktorer!$H$38))+((IF('Aktiv udtag - CO2 beregning'!C20<1," ",VLOOKUP('Aktiv udtag - CO2 beregning'!C20,'Afgrøder 2014'!$B$2:$H$260,7))*0.01*44/28)*298/1000+(IF('Aktiv udtag - CO2 beregning'!C20<1," ",VLOOKUP('Aktiv udtag - CO2 beregning'!C20,'Afgrøder 2014'!$B$2:$H$260,7))*0.34*0.0025*44/28)*298/1000+(IF('Aktiv udtag - CO2 beregning'!C20<1," ",VLOOKUP('Aktiv udtag - CO2 beregning'!C20,'Afgrøder 2014'!$B$2:$H$260,7))*0.34*0.6*0.0025*44/28)*298/1000)*SUM('Aktiv udtag - CO2 beregning'!G20:I20)))),""))) | E18: =IF(ISBLANK('Aktiv udtag - CO2 beregning'!F20),"",IF('Aktiv udtag - CO2 beregning'!D20=FALSE," ", IF('Aktiv udtag - CO2 beregning'!J20="OK",IF('Aktiv udtag - CO2 beregning'!E20<>"Naturområde","",(IF(beregninger!I18="Nej",0,IF(beregninger!I18="Ja",IF('Aktiv udtag - CO2 beregning'!E20="Naturområde", Emissionsfaktorer!$H$8*'Aktiv udtag - CO2 beregning'!$G20+'Aktiv udtag - CO2 beregning'!$H20*Emissionsfaktorer!$H$22+'Aktiv udtag - CO2 beregning'!$I20*Emissionsfaktorer!$H$37))+((IF('Aktiv udtag - CO2 beregning'!C20<1," ",VLOOKUP('Aktiv udtag - CO2 beregning'!C20,'Afgrøder 2014'!$B$2:$H$260,7))*0.01*44/28)*298/1000+(IF('Aktiv udtag - CO2 beregning'!C20<1," ",VLOOKUP('Aktiv udtag - CO2 beregning'!C20,'Afgrøder 2014'!$B$2:$H$260,7))*0.34*0.0025*44/28)*298/1000+(IF('Aktiv udtag - CO2 beregning'!C20<1," ",VLOOKUP('Aktiv udtag - CO2 beregning'!C20,'Afgrøder 2014'!$B$2:$H$260,7))*0.34*0.6*0.0025*44/28)*298/1000)*SUM('Aktiv udtag - CO2 beregning'!G20:I20)))),""))) | F18: =IF(ISBLANK('Aktiv udtag - CO2 beregning'!F20),"",IF('Aktiv udtag - CO2 beregning'!D20=FALSE," ", IF('Aktiv udtag - CO2 beregning'!J20="OK",IF('Aktiv udtag - CO2 beregning'!E20<>"Buske og Frugttræer","",(IF(beregninger!I18="Nej",0,IF(beregninger!I18="Ja",IF('Aktiv udtag - CO2 beregning'!E20="Buske og Frugttræer", Emissionsfaktorer!$H$11*'Aktiv udtag - CO2 beregning'!$G20+'Aktiv udtag - CO2 beregning'!$H20*Emissionsfaktorer!$H$25+'Aktiv udtag - CO2 beregning'!$I20*Emissionsfaktorer!$H$40))+((IF('Aktiv udtag - CO2 beregning'!C20<1," ",VLOOKUP('Aktiv udtag - CO2 beregning'!C20,'Afgrøder 2014'!$B$2:$H$260,7))*0.01*44/28)*298/1000+(IF('Aktiv udtag - CO2 beregning'!C20<1," ",VLOOKUP('Aktiv udtag - CO2 beregning'!C20,'Afgrøder 2014'!$B$2:$H$260,7))*0.34*0.0025*44/28)*298/1000+(IF('Aktiv udtag - CO2 beregning'!C20<1," ",VLOOKUP('Aktiv udtag - CO2 beregning'!C20,'Afgrøder 2014'!$B$2:$H$260,7))*0.34*0.6*0.0025*44/28)*298/1000)*SUM('Aktiv udtag - CO2 beregning'!G20:I20)))),""))) | G18: =IF(ISBLANK('Aktiv udtag - CO2 beregning'!F20),"",IF('Aktiv udtag - CO2 beregning'!D20=FALSE," ", IF('Aktiv udtag - CO2 beregning'!J20="OK",IF('Aktiv udtag - CO2 beregning'!E20<>"Energiafgrøde","",(IF(beregninger!I18="Nej",0,IF(beregninger!I18="Ja",IF('Aktiv udtag - CO2 beregning'!E20="Energiafgrøde", Emissionsfaktorer!$H$11*'Aktiv udtag - CO2 beregning'!$G20+'Aktiv udtag - CO2 beregning'!$H20*Emissionsfaktorer!$H$25+'Aktiv udtag - CO2 beregning'!$I20*Emissionsfaktorer!$H$40))+((IF('Aktiv udtag - CO2 beregning'!C20<1," ",VLOOKUP('Aktiv udtag - CO2 beregning'!C20,'Afgrøder 2014'!$B$2:$H$260,7))*0.01*44/28)*298/1000+(IF('Aktiv udtag - CO2 beregning'!C20<1," ",VLOOKUP('Aktiv udtag - CO2 beregning'!C20,'Afgrøder 2014'!$B$2:$H$260,7))*0.34*0.0025*44/28)*298/1000+(IF('Aktiv udtag - CO2 beregning'!C20<1," ",VLOOKUP('Aktiv udtag - CO2 beregning'!C20,'Afgrøder 2014'!$B$2:$H$260,7))*0.34*0.6*0.0025*44/28)*298/1000)*SUM('Aktiv udtag - CO2 beregning'!G20:I20)))),""))) | I18: =IF(ISBLANK('Aktiv udtag - CO2 beregning'!C20)," ",IFERROR(IF(MATCH('Aktiv udtag - CO2 beregning'!C20,'Afgrøder 2014'!$B$2:$B$261,0),VLOOKUP('Aktiv udtag - CO2 beregning'!C20,'Afgrøder 2014'!$B$2:$H$261,4)),"Ukendt")) | J18: =IF((I18="ja"),0,'Aktiv udtag - CO2 beregning'!F20) -> 0
A19: =IF(ISBLANK('Aktiv udtag - CO2 beregning'!F21),"",IF('Aktiv udtag - CO2 beregning'!D21=FALSE," ", IF('Aktiv udtag - CO2 beregning'!J21="OK",IF('Aktiv udtag - CO2 beregning'!E21<>"Omdrift","",(IF(beregninger!I19="Nej",0,IF(beregninger!I19="Ja",IF('Aktiv udtag - CO2 beregning'!E21="Omdrift", 'Aktiv udtag - CO2 beregning'!G21*Emissionsfaktorer!$H$6+'Aktiv udtag - CO2 beregning'!$H21*Emissionsfaktorer!$H$20+'Aktiv udtag - CO2 beregning'!$I21*Emissionsfaktorer!$H$35))+((IF('Aktiv udtag - CO2 beregning'!C21<1," ",VLOOKUP('Aktiv udtag - CO2 beregning'!C21,'Afgrøder 2014'!$B$2:$H$260,7))*0.01*44/28)*298/1000+(IF('Aktiv udtag - CO2 beregning'!C21<1," ",VLOOKUP('Aktiv udtag - CO2 beregning'!C21,'Afgrøder 2014'!$B$2:$H$260,7))*0.34*0.0025*44/28)*298/1000+(IF('Aktiv udtag - CO2 beregning'!C21<1," ",VLOOKUP('Aktiv udtag - CO2 beregning'!C21,'Afgrøder 2014'!$B$2:$H$260,7))*0.34*0.6*0.0025*44/28)*298/1000)*SUM('Aktiv udtag - CO2 beregning'!G21:I21)))),""))) | B19: =IF(ISBLANK('Aktiv udtag - CO2 beregning'!F21),"",IF('Aktiv udtag - CO2 beregning'!D21=FALSE," ", IF('Aktiv udtag - CO2 beregning'!J21="OK",IF('Aktiv udtag - CO2 beregning'!E21<>"Permanent Græs","",(IF(beregninger!I19="Nej",0,IF(beregninger!I19="Ja",IF('Aktiv udtag - CO2 beregning'!E21="Permanent Græs", Emissionsfaktorer!$H$7*'Aktiv udtag - CO2 beregning'!$G21+'Aktiv udtag - CO2 beregning'!$H21*Emissionsfaktorer!$H$21+'Aktiv udtag - CO2 beregning'!$I21*Emissionsfaktorer!$H$36))+((IF('Aktiv udtag - CO2 beregning'!C21<1," ",VLOOKUP('Aktiv udtag - CO2 beregning'!C21,'Afgrøder 2014'!$B$2:$H$260,7))*0.01*44/28)*298/1000+(IF('Aktiv udtag - CO2 beregning'!C21<1," ",VLOOKUP('Aktiv udtag - CO2 beregning'!C21,'Afgrøder 2014'!$B$2:$H$260,7))*0.34*0.0025*44/28)*298/1000+(IF('Aktiv udtag - CO2 beregning'!C21<1," ",VLOOKUP('Aktiv udtag - CO2 beregning'!C21,'Afgrøder 2014'!$B$2:$H$260,7))*0.34*0.6*0.0025*44/28)*298/1000)*SUM('Aktiv udtag - CO2 beregning'!G21:I21)))),""))) | C19: =IF(ISBLANK('Aktiv udtag - CO2 beregning'!F21),"",IF('Aktiv udtag - CO2 beregning'!D21=FALSE," ", IF('Aktiv udtag - CO2 beregning'!J21="OK",IF('Aktiv udtag - CO2 beregning'!E21<>"Vådområde","",(IF(beregninger!I19="Nej",0,IF(beregninger!I19="Ja",IF('Aktiv udtag - CO2 beregning'!E21="Vådområde", Emissionsfaktorer!$H$9*'Aktiv udtag - CO2 beregning'!$G21+'Aktiv udtag - CO2 beregning'!$H21*Emissionsfaktorer!$H$23+'Aktiv udtag - CO2 beregning'!$I21*Emissionsfaktorer!$H$38))+((IF('Aktiv udtag - CO2 beregning'!C21<1," ",VLOOKUP('Aktiv udtag - CO2 beregning'!C21,'Afgrøder 2014'!$B$2:$H$260,7))*0.01*44/28)*298/1000+(IF('Aktiv udtag - CO2 beregning'!C21<1," ",VLOOKUP('Aktiv udtag - CO2 beregning'!C21,'Afgrøder 2014'!$B$2:$H$260,7))*0.34*0.0025*44/28)*298/1000+(IF('Aktiv udtag - CO2 beregning'!C21<1," ",VLOOKUP('Aktiv udtag - CO2 beregning'!C21,'Afgrøder 2014'!$B$2:$H$260,7))*0.34*0.6*0.0025*44/28)*298/1000)*SUM('Aktiv udtag - CO2 beregning'!G21:I21)))),""))) | D19: =IF(ISBLANK('Aktiv udtag - CO2 beregning'!F21),"",IF('Aktiv udtag - CO2 beregning'!D21=FALSE," ", IF('Aktiv udtag - CO2 beregning'!J21="OK",IF('Aktiv udtag - CO2 beregning'!E21<>"Skov","",(IF(beregninger!I19="Nej",0,IF(beregninger!I19="Ja",IF('Aktiv udtag - CO2 beregning'!E21="Skov", Emissionsfaktorer!$H$9*'Aktiv udtag - CO2 beregning'!$G21+'Aktiv udtag - CO2 beregning'!$H21*Emissionsfaktorer!$H$23+'Aktiv udtag - CO2 beregning'!$I21*Emissionsfaktorer!$H$38))+((IF('Aktiv udtag - CO2 beregning'!C21<1," ",VLOOKUP('Aktiv udtag - CO2 beregning'!C21,'Afgrøder 2014'!$B$2:$H$260,7))*0.01*44/28)*298/1000+(IF('Aktiv udtag - CO2 beregning'!C21<1," ",VLOOKUP('Aktiv udtag - CO2 beregning'!C21,'Afgrøder 2014'!$B$2:$H$260,7))*0.34*0.0025*44/28)*298/1000+(IF('Aktiv udtag - CO2 beregning'!C21<1," ",VLOOKUP('Aktiv udtag - CO2 beregning'!C21,'Afgrøder 2014'!$B$2:$H$260,7))*0.34*0.6*0.0025*44/28)*298/1000)*SUM('Aktiv udtag - CO2 beregning'!G21:I21)))),""))) | E19: =IF(ISBLANK('Aktiv udtag - CO2 beregning'!F21),"",IF('Aktiv udtag - CO2 beregning'!D21=FALSE," ", IF('Aktiv udtag - CO2 beregning'!J21="OK",IF('Aktiv udtag - CO2 beregning'!E21<>"Naturområde","",(IF(beregninger!I19="Nej",0,IF(beregninger!I19="Ja",IF('Aktiv udtag - CO2 beregning'!E21="Naturområde", Emissionsfaktorer!$H$8*'Aktiv udtag - CO2 beregning'!$G21+'Aktiv udtag - CO2 beregning'!$H21*Emissionsfaktorer!$H$22+'Aktiv udtag - CO2 beregning'!$I21*Emissionsfaktorer!$H$37))+((IF('Aktiv udtag - CO2 beregning'!C21<1," ",VLOOKUP('Aktiv udtag - CO2 beregning'!C21,'Afgrøder 2014'!$B$2:$H$260,7))*0.01*44/28)*298/1000+(IF('Aktiv udtag - CO2 beregning'!C21<1," ",VLOOKUP('Aktiv udtag - CO2 beregning'!C21,'Afgrøder 2014'!$B$2:$H$260,7))*0.34*0.0025*44/28)*298/1000+(IF('Aktiv udtag - CO2 beregning'!C21<1," ",VLOOKUP('Aktiv udtag - CO2 beregning'!C21,'Afgrøder 2014'!$B$2:$H$260,7))*0.34*0.6*0.0025*44/28)*298/1000)*SUM('Aktiv udtag - CO2 beregning'!G21:I21)))),""))) | F19: =IF(ISBLANK('Aktiv udtag - CO2 beregning'!F21),"",IF('Aktiv udtag - CO2 beregning'!D21=FALSE," ", IF('Aktiv udtag - CO2 beregning'!J21="OK",IF('Aktiv udtag - CO2 beregning'!E21<>"Buske og Frugttræer","",(IF(beregninger!I19="Nej",0,IF(beregninger!I19="Ja",IF('Aktiv udtag - CO2 beregning'!E21="Buske og Frugttræer", Emissionsfaktorer!$H$11*'Aktiv udtag - CO2 beregning'!$G21+'Aktiv udtag - CO2 beregning'!$H21*Emissionsfaktorer!$H$25+'Aktiv udtag - CO2 beregning'!$I21*Emissionsfaktorer!$H$40))+((IF('Aktiv udtag - CO2 beregning'!C21<1," ",VLOOKUP('Aktiv udtag - CO2 beregning'!C21,'Afgrøder 2014'!$B$2:$H$260,7))*0.01*44/28)*298/1000+(IF('Aktiv udtag - CO2 beregning'!C21<1," ",VLOOKUP('Aktiv udtag - CO2 beregning'!C21,'Afgrøder 2014'!$B$2:$H$260,7))*0.34*0.0025*44/28)*298/1000+(IF('Aktiv udtag - CO2 beregning'!C21<1," ",VLOOKUP('Aktiv udtag - CO2 beregning'!C21,'Afgrøder 2014'!$B$2:$H$260,7))*0.34*0.6*0.0025*44/28)*298/1000)*SUM('Aktiv udtag - CO2 beregning'!G21:I21)))),""))) | G19: =IF(ISBLANK('Aktiv udtag - CO2 beregning'!F21),"",IF('Aktiv udtag - CO2 beregning'!D21=FALSE," ", IF('Aktiv udtag - CO2 beregning'!J21="OK",IF('Aktiv udtag - CO2 beregning'!E21<>"Energiafgrøde","",(IF(beregninger!I19="Nej",0,IF(beregninger!I19="Ja",IF('Aktiv udtag - CO2 beregning'!E21="Energiafgrøde", Emissionsfaktorer!$H$11*'Aktiv udtag - CO2 beregning'!$G21+'Aktiv udtag - CO2 beregning'!$H21*Emissionsfaktorer!$H$25+'Aktiv udtag - CO2 beregning'!$I21*Emissionsfaktorer!$H$40))+((IF('Aktiv udtag - CO2 beregning'!C21<1," ",VLOOKUP('Aktiv udtag - CO2 beregning'!C21,'Afgrøder 2014'!$B$2:$H$260,7))*0.01*44/28)*298/1000+(IF('Aktiv udtag - CO2 beregning'!C21<1," ",VLOOKUP('Aktiv udtag - CO2 beregning'!C21,'Afgrøder 2014'!$B$2:$H$260,7))*0.34*0.0025*44/28)*298/1000+(IF('Aktiv udtag - CO2 beregning'!C21<1," ",VLOOKUP('Aktiv udtag - CO2 beregning'!C21,'Afgrøder 2014'!$B$2:$H$260,7))*0.34*0.6*0.0025*44/28)*298/1000)*SUM('Aktiv udtag - CO2 beregning'!G21:I21)))),""))) | I19: =IF(ISBLANK('Aktiv udtag - CO2 beregning'!C21)," ",IFERROR(IF(MATCH('Aktiv udtag - CO2 beregning'!C21,'Afgrøder 2014'!$B$2:$B$261,0),VLOOKUP('Aktiv udtag - CO2 beregning'!C21,'Afgrøder 2014'!$B$2:$H$261,4)),"Ukendt")) | J19: =IF((I19="ja"),0,'Aktiv udtag - CO2 beregning'!F21) -> 0
A20: =IF(ISBLANK('Aktiv udtag - CO2 beregning'!F22),"",IF('Aktiv udtag - CO2 beregning'!D22=FALSE," ", IF('Aktiv udtag - CO2 beregning'!J22="OK",IF('Aktiv udtag - CO2 beregning'!E22<>"Omdrift","",(IF(beregninger!I20="Nej",0,IF(beregninger!I20="Ja",IF('Aktiv udtag - CO2 beregning'!E22="Omdrift", 'Aktiv udtag - CO2 beregning'!G22*Emissionsfaktorer!$H$6+'Aktiv udtag - CO2 beregning'!$H22*Emissionsfaktorer!$H$20+'Aktiv udtag - CO2 beregning'!$I22*Emissionsfaktorer!$H$35))+((IF('Aktiv udtag - CO2 beregning'!C22<1," ",VLOOKUP('Aktiv udtag - CO2 beregning'!C22,'Afgrøder 2014'!$B$2:$H$260,7))*0.01*44/28)*298/1000+(IF('Aktiv udtag - CO2 beregning'!C22<1," ",VLOOKUP('Aktiv udtag - CO2 beregning'!C22,'Afgrøder 2014'!$B$2:$H$260,7))*0.34*0.0025*44/28)*298/1000+(IF('Aktiv udtag - CO2 beregning'!C22<1," ",VLOOKUP('Aktiv udtag - CO2 beregning'!C22,'Afgrøder 2014'!$B$2:$H$260,7))*0.34*0.6*0.0025*44/28)*298/1000)*SUM('Aktiv udtag - CO2 beregning'!G22:I22)))),""))) | B20: =IF(ISBLANK('Aktiv udtag - CO2 beregning'!F22),"",IF('Aktiv udtag - CO2 beregning'!D22=FALSE," ", IF('Aktiv udtag - CO2 beregning'!J22="OK",IF('Aktiv udtag - CO2 beregning'!E22<>"Permanent Græs","",(IF(beregninger!I20="Nej",0,IF(beregninger!I20="Ja",IF('Aktiv udtag - CO2 beregning'!E22="Permanent Græs", Emissionsfaktorer!$H$7*'Aktiv udtag - CO2 beregning'!$G22+'Aktiv udtag - CO2 beregning'!$H22*Emissionsfaktorer!$H$21+'Aktiv udtag - CO2 beregning'!$I22*Emissionsfaktorer!$H$36))+((IF('Aktiv udtag - CO2 beregning'!C22<1," ",VLOOKUP('Aktiv udtag - CO2 beregning'!C22,'Afgrøder 2014'!$B$2:$H$260,7))*0.01*44/28)*298/1000+(IF('Aktiv udtag - CO2 beregning'!C22<1," ",VLOOKUP('Aktiv udtag - CO2 beregning'!C22,'Afgrøder 2014'!$B$2:$H$260,7))*0.34*0.0025*44/28)*298/1000+(IF('Aktiv udtag - CO2 beregning'!C22<1," ",VLOOKUP('Aktiv udtag - CO2 beregning'!C22,'Afgrøder 2014'!$B$2:$H$260,7))*0.34*0.6*0.0025*44/28)*298/1000)*SUM('Aktiv udtag - CO2 beregning'!G22:I22)))),""))) | C20: =IF(ISBLANK('Aktiv udtag - CO2 beregning'!F22),"",IF('Aktiv udtag - CO2 beregning'!D22=FALSE," ", IF('Aktiv udtag - CO2 beregning'!J22="OK",IF('Aktiv udtag - CO2 beregning'!E22<>"Vådområde","",(IF(beregninger!I20="Nej",0,IF(beregninger!I20="Ja",IF('Aktiv udtag - CO2 beregning'!E22="Vådområde", Emissionsfaktorer!$H$9*'Aktiv udtag - CO2 beregning'!$G22+'Aktiv udtag - CO2 beregning'!$H22*Emissionsfaktorer!$H$23+'Aktiv udtag - CO2 beregning'!$I22*Emissionsfaktorer!$H$38))+((IF('Aktiv udtag - CO2 beregning'!C22<1," ",VLOOKUP('Aktiv udtag - CO2 beregning'!C22,'Afgrøder 2014'!$B$2:$H$260,7))*0.01*44/28)*298/1000+(IF('Aktiv udtag - CO2 beregning'!C22<1," ",VLOOKUP('Aktiv udtag - CO2 beregning'!C22,'Afgrøder 2014'!$B$2:$H$260,7))*0.34*0.0025*44/28)*298/1000+(IF('Aktiv udtag - CO2 beregning'!C22<1," ",VLOOKUP('Aktiv udtag - CO2 beregning'!C22,'Afgrøder 2014'!$B$2:$H$260,7))*0.34*0.6*0.0025*44/28)*298/1000)*SUM('Aktiv udtag - CO2 beregning'!G22:I22)))),""))) | D20: =IF(ISBLANK('Aktiv udtag - CO2 beregning'!F22),"",IF('Aktiv udtag - CO2 beregning'!D22=FALSE," ", IF('Aktiv udtag - CO2 beregning'!J22="OK",IF('Aktiv udtag - CO2 beregning'!E22<>"Skov","",(IF(beregninger!I20="Nej",0,IF(beregninger!I20="Ja",IF('Aktiv udtag - CO2 beregning'!E22="Skov", Emissionsfaktorer!$H$9*'Aktiv udtag - CO2 beregning'!$G22+'Aktiv udtag - CO2 beregning'!$H22*Emissionsfaktorer!$H$23+'Aktiv udtag - CO2 beregning'!$I22*Emissionsfaktorer!$H$38))+((IF('Aktiv udtag - CO2 beregning'!C22<1," ",VLOOKUP('Aktiv udtag - CO2 beregning'!C22,'Afgrøder 2014'!$B$2:$H$260,7))*0.01*44/28)*298/1000+(IF('Aktiv udtag - CO2 beregning'!C22<1," ",VLOOKUP('Aktiv udtag - CO2 beregning'!C22,'Afgrøder 2014'!$B$2:$H$260,7))*0.34*0.0025*44/28)*298/1000+(IF('Aktiv udtag - CO2 beregning'!C22<1," ",VLOOKUP('Aktiv udtag - CO2 beregning'!C22,'Afgrøder 2014'!$B$2:$H$260,7))*0.34*0.6*0.0025*44/28)*298/1000)*SUM('Aktiv udtag - CO2 beregning'!G22:I22)))),""))) | E20: =IF(ISBLANK('Aktiv udtag - CO2 beregning'!F22),"",IF('Aktiv udtag - CO2 beregning'!D22=FALSE," ", IF('Aktiv udtag - CO2 beregning'!J22="OK",IF('Aktiv udtag - CO2 beregning'!E22<>"Naturområde","",(IF(beregninger!I20="Nej",0,IF(beregninger!I20="Ja",IF('Aktiv udtag - CO2 beregning'!E22="Naturområde", Emissionsfaktorer!$H$8*'Aktiv udtag - CO2 beregning'!$G22+'Aktiv udtag - CO2 beregning'!$H22*Emissionsfaktorer!$H$22+'Aktiv udtag - CO2 beregning'!$I22*Emissionsfaktorer!$H$37))+((IF('Aktiv udtag - CO2 beregning'!C22<1," ",VLOOKUP('Aktiv udtag - CO2 beregning'!C22,'Afgrøder 2014'!$B$2:$H$260,7))*0.01*44/28)*298/1000+(IF('Aktiv udtag - CO2 beregning'!C22<1," ",VLOOKUP('Aktiv udtag - CO2 beregning'!C22,'Afgrøder 2014'!$B$2:$H$260,7))*0.34*0.0025*44/28)*298/1000+(IF('Aktiv udtag - CO2 beregning'!C22<1," ",VLOOKUP('Aktiv udtag - CO2 beregning'!C22,'Afgrøder 2014'!$B$2:$H$260,7))*0.34*0.6*0.0025*44/28)*298/1000)*SUM('Aktiv udtag - CO2 beregning'!G22:I22)))),""))) | F20: =IF(ISBLANK('Aktiv udtag - CO2 beregning'!F22),"",IF('Aktiv udtag - CO2 beregning'!D22=FALSE," ", IF('Aktiv udtag - CO2 beregning'!J22="OK",IF('Aktiv udtag - CO2 beregning'!E22<>"Buske og Frugttræer","",(IF(beregninger!I20="Nej",0,IF(beregninger!I20="Ja",IF('Aktiv udtag - CO2 beregning'!E22="Buske og Frugttræer", Emissionsfaktorer!$H$11*'Aktiv udtag - CO2 beregning'!$G22+'Aktiv udtag - CO2 beregning'!$H22*Emissionsfaktorer!$H$25+'Aktiv udtag - CO2 beregning'!$I22*Emissionsfaktorer!$H$40))+((IF('Aktiv udtag - CO2 beregning'!C22<1," ",VLOOKUP('Aktiv udtag - CO2 beregning'!C22,'Afgrøder 2014'!$B$2:$H$260,7))*0.01*44/28)*298/1000+(IF('Aktiv udtag - CO2 beregning'!C22<1," ",VLOOKUP('Aktiv udtag - CO2 beregning'!C22,'Afgrøder 2014'!$B$2:$H$260,7))*0.34*0.0025*44/28)*298/1000+(IF('Aktiv udtag - CO2 beregning'!C22<1," ",VLOOKUP('Aktiv udtag - CO2 beregning'!C22,'Afgrøder 2014'!$B$2:$H$260,7))*0.34*0.6*0.0025*44/28)*298/1000)*SUM('Aktiv udtag - CO2 beregning'!G22:I22)))),""))) | G20: =IF(ISBLANK('Aktiv udtag - CO2 beregning'!F22),"",IF('Aktiv udtag - CO2 beregning'!D22=FALSE," ", IF('Aktiv udtag - CO2 beregning'!J22="OK",IF('Aktiv udtag - CO2 beregning'!E22<>"Energiafgrøde","",(IF(beregninger!I20="Nej",0,IF(beregninger!I20="Ja",IF('Aktiv udtag - CO2 beregning'!E22="Energiafgrøde", Emissionsfaktorer!$H$11*'Aktiv udtag - CO2 beregning'!$G22+'Aktiv udtag - CO2 beregning'!$H22*Emissionsfaktorer!$H$25+'Aktiv udtag - CO2 beregning'!$I22*Emissionsfaktorer!$H$40))+((IF('Aktiv udtag - CO2 beregning'!C22<1," ",VLOOKUP('Aktiv udtag - CO2 beregning'!C22,'Afgrøder 2014'!$B$2:$H$260,7))*0.01*44/28)*298/1000+(IF('Aktiv udtag - CO2 beregning'!C22<1," ",VLOOKUP('Aktiv udtag - CO2 beregning'!C22,'Afgrøder 2014'!$B$2:$H$260,7))*0.34*0.0025*44/28)*298/1000+(IF('Aktiv udtag - CO2 beregning'!C22<1," ",VLOOKUP('Aktiv udtag - CO2 beregning'!C22,'Afgrøder 2014'!$B$2:$H$260,7))*0.34*0.6*0.0025*44/28)*298/1000)*SUM('Aktiv udtag - CO2 beregning'!G22:I22)))),""))) | I20: =IF(ISBLANK('Aktiv udtag - CO2 beregning'!C22)," ",IFERROR(IF(MATCH('Aktiv udtag - CO2 beregning'!C22,'Afgrøder 2014'!$B$2:$B$261,0),VLOOKUP('Aktiv udtag - CO2 beregning'!C22,'Afgrøder 2014'!$B$2:$H$261,4)),"Ukendt")) | J20: =IF((I20="ja"),0,'Aktiv udtag - CO2 beregning'!F22) -> 0
... A29: =IF(ISBLANK('Aktiv udtag - CO2 beregning'!F31),"",IF('Aktiv udtag - CO2 beregning'!D31=FALSE," ", IF('Aktiv udtag - CO2 beregning'!J31="OK",IF('Aktiv udtag - CO2 beregning'!E31<>"Omdrift","",(IF(beregninger!I29="Nej",0,IF(beregninger!I29="Ja",IF('Aktiv udtag - CO2 beregning'!E31="Omdrift", 'Aktiv udtag - CO2 beregning'!G31*Emissionsfaktorer!$H$6+'Aktiv udtag - CO2 beregning'!$H31*Emissionsfaktorer!$H$20+'Aktiv udtag - CO2 beregning'!$I31*Emissionsfaktorer!$H$35))+((IF('Aktiv udtag - CO2 beregning'!C31<1," ",VLOOKUP('Aktiv udtag - CO2 beregning'!C31,'Afgrøder 2014'!$B$2:$H$260,7))*0.01*44/28)*298/1000+(IF('Aktiv udtag - CO2 beregning'!C31<1," ",VLOOKUP('Aktiv udtag - CO2 beregning'!C31,'Afgrøder 2014'!$B$2:$H$260,7))*0.34*0.0025*44/28)*298/1000+(IF('Aktiv udtag - CO2 beregning'!C31<1," ",VLOOKUP('Aktiv udtag - CO2 beregning'!C31,'Afgrøder 2014'!$B$2:$H$260,7))*0.34*0.6*0.0025*44/28)*298/1000)*SUM('Aktiv udtag - CO2 beregning'!G31:I31)))),""))) | B29: =IF(ISBLANK('Aktiv udtag - CO2 beregning'!F31),"",IF('Aktiv udtag - CO2 beregning'!D31=FALSE," ", IF('Aktiv udtag - CO2 beregning'!J31="OK",IF('Aktiv udtag - CO2 beregning'!E31<>"Permanent Græs","",(IF(beregninger!I29="Nej",0,IF(beregninger!I29="Ja",IF('Aktiv udtag - CO2 beregning'!E31="Permanent Græs", Emissionsfaktorer!$H$7*'Aktiv udtag - CO2 beregning'!$G31+'Aktiv udtag - CO2 beregning'!$H31*Emissionsfaktorer!$H$21+'Aktiv udtag - CO2 beregning'!$I31*Emissionsfaktorer!$H$36))+((IF('Aktiv udtag - CO2 beregning'!C31<1," ",VLOOKUP('Aktiv udtag - CO2 beregning'!C31,'Afgrøder 2014'!$B$2:$H$260,7))*0.01*44/28)*298/1000+(IF('Aktiv udtag - CO2 beregning'!C31<1," ",VLOOKUP('Aktiv udtag - CO2 beregning'!C31,'Afgrøder 2014'!$B$2:$H$260,7))*0.34*0.0025*44/28)*298/1000+(IF('Aktiv udtag - CO2 beregning'!C31<1," ",VLOOKUP('Aktiv udtag - CO2 beregning'!C31,'Afgrøder 2014'!$B$2:$H$260,7))*0.34*0.6*0.0025*44/28)*298/1000)*SUM('Aktiv udtag - CO2 beregning'!G31:I31)))),""))) | C29: =IF(ISBLANK('Aktiv udtag - CO2 beregning'!F31),"",IF('Aktiv udtag - CO2 beregning'!D31=FALSE," ", IF('Aktiv udtag - CO2 beregning'!J31="OK",IF('Aktiv udtag - CO2 beregning'!E31<>"Vådområde","",(IF(beregninger!I29="Nej",0,IF(beregninger!I29="Ja",IF('Aktiv udtag - CO2 beregning'!E31="Vådområde", Emissionsfaktorer!$H$9*'Aktiv udtag - CO2 beregning'!$G31+'Aktiv udtag - CO2 beregning'!$H31*Emissionsfaktorer!$H$23+'Aktiv udtag - CO2 beregning'!$I31*Emissionsfaktorer!$H$38))+((IF('Aktiv udtag - CO2 beregning'!C31<1," ",VLOOKUP('Aktiv udtag - CO2 beregning'!C31,'Afgrøder 2014'!$B$2:$H$260,7))*0.01*44/28)*298/1000+(IF('Aktiv udtag - CO2 beregning'!C31<1," ",VLOOKUP('Aktiv udtag - CO2 beregning'!C31,'Afgrøder 2014'!$B$2:$H$260,7))*0.34*0.0025*44/28)*298/1000+(IF('Aktiv udtag - CO2 beregning'!C31<1," ",VLOOKUP('Aktiv udtag - CO2 beregning'!C31,'Afgrøder 2014'!$B$2:$H$260,7))*0.34*0.6*0.0025*44/28)*298/1000)*SUM('Aktiv udtag - CO2 beregning'!G31:I31)))),""))) | D29: =IF(ISBLANK('Aktiv udtag - CO2 beregning'!F31),"",IF('Aktiv udtag - CO2 beregning'!D31=FALSE," ", IF('Aktiv udtag - CO2 beregning'!J31="OK",IF('Aktiv udtag - CO2 beregning'!E31<>"Skov","",(IF(beregninger!I29="Nej",0,IF(beregninger!I29="Ja",IF('Aktiv udtag - CO2 beregning'!E31="Skov", Emissionsfaktorer!$H$9*'Aktiv udtag - CO2 beregning'!$G31+'Aktiv udtag - CO2 beregning'!$H31*Emissionsfaktorer!$H$23+'Aktiv udtag - CO2 beregning'!$I31*Emissionsfaktorer!$H$38))+((IF('Aktiv udtag - CO2 beregning'!C31<1," ",VLOOKUP('Aktiv udtag - CO2 beregning'!C31,'Afgrøder 2014'!$B$2:$H$260,7))*0.01*44/28)*298/1000+(IF('Aktiv udtag - CO2 beregning'!C31<1," ",VLOOKUP('Aktiv udtag - CO2 beregning'!C31,'Afgrøder 2014'!$B$2:$H$260,7))*0.34*0.0025*44/28)*298/1000+(IF('Aktiv udtag - CO2 beregning'!C31<1," ",VLOOKUP('Aktiv udtag - CO2 beregning'!C31,'Afgrøder 2014'!$B$2:$H$260,7))*0.34*0.6*0.0025*44/28)*298/1000)*SUM('Aktiv udtag - CO2 beregning'!G31:I31)))),""))) | E29: =IF(ISBLANK('Aktiv udtag - CO2 beregning'!F31),"",IF('Aktiv udtag - CO2 beregning'!D31=FALSE," ", IF('Aktiv udtag - CO2 beregning'!J31="OK",IF('Aktiv udtag - CO2 beregning'!E31<>"Naturområde","",(IF(beregninger!I29="Nej",0,IF(beregninger!I29="Ja",IF('Aktiv udtag - CO2 beregning'!E31="Naturområde", Emissionsfaktorer!$H$8*'Aktiv udtag - CO2 beregning'!$G31+'Aktiv udtag - CO2 beregning'!$H31*Emissionsfaktorer!$H$22+'Aktiv udtag - CO2 beregning'!$I31*Emissionsfaktorer!$H$37))+((IF('Aktiv udtag - CO2 beregning'!C31<1," ",VLOOKUP('Aktiv udtag - CO2 beregning'!C31,'Afgrøder 2014'!$B$2:$H$260,7))*0.01*44/28)*298/1000+(IF('Aktiv udtag - CO2 beregning'!C31<1," ",VLOOKUP('Aktiv udtag - CO2 beregning'!C31,'Afgrøder 2014'!$B$2:$H$260,7))*0.34*0.0025*44/28)*298/1000+(IF('Aktiv udtag - CO2 beregning'!C31<1," ",VLOOKUP('Aktiv udtag - CO2 beregning'!C31,'Afgrøder 2014'!$B$2:$H$260,7))*0.34*0.6*0.0025*44/28)*298/1000)*SUM('Aktiv udtag - CO2 beregning'!G31:I31)))),""))) | F29: =IF(ISBLANK('Aktiv udtag - CO2 beregning'!F31),"",IF('Aktiv udtag - CO2 beregning'!D31=FALSE," ", IF('Aktiv udtag - CO2 beregning'!J31="OK",IF('Aktiv udtag - CO2 beregning'!E31<>"Buske og Frugttræer","",(IF(beregninger!I29="Nej",0,IF(beregninger!I29="Ja",IF('Aktiv udtag - CO2 beregning'!E31="Buske og Frugttræer", Emissionsfaktorer!$H$11*'Aktiv udtag - CO2 beregning'!$G31+'Aktiv udtag - CO2 beregning'!$H31*Emissionsfaktorer!$H$25+'Aktiv udtag - CO2 beregning'!$I31*Emissionsfaktorer!$H$40))+((IF('Aktiv udtag - CO2 beregning'!C31<1," ",VLOOKUP('Aktiv udtag - CO2 beregning'!C31,'Afgrøder 2014'!$B$2:$H$260,7))*0.01*44/28)*298/1000+(IF('Aktiv udtag - CO2 beregning'!C31<1," ",VLOOKUP('Aktiv udtag - CO2 beregning'!C31,'Afgrøder 2014'!$B$2:$H$260,7))*0.34*0.0025*44/28)*298/1000+(IF('Aktiv udtag - CO2 beregning'!C31<1," ",VLOOKUP('Aktiv udtag - CO2 beregning'!C31,'Afgrøder 2014'!$B$2:$H$260,7))*0.34*0.6*0.0025*44/28)*298/1000)*SUM('Aktiv udtag - CO2 beregning'!G31:I31)))),""))) | G29: =IF(ISBLANK('Aktiv udtag - CO2 beregning'!F31),"",IF('Aktiv udtag - CO2 beregning'!D31=FALSE," ", IF('Aktiv udtag - CO2 beregning'!J31="OK",IF('Aktiv udtag - CO2 beregning'!E31<>"Energiafgrøde","",(IF(beregninger!I29="Nej",0,IF(beregninger!I29="Ja",IF('Aktiv udtag - CO2 beregning'!E31="Energiafgrøde", Emissionsfaktorer!$H$11*'Aktiv udtag - CO2 beregning'!$G31+'Aktiv udtag - CO2 beregning'!$H31*Emissionsfaktorer!$H$25+'Aktiv udtag - CO2 beregning'!$I31*Emissionsfaktorer!$H$40))+((IF('Aktiv udtag - CO2 beregning'!C31<1," ",VLOOKUP('Aktiv udtag - CO2 beregning'!C31,'Afgrøder 2014'!$B$2:$H$260,7))*0.01*44/28)*298/1000+(IF('Aktiv udtag - CO2 beregning'!C31<1," ",VLOOKUP('Aktiv udtag - CO2 beregning'!C31,'Afgrøder 2014'!$B$2:$H$260,7))*0.34*0.0025*44/28)*298/1000+(IF('Aktiv udtag - CO2 beregning'!C31<1," ",VLOOKUP('Aktiv udtag - CO2 beregning'!C31,'Afgrøder 2014'!$B$2:$H$260,7))*0.34*0.6*0.0025*44/28)*298/1000)*SUM('Aktiv udtag - CO2 beregning'!G31:I31)))),""))) | I29: =IF(ISBLANK('Aktiv udtag - CO2 beregning'!C31)," ",IFERROR(IF(MATCH('Aktiv udtag - CO2 beregning'!C31,'Afgrøder 2014'!$B$2:$B$261,0),VLOOKUP('Aktiv udtag - CO2 beregning'!C31,'Afgrøder 2014'!$B$2:$H$261,4)),"Ukendt")) | J29: =IF((I29="ja"),0,'Aktiv udtag - CO2 beregning'!F31) -> 0
I30: Overføres til aktiv udtagning: J57 | J30: =SUM(J9:J29) -> 0

Sheet Tørvelagets tykkelse
A1: Måling af tørvelagetstykkelse
A3: Måling af tørvelagetstykkelse indenfor projektområdet sker med sonderingsbord. Målingerne anvendes til evt. efterkontrol af tørvelagetstykkelse, herunder en evt. opbygning.
A4: Der udtages 1 prøve per 5 ha projektområde på udvalgte steder. Stederne skal afspejle de forventede forskellige vandstande indenfor projektområdet.
A6: Projekt nummer:
A7: Adresse:
A10: Løbe- nummer | B10: Prøve- nummer | C10: Løbenummer | D10: Udtagningsdato | E10: Prøveudtager | F10: UTM 32, X-Koordinat | G10: UTM 32, Y-Koordinat | H10: Afgrøde, bevoksning (skriv tekst) | I10: Tykkelse af organisk lag, cm, se vejledning | J10: Vandstand ved prøveudtagning | K10: Bemærkninger
A11: 1
A12: 2
A13: 3
A14: 4
A15: 5
A16: 6
A17: 7
A18: 8
A19: 9
A20: 10
A21: 11
A22: 12
... A25: 15

Sheet Tabeller til TR
C2: Udtagning af omdrift til vedvarende græs
C3: Ændret udledning af drivhusgasser, ton CO2-ækvivalenter/ha/år.
C4: Jordtype Afstand til vand | D4: < 6 % OC, Mineraljord | E4: 6–12 % OC | F4: >12 % OC
I5: ton CO2-ækvivalenter/ha/år
C6: Fuldt vanddækket | D6: =((Emissionsfaktorer!H35-Emissionsfaktorer!H41)+Emissionsfaktorer!C67*0.01*44/28*298/1000+Emissionsfaktorer!D67*0.0025*44/28*298/1000+Emissionsfaktorer!E67*0.0025*44/28*298/1000+Emissionsfaktorer!F67*0.0025*44/28*298/1000)-(Emissionsfaktorer!G67*0.0025*44/28*298*1.8) -> 0.60618649 | E6: =((Emissionsfaktorer!H20-Emissionsfaktorer!H26)+Emissionsfaktorer!C67*0.01*44/28*298/1000+Emissionsfaktorer!D67*0.0025*44/28*298/1000+Emissionsfaktorer!E67*0.0025*44/28*298/1000+Emissionsfaktorer!F67*0.0025*44/28*298/1000)-(Emissionsfaktorer!G67*0.0025*44/28*298*1.8) -> 24.733377 | F6: =((Emissionsfaktorer!H6-Emissionsfaktorer!H12)+Emissionsfaktorer!C67*0.01*44/28*298/1000+Emissionsfaktorer!D67*0.0025*44/28*298/1000+Emissionsfaktorer!E67*0.0025*44/28*298/1000+Emissionsfaktorer!F67*0.0025*44/28*298/1000)-(Emissionsfaktorer!G67*0.0025*44/28*298*1.8) -> 48.860567 | I6: Afstand til grundvand, cm | J6: Vanddækket | L6: 0-25 cm | N6: 25-50 cm | P6: 50-75 cm | S6: > 75 cm
C7: 0-25 cm | D7: =((Emissionsfaktorer!H35-Emissionsfaktorer!H42)+Emissionsfaktorer!C67*0.01*44/28*298/1000+Emissionsfaktorer!D67*0.0025*44/28*298/1000+Emissionsfaktorer!E67*0.0025*44/28*298/1000+Emissionsfaktorer!F67*0.0025*44/28*298/1000)-(Emissionsfaktorer!G67*0.0025*44/28*298*1.8) -> 0.60618649 | E7: =((Emissionsfaktorer!H20-Emissionsfaktorer!H27)+Emissionsfaktorer!C67*0.01*44/28*298/1000+Emissionsfaktorer!D67*0.0025*44/28*298/1000+Emissionsfaktorer!E67*0.0025*44/28*298/1000+Emissionsfaktorer!F67*0.0025*44/28*298/1000)-(Emissionsfaktorer!G67*0.0025*44/28*298*1.8) -> 21.133377 | F7: =((Emissionsfaktorer!H6-Emissionsfaktorer!H13)+Emissionsfaktorer!C67*0.01*44/28*298/1000+Emissionsfaktorer!D67*0.0025*44/28*298/1000+Emissionsfaktorer!E67*0.0025*44/28*298/1000+Emissionsfaktorer!F67*0.0025*44/28*298/1000)-(Emissionsfaktorer!G67*0.0025*44/28*298*1.8) -> 41.660567 | I7: Omdrift / Permanent græs | J7: O | K7: P | L7: O | M7: P | N7: O | O7: P | Q7: O | R7: P | T7: O | U7: P
C8: 25-50 cm | D8: =((Emissionsfaktorer!H35-Emissionsfaktorer!H43)+Emissionsfaktorer!C67*0.01*44/28*298/1000+Emissionsfaktorer!D67*0.0025*44/28*298/1000+Emissionsfaktorer!E67*0.0025*44/28*298/1000+Emissionsfaktorer!F67*0.0025*44/28*298/1000)-(Emissionsfaktorer!G67*0.0025*44/28*298*1.8) -> 0.60618649 | E8: =((Emissionsfaktorer!H20-Emissionsfaktorer!H28)+Emissionsfaktorer!C67*0.01*44/28*298/1000+Emissionsfaktorer!D67*0.0025*44/28*298/1000+Emissionsfaktorer!E67*0.0025*44/28*298/1000+Emissionsfaktorer!F67*0.0025*44/28*298/1000)-(Emissionsfaktorer!G67*0.0025*44/28*298*1.8) -> 16.62672 | F8: =((Emissionsfaktorer!H6-Emissionsfaktorer!H14)+Emissionsfaktorer!C67*0.01*44/28*298/1000+Emissionsfaktorer!D67*0.0025*44/28*298/1000+Emissionsfaktorer!E67*0.0025*44/28*298/1000+Emissionsfaktorer!F67*0.0025*44/28*298/1000)-(Emissionsfaktorer!G67*0.0025*44/28*298*1.8) -> 32.11392 | I8: > 12 % OC | J8: =F6 -> 48.860567 | K8: =F17 -> 35.425698 | L8: =F7 -> 41.660567 | M8: =F18 -> 28.225698 | N8: =F8 -> 32.11392 | O8: =F19 -> 18.67905 | Q8: =F9 -> 22.967272 | R8: =F20 -> 9.5324027 | T8: =F10 -> 13.820625 | U8: =F21 -> 0.38575504
C9: 50-75 cm | D9: =((Emissionsfaktorer!H35-Emissionsfaktorer!H44)+Emissionsfaktorer!C67*0.01*44/28*298/1000+Emissionsfaktorer!D67*0.0025*44/28*298/1000+Emissionsfaktorer!E67*0.0025*44/28*298/1000+Emissionsfaktorer!F67*0.0025*44/28*298/1000)-(Emissionsfaktorer!G67*0.0025*44/28*298*1.8) -> 0.60618649 | E9: =((Emissionsfaktorer!H20-Emissionsfaktorer!H29)+Emissionsfaktorer!C67*0.01*44/28*298/1000+Emissionsfaktorer!D67*0.0025*44/28*298/1000+Emissionsfaktorer!E67*0.0025*44/28*298/1000+Emissionsfaktorer!F67*0.0025*44/28*298/1000)-(Emissionsfaktorer!G67*0.0025*44/28*298*1.8) -> 11.920063 | F9: =((Emissionsfaktorer!H6-Emissionsfaktorer!H15)+Emissionsfaktorer!C67*0.01*44/28*298/1000+Emissionsfaktorer!D67*0.0025*44/28*298/1000+Emissionsfaktorer!E67*0.0025*44/28*298/1000+Emissionsfaktorer!F67*0.0025*44/28*298/1000)-(Emissionsfaktorer!G67*0.0025*44/28*298*1.8) -> 22.967272 | I9: 6-12 % OC | J9: =E6 -> 24.733377 | K9: =E17 -> 17.905726 | L9: =E7 -> 21.133377 | M9: =E18 -> 14.305726 | N9: =E8 -> 16.62672 | O9: =E19 -> 9.7990693 | Q9: =E9 -> 11.920063 | R9: =E20 -> 5.0924122 | T9: =E10 -> 7.2134055 | U9: =E21 -> 0.38575504
C10: > 75 cm | D10: =((Emissionsfaktorer!H35-Emissionsfaktorer!H45)+Emissionsfaktorer!C67*0.01*44/28*298/1000+Emissionsfaktorer!D67*0.0025*44/28*298/1000+Emissionsfaktorer!E67*0.0025*44/28*298/1000+Emissionsfaktorer!F67*0.0025*44/28*298/1000)-(Emissionsfaktorer!G67*0.0025*44/28*298*1.8) -> 0.60618649 | E10: =((Emissionsfaktorer!H20-Emissionsfaktorer!H30)+Emissionsfaktorer!C67*0.01*44/28*298/1000+Emissionsfaktorer!D67*0.0025*44/28*298/1000+Emissionsfaktorer!E67*0.0025*44/28*298/1000+Emissionsfaktorer!F67*0.0025*44/28*298/1000)-(Emissionsfaktorer!G67*0.0025*44/28*298*1.8) -> 7.2134055 | F10: =((Emissionsfaktorer!H6-Emissionsfaktorer!H16)+Emissionsfaktorer!C67*0.01*44/28*298/1000+Emissionsfaktorer!D67*0.0025*44/28*298/1000+Emissionsfaktorer!E67*0.0025*44/28*298/1000+Emissionsfaktorer!F67*0.0025*44/28*298/1000)-(Emissionsfaktorer!G67*0.0025*44/28*298*1.8) -> 13.820625 | I10: < 6 % OC | J10: =D6 -> 0.60618649 | K10: =D17 -> 0.38575504 | L10: =D7 -> 0.60618649 | M10: =D18 -> 0.38575504 | N10: =D8 -> 0.60618649 | O10: =D19 -> 0.38575504 | Q10: =D9 -> 0.60618649 | R10: =D20 -> 0.38575504 | T10: =D10 -> 0.60618649 | U10: =D21 -> 0.38575504
C13: Udtagning af permanent græs til vedvarende græs
C14: Ændret udledning af drivhusgasser, ton CO2-ækvivalenter/ha/år.
C15: Jordtype Afstand til vand | D15: < 6 % OC, Mineraljord | E15: 6–12 % OC | F15: >12 % OC
C17: Fuldt vanddækket | D17: =((Emissionsfaktorer!H36-Emissionsfaktorer!H41)+Emissionsfaktorer!C66*0.01*44/28*298/1000+Emissionsfaktorer!D66*0.0025*44/28*298/1000+Emissionsfaktorer!E66*0.0025*44/28*298/1000+Emissionsfaktorer!F66*0.0025*44/28*298/1000)-(Emissionsfaktorer!G66*0.0025*44/28*298*1.8) -> 0.38575504 | E17: =((Emissionsfaktorer!H21-Emissionsfaktorer!H26)+Emissionsfaktorer!C66*0.01*44/28*298/1000+Emissionsfaktorer!D66*0.0025*44/28*298/1000+Emissionsfaktorer!E66*0.0025*44/28*298/1000+Emissionsfaktorer!F66*0.0025*44/28*298/1000)-(Emissionsfaktorer!G66*0.0025*44/28*298*1.8) -> 17.905726 | F17: =((Emissionsfaktorer!H7-Emissionsfaktorer!H12)+Emissionsfaktorer!C66*0.01*44/28*298/1000+Emissionsfaktorer!D66*0.0025*44/28*298/1000+Emissionsfaktorer!E66*0.0025*44/28*298/1000+Emissionsfaktorer!F66*0.0025*44/28*298/1000)-(Emissionsfaktorer!G66*0.0025*44/28*298*1.8) -> 35.425698
C18: 0-25 cm | D18: =((Emissionsfaktorer!H36-Emissionsfaktorer!H42)+Emissionsfaktorer!C66*0.01*44/28*298/1000+Emissionsfaktorer!D66*0.0025*44/28*298/1000+Emissionsfaktorer!E66*0.0025*44/28*298/1000+Emissionsfaktorer!F66*0.0025*44/28*298/1000)-(Emissionsfaktorer!G66*0.0025*44/28*298*1.8) -> 0.38575504 | E18: =((Emissionsfaktorer!H21-Emissionsfaktorer!H27)+Emissionsfaktorer!C66*0.01*44/28*298/1000+Emissionsfaktorer!D66*0.0025*44/28*298/1000+Emissionsfaktorer!E66*0.0025*44/28*298/1000+Emissionsfaktorer!F66*0.0025*44/28*298/1000)-(Emissionsfaktorer!G66*0.0025*44/28*298*1.8) -> 14.305726 | F18: =((Emissionsfaktorer!H7-Emissionsfaktorer!H13)+Emissionsfaktorer!C66*0.01*44/28*298/1000+Emissionsfaktorer!D66*0.0025*44/28*298/1000+Emissionsfaktorer!E66*0.0025*44/28*298/1000+Emissionsfaktorer!F66*0.0025*44/28*298/1000)-(Emissionsfaktorer!G66*0.0025*44/28*298*1.8) -> 28.225698
C19: 25-50 cm | D19: =((Emissionsfaktorer!H36-Emissionsfaktorer!H43)+Emissionsfaktorer!C66*0.01*44/28*298/1000+Emissionsfaktorer!D66*0.0025*44/28*298/1000+Emissionsfaktorer!E66*0.0025*44/28*298/1000+Emissionsfaktorer!F66*0.0025*44/28*298/1000)-(Emissionsfaktorer!G66*0.0025*44/28*298*1.8) -> 0.38575504 | E19: =((Emissionsfaktorer!H21-Emissionsfaktorer!H28)+Emissionsfaktorer!C66*0.01*44/28*298/1000+Emissionsfaktorer!D66*0.0025*44/28*298/1000+Emissionsfaktorer!E66*0.0025*44/28*298/1000+Emissionsfaktorer!F66*0.0025*44/28*298/1000)-(Emissionsfaktorer!G66*0.0025*44/28*298*1.8) -> 9.7990693 | F19: =((Emissionsfaktorer!H7-Emissionsfaktorer!H14)+Emissionsfaktorer!C66*0.01*44/28*298/1000+Emissionsfaktorer!D66*0.0025*44/28*298/1000+Emissionsfaktorer!E66*0.0025*44/28*298/1000+Emissionsfaktorer!F66*0.0025*44/28*298/1000)-(Emissionsfaktorer!G66*0.0025*44/28*298*1.8) -> 18.67905
C20: 50-75 cm | D20: =((Emissionsfaktorer!H36-Emissionsfaktorer!H44)+Emissionsfaktorer!C66*0.01*44/28*298/1000+Emissionsfaktorer!D66*0.0025*44/28*298/1000+Emissionsfaktorer!E66*0.0025*44/28*298/1000+Emissionsfaktorer!F66*0.0025*44/28*298/1000)-(Emissionsfaktorer!G66*0.0025*44/28*298*1.8) -> 0.38575504 | E20: =((Emissionsfaktorer!H21-Emissionsfaktorer!H29)+Emissionsfaktorer!C66*0.01*44/28*298/1000+Emissionsfaktorer!D66*0.0025*44/28*298/1000+Emissionsfaktorer!E66*0.0025*44/28*298/1000+Emissionsfaktorer!F66*0.0025*44/28*298/1000)-(Emissionsfaktorer!G66*0.0025*44/28*298*1.8) -> 5.0924122 | F20: =((Emissionsfaktorer!H7-Emissionsfaktorer!H15)+Emissionsfaktorer!C66*0.01*44/28*298/1000+Emissionsfaktorer!D66*0.0025*44/28*298/1000+Emissionsfaktorer!E66*0.0025*44/28*298/1000+Emissionsfaktorer!F66*0.0025*44/28*298/1000)-(Emissionsfaktorer!G66*0.0025*44/28*298*1.8) -> 9.5324027
C21: > 75 cm | D21: =((Emissionsfaktorer!H36-Emissionsfaktorer!H45)+Emissionsfaktorer!C66*0.01*44/28*298/1000+Emissionsfaktorer!D66*0.0025*44/28*298/1000+Emissionsfaktorer!E66*0.0025*44/28*298/1000+Emissionsfaktorer!F66*0.0025*44/28*298/1000)-(Emissionsfaktorer!G66*0.0025*44/28*298*1.8) -> 0.38575504 | E21: =((Emissionsfaktorer!H21-Emissionsfaktorer!H30)+Emissionsfaktorer!C66*0.01*44/28*298/1000+Emissionsfaktorer!D66*0.0025*44/28*298/1000+Emissionsfaktorer!E66*0.0025*44/28*298/1000+Emissionsfaktorer!F66*0.0025*44/28*298/1000)-(Emissionsfaktorer!G66*0.0025*44/28*298*1.8) -> 0.38575504 | F21: =((Emissionsfaktorer!H7-Emissionsfaktorer!H16)+Emissionsfaktorer!C66*0.01*44/28*298/1000+Emissionsfaktorer!D66*0.0025*44/28*298/1000+Emissionsfaktorer!E66*0.0025*44/28*298/1000+Emissionsfaktorer!F66*0.0025*44/28*298/1000)-(Emissionsfaktorer!G66*0.0025*44/28*298*1.8) -> 0.38575504
C24: Udtagning af skov til naturlig hydrologi
C25: Ændret udledning af drivhusgasser, ton CO2-ækvivalenter/ha/år.
C26: Jordtype Afstand til vand | D26: < 6 % OC, Mineraljord | E26: 6–12 % OC | F26: >12 % OC
C28: Fuldt vanddækket | D28: =((Emissionsfaktorer!H38-Emissionsfaktorer!H41)+Emissionsfaktorer!C68*0.01*44/28*298/1000+Emissionsfaktorer!D66*0.0025*44/28*298/1000+Emissionsfaktorer!E68*0.0025*44/28*298/1000+Emissionsfaktorer!F68*0.0025*44/28*298/1000)-(Emissionsfaktorer!G68*0.0025*44/28*298*1.8) -> 0.027863 | E28: =((Emissionsfaktorer!H23-Emissionsfaktorer!H26)+Emissionsfaktorer!C68*0.01*44/28*298/1000+Emissionsfaktorer!D66*0.0025*44/28*298/1000+Emissionsfaktorer!E68*0.0025*44/28*298/1000+Emissionsfaktorer!F68*0.0025*44/28*298/1000)-(Emissionsfaktorer!G68*0.0025*44/28*298*1.8) -> 5.4813797 | F28: =((Emissionsfaktorer!H9-Emissionsfaktorer!H12)+Emissionsfaktorer!C68*0.01*44/28*298/1000+Emissionsfaktorer!D66*0.0025*44/28*298/1000+Emissionsfaktorer!E68*0.0025*44/28*298/1000+Emissionsfaktorer!F68*0.0025*44/28*298/1000)-(Emissionsfaktorer!G68*0.0025*44/28*298*1.8) -> 10.934896
C29: 0-25 cm | D29: =((Emissionsfaktorer!H38-Emissionsfaktorer!H41)+Emissionsfaktorer!C68*0.01*44/28*298/1000+Emissionsfaktorer!D66*0.0025*44/28*298/1000+Emissionsfaktorer!E68*0.0025*44/28*298/1000+Emissionsfaktorer!F68*0.0025*44/28*298/1000)-(Emissionsfaktorer!G68*0.0025*44/28*298*1.8) -> 0.027863 | E29: =((Emissionsfaktorer!H23-Emissionsfaktorer!H27)+Emissionsfaktorer!C68*0.01*44/28*298/1000+Emissionsfaktorer!D66*0.0025*44/28*298/1000+Emissionsfaktorer!E68*0.0025*44/28*298/1000+Emissionsfaktorer!F68*0.0025*44/28*298/1000)-(Emissionsfaktorer!G68*0.0025*44/28*298*1.8) -> 1.8813797 | F29: =((Emissionsfaktorer!H9-Emissionsfaktorer!H13)+Emissionsfaktorer!C68*0.01*44/28*298/1000+Emissionsfaktorer!D66*0.0025*44/28*298/1000+Emissionsfaktorer!E68*0.0025*44/28*298/1000+Emissionsfaktorer!F68*0.0025*44/28*298/1000)-(Emissionsfaktorer!G68*0.0025*44/28*298*1.8) -> 3.7348963
C30: 25-50 cm | D30: =((Emissionsfaktorer!H38-Emissionsfaktorer!H41)+Emissionsfaktorer!C68*0.01*44/28*298/1000+Emissionsfaktorer!D66*0.0025*44/28*298/1000+Emissionsfaktorer!E68*0.0025*44/28*298/1000+Emissionsfaktorer!F68*0.0025*44/28*298/1000)-(Emissionsfaktorer!G68*0.0025*44/28*298*1.8) -> 0.027863 | E30: =((Emissionsfaktorer!H23-Emissionsfaktorer!H28)+Emissionsfaktorer!C68*0.01*44/28*298/1000+Emissionsfaktorer!D66*0.0025*44/28*298/1000+Emissionsfaktorer!E68*0.0025*44/28*298/1000+Emissionsfaktorer!F68*0.0025*44/28*298/1000)-(Emissionsfaktorer!G68*0.0025*44/28*298*1.8) -> -2.6252775 | F30: =((Emissionsfaktorer!H9-Emissionsfaktorer!H14)+Emissionsfaktorer!C68*0.01*44/28*298/1000+Emissionsfaktorer!D66*0.0025*44/28*298/1000+Emissionsfaktorer!E68*0.0025*44/28*298/1000+Emissionsfaktorer!F68*0.0025*44/28*298/1000)-(Emissionsfaktorer!G68*0.0025*44/28*298*1.8) -> -5.8117513
C31: 50-75 cm | D31: =((Emissionsfaktorer!H38-Emissionsfaktorer!H41)+Emissionsfaktorer!C68*0.01*44/28*298/1000+Emissionsfaktorer!D66*0.0025*44/28*298/1000+Emissionsfaktorer!E68*0.0025*44/28*298/1000+Emissionsfaktorer!F68*0.0025*44/28*298/1000)-(Emissionsfaktorer!G68*0.0025*44/28*298*1.8) -> 0.027863 | E31: =((Emissionsfaktorer!H23-Emissionsfaktorer!H29)+Emissionsfaktorer!C68*0.01*44/28*298/1000+Emissionsfaktorer!D66*0.0025*44/28*298/1000+Emissionsfaktorer!E68*0.0025*44/28*298/1000+Emissionsfaktorer!F68*0.0025*44/28*298/1000)-(Emissionsfaktorer!G68*0.0025*44/28*298*1.8) -> -7.3319346 | F31: =((Emissionsfaktorer!H9-Emissionsfaktorer!H15)+Emissionsfaktorer!C68*0.01*44/28*298/1000+Emissionsfaktorer!D66*0.0025*44/28*298/1000+Emissionsfaktorer!E68*0.0025*44/28*298/1000+Emissionsfaktorer!F68*0.0025*44/28*298/1000)-(Emissionsfaktorer!G68*0.0025*44/28*298*1.8) -> -14.958399
C32: > 75 cm | D32: =((Emissionsfaktorer!H38-Emissionsfaktorer!H41)+Emissionsfaktorer!C68*0.01*44/28*298/1000+Emissionsfaktorer!D66*0.0025*44/28*298/1000+Emissionsfaktorer!E68*0.0025*44/28*298/1000+Emissionsfaktorer!F68*0.0025*44/28*298/1000)-(Emissionsfaktorer!G68*0.0025*44/28*298*1.8) -> 0.027863 | E32: =((Emissionsfaktorer!H23-Emissionsfaktorer!H30)+Emissionsfaktorer!C68*0.01*44/28*298/1000+Emissionsfaktorer!D66*0.0025*44/28*298/1000+Emissionsfaktorer!E68*0.0025*44/28*298/1000+Emissionsfaktorer!F68*0.0025*44/28*298/1000)-(Emissionsfaktorer!G68*0.0025*44/28*298*1.8) -> -12.038592 | F32: =((Emissionsfaktorer!H9-Emissionsfaktorer!H16)+Emissionsfaktorer!C68*0.01*44/28*298/1000+Emissionsfaktorer!D66*0.0025*44/28*298/1000+Emissionsfaktorer!E68*0.0025*44/28*298/1000+Emissionsfaktorer!F68*0.0025*44/28*298/1000)-(Emissionsfaktorer!G68*0.0025*44/28*298*1.8) -> -24.105047
C34: Passiv udtagning
C35: Jordtype Afgrøde til vand | D35: < 6 % OC, Mineraljord | E35: 6–12 % OC | F35: >12 % OC
C37: Omdrift | D37: =((Emissionsfaktorer!H35-Emissionsfaktorer!H45)+Emissionsfaktorer!C67*0.01*44/28*298/1000+Emissionsfaktorer!D67*0.0025*44/28*298/1000+Emissionsfaktorer!E67*0.0025*44/28*298/1000+Emissionsfaktorer!F67*0.0025*44/28*298/1000)-(Emissionsfaktorer!G67*0.0025*44/28*298*1.8) -> 0.60618649 | E37: =((Emissionsfaktorer!H20-Emissionsfaktorer!H30)+Emissionsfaktorer!C67*0.01*44/28*298/1000+Emissionsfaktorer!D67*0.0025*44/28*298/1000+Emissionsfaktorer!E67*0.0025*44/28*298/1000+Emissionsfaktorer!F67*0.0025*44/28*298/1000)-(Emissionsfaktorer!G67*0.0025*44/28*298*1.8) -> 7.2134055 | F37: =((Emissionsfaktorer!H6-Emissionsfaktorer!H16)+Emissionsfaktorer!C67*0.01*44/28*298/1000+Emissionsfaktorer!D67*0.0025*44/28*298/1000+Emissionsfaktorer!E67*0.0025*44/28*298/1000+Emissionsfaktorer!F67*0.0025*44/28*298/1000)-(Emissionsfaktorer!G67*0.0025*44/28*298*1.8) -> 13.820625
C38: Permanent græs | D38: =((Emissionsfaktorer!H48-Emissionsfaktorer!H57)+Emissionsfaktorer!C66*0.01*44/28*298/1000+Emissionsfaktorer!D66*0.0025*44/28*298/1000+Emissionsfaktorer!E66*0.0025*44/28*298/1000+Emissionsfaktorer!F66*0.0025*44/28*298/1000)-(Emissionsfaktorer!G66*0.0025*44/28*298*1.8) -> 0.38575504 | E38: =((Emissionsfaktorer!H21-Emissionsfaktorer!H30)+Emissionsfaktorer!C66*0.01*44/28*298/1000+Emissionsfaktorer!D66*0.0025*44/28*298/1000+Emissionsfaktorer!E66*0.0025*44/28*298/1000+Emissionsfaktorer!F66*0.0025*44/28*298/1000)-(Emissionsfaktorer!G66*0.0025*44/28*298*1.8) -> 0.38575504 | F38: =((Emissionsfaktorer!H7-Emissionsfaktorer!H16)+Emissionsfaktorer!C66*0.01*44/28*298/1000+Emissionsfaktorer!D66*0.0025*44/28*298/1000+Emissionsfaktorer!E66*0.0025*44/28*298/1000+Emissionsfaktorer!F66*0.0025*44/28*298/1000)-(Emissionsfaktorer!G66*0.0025*44/28*298*1.8) -> 0.38575504
C42: Jordtype | D42: Mindre end 6 % OC, Mineraljord | E42: 6–12 % OC | F42: Mindst 12 % OC
C43: Afstand
C44: til vand
C45: Fuldt vanddækket | D45: =D21-D21 -> 0 | E45: =-Emissionsfaktorer!H26 -> 0 | F45: =-Emissionsfaktorer!H12 -> 0
C46: 0-25 cm | D46: =D21-D20 -> 0 | E46: =-Emissionsfaktorer!H27 -> -3.6 | F46: =-Emissionsfaktorer!H13 -> -7.2
C47: 25-50 cm | D47: =D21-D19 -> 0 | E47: =-Emissionsfaktorer!H28 -> -8.1066571 | F47: =-Emissionsfaktorer!H14 -> -16.746648
C48: 50-75 cm | D48: =D21-D18 -> 0 | E48: =-Emissionsfaktorer!H29 -> -12.813314 | F48: =-Emissionsfaktorer!H15 -> -25.893295
C49: > 75 cm | D49: =D21-D17 -> 0 | E49: =-Emissionsfaktorer!H30 -> -17.519971 | F49: =-Emissionsfaktorer!H16 -> -35.039943

Sheet Emissionsfaktorer
A1: Emissionsfaktorer uden emissioner fra handelsgødning
E5: C, ton C/ha/år | F5: N2O, kg N2O-N/ha/år | G5: CH4, kg CH4/ha/år | H5: CO2-ækv./ha/år
A6: 12 % OC | B6: Støtteberettiget | C6: Omdrift | E6: 11.5 | F6: 13 | G6: 0 | H6: =E6*44/12+F6*44/28/1000*298+G6*25/1000 -> 48.254381
B7: Støtteberettiget | C7: Vedvarende græs | E7: 8.4 | F7: 8.2 | G7: 16 | H7: =E7*44/12+F7*44/28/1000*298+G7*25/1000 -> 35.039943
B8: Støtteberettiget | C8: Naturarealer
B9: Ikke Støtteberettiget | C9: Skov | E9: 2.6 | F9: 2.8 | G9: 2.5 | H9: =E9*44/12+F9*44/28/1000*298+G9*25/1000 -> 10.907033
B10: Støtteberettiget | C10: Energiafgrøde | D10: EF som skov | E10: 2.6 | F10: 2.8 | G10: 2.5 | H10: =E10*44/12+F10*44/28/1000*298+G10*25/1000 -> 10.907033
B11: Støtteberettiget | C11: Buske og Frugttræer | D11: EF som skov | E11: 2.6 | F11: 2.8 | G11: 2.5 | H11: =E11*44/12+F11*44/28/1000*298+G11*25/1000 -> 10.907033
C12: Fuldt vanddækket | E12: 0 | F12: 0 | G12: 0 | H12: =E12*44/12+F12*44/28/1000*298+G12*25/1000 -> 0
C13: Vådområde, 0-25 cm | D13: Permanent bevokset | E13: 0 | F13: 0 | G13: 288 | H13: =E13*44/12+F13*44/28/1000*298+G13*25/1000 -> 7.2
C14: Vådområde, 25-50 cm | D14: Permanent bevokset | E14: =($E$7-$E$13)/3 -> 2.8 | F14: =($F$7-$F$13)/3 -> 2.7333333 | G14: =$G$13/3*2+$G$7 -> 208 | H14: =E14*44/12+F14*44/28/1000*298+G14*25/1000 -> 16.746648
C15: Vådområde, 50-75 cm | D15: Permanent bevokset | E15: =($E$7-$E$13)/3*2 -> 5.6 | F15: =($F$7-$F$13)/3*2 -> 5.4666667 | G15: =$G$13/3*1+$G$7 -> 112 | H15: =E15*44/12+F15*44/28/1000*298+G15*25/1000 -> 25.893295
C16: Vådområde, >75 cm | D16: Permanent bevokset | E16: =($E$7-$E$13)/3*3 -> 8.4 | F16: =($F$7-$F$13)/3*3 -> 8.2 | G16: =$G$13/3*0+$G$7 -> 16 | H16: =E16*44/12+F16*44/28/1000*298+G16*25/1000 -> 35.039943
E19: C, ton C/ha/år | F19: N2O, kg N2O-N/ha/år | G19: CH4, kg CH4/ha/år | H19: CO2-ækv./ha/år
A20: 6-12 % OC | B20: Støtteberettiget | C20: Omdrift | E20: =E6/2 -> 5.75 | F20: =F6/2 -> 6.5 | G20: =G6/2 -> 0 | H20: =E20*44/12+F20*44/28/1000*298+G20*25/1000 -> 24.12719
B21: Støtteberettiget | C21: Vedvarende græs | E21: =E7/2 -> 4.2 | F21: =F7/2 -> 4.1 | G21: =G7/2 -> 8 | H21: =E21*44/12+F21*44/28/1000*298+G21*25/1000 -> 17.519971
B22: Støtteberettiget | C22: Naturarealer
B23: Omdrift, Støtteberettiget | C23: Skov | E23: =E9/2 -> 1.3 | F23: =F9/2 -> 1.4 | G23: =G9/2 -> 1.25 | H23: =E23*44/12+F23*44/28/1000*298+G23*25/1000 -> 5.4535167
B24: Støtteberettiget | C24: Energiafgrøde | D24: EF som skov | E24: =E10/2 -> 1.3 | F24: =F10/2 -> 1.4 | G24: =G10/2 -> 1.25 | H24: =E24*44/12+F24*44/28/1000*298+G24*25/1000 -> 5.4535167
B25: Støtteberettiget | C25: Buske og Frugttræer | D25: EF som skov | E25: =E11/2 -> 1.3 | F25: =F11/2 -> 1.4 | G25: =G11/2 -> 1.25 | H25: =E25*44/12+F25*44/28/1000*298+G25*25/1000 -> 5.4535167
B26: Omdrift, Støtteberettiget | C26: Fuldt vanddækket | E26: 0 | F26: 0 | G26: 0 | H26: =E26*44/12+F26*44/28/1000*298+G26*25/1000 -> 0
B27: Omdrift, Støtteberettiget | C27: Vådområde, 0-25 cm | D27: Permanent bevokset | E27: 0 | F27: 0 | G27: =288/2 -> 144 | H27: =E27*44/12+F27*44/28/1000*298+G27*25/1000 -> 3.6
B28: Omdrift, Støtteberettiget | C28: Vådområde, 25-50 cm | D28: Permanent bevokset | E28: =($E$21-$E$26)/3 -> 1.4 | F28: =($F$21-$F$26)/3 -> 1.3666667 | G28: =($G$27-$G$7)/3*2+$G$21 -> 93.333333 | H28: =E28*44/12+F28*44/28/1000*298+G28*25/1000 -> 8.1066571
B29: Omdrift, Støtteberettiget | C29: Vådområde, 50-75 cm | D29: Permanent bevokset | E29: =($E$21-$E$26)/3*2 -> 2.8 | F29: =($F$21-$F$26)/3*2 -> 2.7333333 | G29: =($G$27-$G$7)/3*1+$G$21 -> 50.666667 | H29: =E29*44/12+F29*44/28/1000*298+G29*25/1000 -> 12.813314
B30: Omdrift, Støtteberettiget | C30: Vådområde, >75 cm | D30: Permanent bevokset | E30: =($E$21-$E$27)/3*3 -> 4.2 | F30: =($F$21-$F$27)/3*3 -> 4.1 | G30: =($G$27-$G$7)/3*0+$G$21 -> 8 | H30: =E30*44/12+F30*44/28/1000*298+G30*25/1000 -> 17.519971
E34: C, ton C/ha/år | F34: N2O, kg N2O-N/ha/år | G34: CH4, kg CH4/ha/år | H34: CO2-ækv./ha/år
A35: Mineraljord | B35: Støtteberettiget | C35: Omdrift | E35: 0 | F35: 0 | G35: 0 | H35: =E35*44/12+F35*44/28/1000*298+G35*25/1000 -> 0
B36: Støtteberettiget | C36: Vedvarende græs | E36: 0 | F36: 0 | G36: 0 | H36: =E36*44/12+F36*44/28/1000*298+G36*25/1000 -> 0
B37: Støtteberettiget | C37: Naturarealer
B38: Støtteberettiget | C38: Skov | E38: 0 | F38: 0 | G38: 0 | H38: =E38*44/12+F38*44/28/1000*298+G38*25/1000 -> 0
B39: Støtteberettiget | C39: Energiafgrøde | D39: EF som skov | E39: 0 | F39: 0 | G39: 0 | H39: =E39*44/12+F39*44/28/1000*298+G39*25/1000 -> 0
B40: Støtteberettiget | C40: Buske og Frugttræer | D40: EF som skov | E40: =E26/2 -> 0 | F40: =F26/2 -> 0 | G40: =G26/2 -> 0 | H40: =E40*44/12+F40*44/28/1000*298+G40*25/1000 -> 0
B41: Omdrift, Støtteberettiget | C41: Fuldt vanddækket | E41: 0 | F41: 0 | G41: 0 | H41: =E41*44/12+F41*44/28/1000*298+G41*25/1000 -> 0
B42: Omdrift, Støtteberettiget | C42: Vådområde, 0-25 cm | D42: Permanent bevokset | E42: 0 | F42: 0 | G42: 0 | H42: =E42*44/12+F42*44/28/1000*298+G42*25/1000 -> 0
B43: Omdrift, Støtteberettiget | C43: Vådområde, 25-50 cm | D43: Permanent bevokset | E43: 0 | F43: 0 | G43: 0 | H43: =E43*44/12+F43*44/28/1000*298+G43*25/1000 -> 0
B44: Omdrift, Støtteberettiget | C44: Vådområde, 50-75 cm | D44: Permanent bevokset | E44: 0 | F44: 0 | G44: 0 | H44: =E44*44/12+F44*44/28/1000*298+G44*25/1000 -> 0
B45: Omdrift, Støtteberettiget | C45: Vådområde, >75 cm | D45: Permanent bevokset | E45: 0 | F45: 0 | G45: 0 | H45: =E45*44/12+F45*44/28/1000*298+G45*25/1000 -> 0
H49: ton CO2-ækv./kg N
A50: Udvaskning | H50: =0.0025*44/28*1.8*298/1000 -> 0.0021072857
C64: Gødningsnorm | D64: Udvaskning, rodzone, kg N/ha | E64: Udvaskning, vandløb, nudrift, kg N/ha | F64: Udvaskning, indre farvande, nudrift, kg N/ha | G64: Udvaskning, vandløb, efter etablering, kg N/ha | H64: Metan, CH4, kg/ha/år
C65: kg N/ha
B66: Permanent græs | C66: 70 | D66: =C66*0.34 -> 23.8 | E66: =D66*0.6*1 -> 14.28 | F66: =E66*0.8 -> 11.424 | G66: 0 | H66: 16
B67: Omdrift | C67: 110 | D67: =C67*0.34 -> 37.4 | E67: =D67*0.6*1 -> 22.44 | F67: =E67*0.8 -> 17.952 | G67: 0
B68: Øvrige områder | C68: 0 | D68: =C68*0.34 -> 0 | E68: =D68*0.6*1 -> 0 | F68: =E68*0.8 -> 0 | G68: 0
B69: Vådområde | G69: 0 | H69: 288

Sheet Afgrøder 2014
A1: HOESTAAR | B1: AFGROEDEKODE | C1: TEKST | D1: Afgrodetype | E1: Emissionsberegning | F1: Støtteberettiget til enkeltbetaling | G1: Typisk støttesats i Fastholdelse | H1: N-norm, kg N/ha | I1: Bemærkning
A2: 2014 | B2: 1 | C2: Vårbyg | D2: Omdrift | E2: Ja | F2: Ja | G2: 3500 | H2: 109
A3: 2014 | B3: 2 | C3: Vårhvede | D3: Omdrift | E3: Ja | F3: Ja | G3: 3500 | H3: 103
A4: 2014 | B4: 3 | C4: Havre | D4: Omdrift | E4: Ja | F4: Ja | G4: 3500 | H4: 86
A5: 2014 | B5: 4 | C5: Andre kornarter | D5: Omdrift | E5: Ja | F5: Ja | G5: 3500 | H5: 87
A6: 2014 | B6: 5 | C6: Majs til modenh | D6: Omdrift | E6: Ja | F6: Ja | G6: 3500 | H6: 135
A7: 2014 | B7: 6 | C7: Vårhvede, brødh | D7: Omdrift | E7: Ja | F7: Ja | G7: 3500 | H7: 161
A8: 2014 | B8: 7 | C8: Korn/bælgsæd ma | D8: Omdrift | E8: Ja | F8: Ja | G8: 3500 | H8: 52
A9: 2014 | B9: 10 | C9: Vinterbyg | D9: Omdrift | E9: Ja | F9: Ja | G9: 3500 | H9: 133
A10: 2014 | B10: 11 | C10: Vinterhvede | D10: Omdrift | E10: Ja | F10: Ja | G10: 3500 | H10: 142
A11: 2014 | B11: 13 | C11: Vinterhvede, br | D11: Omdrift | E11: Ja | F11: Ja | G11: 3500 | H11: 215
A12: 2014 | B12: 14 | C12: Vinterrug | D12: Omdrift | E12: Ja | F12: Ja | G12: 3500 | H12: 121
A13: 2014 | B13: 15 | C13: Hybridrug | D13: Omdrift | E13: Ja | F13: Ja | G13: 3500 | H13: 134
... A86: 2014 | B86: 253 | C86: Miljøgræs Mvj-t | D86: Permanent Græs | E86: Ja | F86: Ja | G86: 1800 | H86: 80
A87: 2014 | B87: 254 | C87: Miljøgræs Mvj-t | D87: Permanent Græs | E87: Ja | F87: Ja | G87: 1800 | H87: 0 | I87: Afgrødekoden bliver brugt til forskellige tilsagn (MVJ og Vådområder). Støttesatsen i Fastholdelse vil typisk være 1800, men den kan også være både 3500 og 300.
A88: 2014 | B88: 255 | C88: Permament græs | D88: Permanent Græs | E88: Ja | F88: Ja | G88: 1800 | H88: 231
A89: 2014 | B89: 256 | C89: Permanent græs | D89: Permanent Græs | E89: Ja | F89: Ja | G89: 1800 | H89: 63
A90: 2014 | B90: 257 | C90: Permanent græs | D90: Permanent Græs | E90: Ja | F90: Ja | G90: 1800 | H90: 315
A91: 2014 | B91: 258 | C91: Permanent græs, | D91: Permanent Græs | E91: Ja | F91: Ja | G91: 1800 | H91: 19
A92: 2014 | B92: 259 | C92: Permanent græs, | D92: Permanent Græs | E92: Ja | F92: Ja | G92: 1800 | H92: 179
A93: 2014 | B93: 260 | C93: Græs <50% kløve | D93: Omdrift | E93: Ja | F93: Ja | G93: 3500 | H93: 231 | I93: I 2014 kunne man indberette omdriftsgræs selv om arealet har ligget med græs i mange år, det kan man ikke længere i 2015, nu tjekkes et areals historik og man bliver tvunget til at bruge den korrekte afgrødekode. Så man kan ikke med sikerhed udfra afgrødekoden sige at det er græs i omdrift, men vi skal dog gå ud fra det. Tilskudssatsen vil som udgangspunkt være på 3500 kr, men en del vil også kun kunne opnå 1800 fordi de reelt er permanet græs.
A94: 2014 | B94: 261 | C94: Græs> 50% kløve | D94: Omdrift | E94: Ja | F94: Ja | G94: 3500 | H94: 63 | I94: I 2014 kunne man indberette omdriftsgræs selv om arealet har ligget med græs i mange år, det kan man ikke længere i 2015, nu tjekkes et areals historik og man bliver tvunget til at bruge den korrekte afgrødekode. Så man kan ikke med sikerhed udfra afgrødekoden sige at det er græs i omdrift, men vi skal dog gå ud fra det. Tilskudssatsen vil som udgangspunkt være på 3500 kr, men en del vil også kun kunne opnå 1800 fordi de reelt er permanet græs.
A95: 2014 | B95: 262 | C95: Lucerne, lucern | D95: Omdrift | E95: Ja | F95: Ja | G95: 3500 | H95: 63 | I95: I 2014 kunne man indberette omdriftsgræs selv om arealet har ligget med græs i mange år, det kan man ikke længere i 2015, nu tjekkes et areals historik og man bliver tvunget til at bruge den korrekte afgrødekode. Så man kan ikke med sikerhed udfra afgrødekoden sige at det er græs i omdrift, men vi skal dog gå ud fra det. Tilskudssatsen vil som udgangspunkt være på 3500 kr, men en del vil også kun kunne opnå 1800 fordi de reelt er permanet græs.
A96: 2014 | B96: 263 | C96: Græs uden kløve | D96: Omdrift | E96: Ja | F96: Ja | G96: 3500 | H96: 315 | I96: I 2014 kunne man indberette omdriftsgræs selv om arealet har ligget med græs i mange år, det kan man ikke længere i 2015, nu tjekkes et areals historik og man bliver tvunget til at bruge den korrekte afgrødekode. Så man kan ikke med sikerhed udfra afgrødekoden sige at det er græs i omdrift, men vi skal dog gå ud fra det. Tilskudssatsen vil som udgangspunkt være på 3500 kr, men en del vil også kun kunne opnå 1800 fordi de reelt er permanet græs.
A97: 2014 | B97: 264 | C97: Græs/kløvergræs | D97: Omdrift | E97: Ja | F97: Ja | G97: 3500 | H97: 0 | I97: I 2014 kunne man indberette omdriftsgræs selv om arealet har ligget med græs i mange år, det kan man ikke længere i 2015, nu tjekkes et areals historik og man bliver tvunget til at bruge den korrekte afgrødekode. Så man kan ikke med sikerhed udfra afgrødekoden sige at det er græs i omdrift, men vi skal dog gå ud fra det. Tilskudssatsen vil som udgangspunkt være på 3500 kr, men en del vil også kun kunne opnå 1800 fordi de reelt er permanet græs.
A98: 2014 | B98: 265 | C98: Græs, slæt før | D98: Omdrift | E98: Ja | F98: Ja | G98: 3500 | H98: 89 | I98: I 2014 kunne man indberette omdriftsgræs selv om arealet har ligget med græs i mange år, det kan man ikke længere i 2015, nu tjekkes et areals historik og man bliver tvunget til at bruge den korrekte afgrødekode. Så man kan ikke med sikerhed udfra afgrødekoden sige at det er græs i omdrift, men vi skal dog gå ud fra det. Tilskudssatsen vil som udgangspunkt være på 3500 kr, men en del vil også kun kunne opnå 1800 fordi de reelt er permanet græs.
A99: 2014 | B99: 266 | C99: Græs < 50% kløv | D99: Omdrift | E99: Ja | F99: Ja | G99: 3500 | H99: 25 | I99: I 2014 kunne man indberette omdriftsgræs selv om arealet har ligget med græs i mange år, det kan man ikke længere i 2015, nu tjekkes et areals historik og man bliver tvunget til at bruge den korrekte afgrødekode. Så man kan ikke med sikerhed udfra afgrødekoden sige at det er græs i omdrift, men vi skal dog gå ud fra det. Tilskudssatsen vil som udgangspunkt være på 3500 kr, men en del vil også kun kunne opnå 1800 fordi de reelt er permanet græs.
A100: 2014 | B100: 267 | C100: Græs <50% kløve | D100: Omdrift | E100: Ja | F100: Ja | G100: 3500 | H100: 67 | I100: I 2014 kunne man indberette omdriftsgræs selv om arealet har ligget med græs i mange år, det kan man ikke længere i 2015, nu tjekkes et areals historik og man bliver tvunget til at bruge den korrekte afgrødekode. Så man kan ikke med sikerhed udfra afgrødekoden sige at det er græs i omdrift, men vi skal dog gå ud fra det. Tilskudssatsen vil som udgangspunkt være på 3500 kr, men en del vil også kun kunne opnå 1800 fordi de reelt er permanet græs.
A101: 2014 | B101: 268 | C101: Græs < 50% kløv | D101: Omdrift | E101: Ja | F101: Ja | G101: 3500 | H101: 130 | I101: I 2014 kunne man indberette omdriftsgræs selv om arealet har ligget med græs i mange år, det kan man ikke længere i 2015, nu tjekkes et areals historik og man bliver tvunget til at bruge den korrekte afgrødekode. Så man kan ikke med sikerhed udfra afgrødekoden sige at det er græs i omdrift, men vi skal dog gå ud fra det. Tilskudssatsen vil som udgangspunkt være på 3500 kr, men en del vil også kun kunne opnå 1800 fordi de reelt er permanet græs.
A102: 2014 | B102: 269 | C102: Græs, rullegræs | D102: Omdrift | E102: Ja | F102: Ja | G102: 3500 | H102: 210 | I102: I 2014 kunne man indberette omdriftsgræs selv om arealet har ligget med græs i mange år, det kan man ikke længere i 2015, nu tjekkes et areals historik og man bliver tvunget til at bruge den korrekte afgrødekode. Så man kan ikke med sikerhed udfra afgrødekoden sige at det er græs i omdrift, men vi skal dog gå ud fra det. Tilskudssatsen vil som udgangspunkt være på 3500 kr, men en del vil også kun kunne opnå 1800 fordi de reelt er permanet græs.
A103: 2014 | B103: 270 | C103: Græs til udegri | D103: Omdrift | E103: Ja | F103: Ja | G103: 3500 | H103: 180 | I103: I 2014 kunne man indberette omdriftsgræs selv om arealet har ligget med græs i mange år, det kan man ikke længere i 2015, nu tjekkes et areals historik og man bliver tvunget til at bruge den korrekte afgrødekode. Så man kan ikke med sikerhed udfra afgrødekoden sige at det er græs i omdrift, men vi skal dog gå ud fra det. Tilskudssatsen vil som udgangspunkt være på 3500 kr, men en del vil også kun kunne opnå 1800 fordi de reelt er permanet græs.
A104: 2014 | B104: 271 | C104: Rekreative form | D104: Permanent Græs | E104: Ja | F104: Ja | G104: 300 | H104: 0
A105: 2014 | B105: 272 | C105: Permanent græs | D105: Permanent Græs | E105: Ja | F105: Ja | G105: 1800 | H105: 288
A106: 2014 | B106: 273 | C106: Permanent lucer | D106: Permanent Græs | E106: Ja | F106: Ja | G106: 1800 | H106: 0
A107: 2014 | B107: 274 | C107: Perm. lucerne m | D107: Permanent Græs | E107: Ja | F107: Ja | G107: 1800 | H107: 63
A108: 2014 | B108: 275 | C108: Permanent rulle | D108: Permanent Græs | E108: Ja | F108: Ja | G108: 1800 | H108: 177
A109: 2014 | B109: 276 | C109: Permanent græs/ | D109: Permanent Græs | E109: Ja | F109: Ja | G109: 1800 | H109: 0
A110: 2014 | B110: 277 | C110: Permanent kløve | D110: Permanent Græs | E110: Ja | F110: Ja | G110: 1800 | H110: 0
A111: 2014 | B111: 278 | C111: Perm.græs og lu | D111: Permanent Græs | E111: Ja | F111: Ja | G111: 1800 | H111: 63
A112: 2014 | B112: 279 | C112: Permanent græs | D112: Permanent Græs | E112: Ja | F112: Ja | G112: 1800 | H112: 198
A113: 2014 | B113: 280 | C113: Fodersukkerroer | D113: Omdrift | E113: Ja | F113: Ja | G113: 3500 | H113: 168
A114: 2014 | B114: 281 | C114: Kålroer | D114: Omdrift | E114: Ja | F114: Ja | G114: 3500 | H114: 151
A115: 2014 | B115: 282 | C115: Fodermarvkål | D115: Omdrift | E115: Ja | F115: Ja | G115: 3500 | H115: 101
... A121: 2014 | B121: 313 | C121: 20-årig udtagning med skov | D121: Skov | E121: Ja | F121: Ja, i visse tilfælde pga undtagelsesbestemmelsen i artikel 32. Et gæt er at 80 %v il være støtteberettiget til Enkeltbetaling | G121: 1800 | H121: 0
A122: 2014 | B122: 317 | C122: Vådområder med udtagning | D122: Vådområde | E122: Nej | F122: Nej | G122: 0 | H122: 0 | I122: Ikke aktuelt
A123: 2014 | B123: 318 | C123: Mvj ej udtagning | D123: Permanent græs | E123: ja | F123: Ja, i visse tilfælde pga undtagelsesbestemmelsen i artikel 32. Et gæt er at 50 %v il være støtteberettiget til Enkeltbetaling | G123: 1800 | H123: 0 | I123: Arealet har et tilsagn til enten vådområde eller MVJ
A124: 2014 | B124: 319 | C124: Mvj udtagning, ej landbrugsjord | D124: Udyrket | E124: ja | F124: Ja, i visse tilfælde pga undtagelsesbestemmelsen i artikel 32. Et gæt er at 80 %v il være støtteberettiget til Enkeltbetaling | G124: 3500 | H124: 0 | I124: Arealet har et tilsagn til enten vådområde eller MVJ
A125: 2014 | B125: 320 | C125: Braklagte randz | D125: Udyrket | E125: ja | F125: De fleste vil være støtteberettiget | G125: 1800 | H125: 0 | I125: Kan være både 3500 og 1800
A126: 2014 | B126: 321 | C126: Miljøtiltag, ej | D126: Vådområde | E126: Nej | F126: Ja, i visse tilfælde pga undtagelsesbestemmelsen i artikel 32. Et gæt er at 50 %v il være støtteberettiget til Enkeltbetaling | G126: 0 | H126: 0 | I126: De fleste af disse arealer vil have en tinglyst vådområdedeklaration, men der er ikke tilsagn på arealet.
A127: 2014 | B127: 400 | C127: Asier | D127: Omdrift | E127: Ja | F127: Ja | G127: 3500 | H127: 120
A128: 2014 | B128: 401 | C128: Asparges | D128: Omdrift | E128: Ja | F128: Ja | G128: 3500 | H128: 150
A129: 2014 | B129: 402 | C129: Bladselleri | D129: Omdrift | E129: Ja | F129: Ja | G129: 3500 | H129: 200
A130: 2014 | B130: 403 | C130: Blomkål | D130: Omdrift | E130: Ja | F130: Ja | G130: 3500 | H130: 240
A131: 2014 | B131: 404 | C131: Broccoli | D131: Omdrift | E131: Ja | F131: Ja | G131: 3500 | H131: 200
A132: 2014 | B132: 405 | C132: Courgette, squa | D132: Omdrift | E132: Ja | F132: Ja | G132: 3500 | H132: 135
A133: 2014 | B133: 406 | C133: Grønkål | D133: Omdrift | E133: Ja | F133: Ja | G133: 3500 | H133: 170
A134: 2014 | B134: 407 | C134: Gulerod | D134: Omdrift | E134: Ja | F134: Ja | G134: 3500 | H134: 110
A135: 2014 | B135: 408 | C135: Hvidkål | D135: Omdrift | E135: Ja | F135: Ja | G135: 3500 | H135: 270
A136: 2014 | B136: 409 | C136: Kinakål | D136: Omdrift | E136: Ja | F136: Ja | G136: 3500 | H136: 180
A137: 2014 | B137: 410 | C137: Knoldselleri | D137: Omdrift | E137: Ja | F137: Ja | G137: 3500 | H137: 220
A138: 2014 | B138: 411 | C138: Løg | D138: Omdrift | E138: Ja | F138: Ja | G138: 3500 | H138: 150
... A210: 2014 | B210: 563 | C210: Svampe, champig | D210: Ikke Støtteberettiget | E210: Nej | F210: Nej | G210: 3500 | H210: 0
A211: 2014 | B211: 570 | C211: Humle | D211: Ikke Støtteberettiget | E211: ja | F211: Nej | G211: 3500 | H211: 175 | I211: Humle kan modtage støtte, men er som regel en flerårig plante hvilket der bør tages hensyn til i beregningen
A212: 2014 | B212: 579 | C212: Tagetes, sygdom | D212: Ikke Støtteberettiget | E212: ja | F212: Nej | G212: 3500 | H212: 0 | I212: støtteberettiget hvis den dyrkes på landbrugsjord, men det er nok sjældent man vil støde på denne her i forbindelse med projekter
A213: 2014 | B213: 580 | C213: Skovdrift, alm. | D213: Skov | E213: ja | F213: Nej | G213: 0 | H213: 0 | I213: nej, emmissionsmæssig bør alt skov ses som det samme uanset om det er støtteberettiget eller ej
A214: 2014 | B214: 581 | C214: Nyplantning i s | D214: Skov | E214: ja | F214: Nej | G214: 0 | H214: 15 | I214: nej
A215: 2014 | B215: 582 | C215: Pyntegrønt, øko | D215: Skov | E215: ja | F215: ja | G215: 0 | H215: 0 | I215: nej
A216: 2014 | B216: 583 | C216: Juletræer/pynte | D216: Skov | E216: ja | F216: Nej | G216: 3500 | H216: 90 | I216: nej, men træerne bliver jo omlagt en gang hver 7.-10- år så der er en hvis emmission.
A217: 2014 | B217: 585 | C217: Skovrejsn. i pr | D217: Skov | E217: ja | F217: Nej | G217: 0 | H217: 0 | I217: nej
A218: 2014 | B218: 586 | C218: Offentlig skovr | D218: Skov | E218: ja | F218: Nej | G218: 0 | H218: 0 | I218: ja
A219: 2014 | B219: 587 | C219: Skovrejsning på | D219: Skov | E219: ja | F219: Nej | G219: 0 | H219: 0 | I219: ja
A220: 2014 | B220: 588 | C220: Statslig skovre | D220: Skov | E220: ja | F220: Nej | G220: 0 | H220: 0 | I220: ja
A221: 2014 | B221: 589 | C221: Bæredygtig skov | D221: Skov | E221: ja | F221: Nej | G221: 0 | H221: 0 | I221: nej
A222: 2014 | B222: 591 | C222: Lavskov | D222: Skov | E222: ja | F222: ja | G222: 3500 | H222: 100 | I222: ja
A223: 2014 | B223: 592 | C223: Pil | D223: Energiafgrøde | E223: ja | F223: ja | G223: 3500 | H223: 120
A224: 2014 | B224: 593 | C224: Poppel | D224: Energiafgrøde | E224: ja | F224: ja | G224: 3500 | H224: 120
A225: 2014 | B225: 594 | C225: El | D225: Skov | E225: ja | F225: ja | G225: 3500 | H225: 75
A226: 2014 | B226: 596 | C226: Elefantgræs | D226: Energiafgrøde | E226: ja | F226: ja | G226: 3500 | H226: 75
A227: 2014 | B227: 597 | C227: Rørgræs | D227: Ikke Støtteberettiget | E227: ja | F227: ja | G227: 3500 | H227: 75
A228: 2014 | B228: 598 | C228: Sorrel | D228: Ikke Støtteberettiget | E228: ja | F228: ja | G228: 3500 | H228: 150
A229: 2014 | B229: 650 | C229: Chrysanthemum G | D229: Omdrift | E229: Ja | F229: Ja | G229: 3500 | H229: 60
A230: 2014 | B230: 651 | C230: Dildfrø | D230: Omdrift | E230: Ja | F230: Ja | G230: 3500 | H230: 90
A231: 2014 | B231: 652 | C231: Kinesisk kålfrø | D231: Omdrift | E231: Ja | F231: Ja | G231: 3500 | H231: 140
A232: 2014 | B232: 653 | C232: Karsefrø | D232: Omdrift | E232: Ja | F232: Ja | G232: 3500 | H232: 120
A233: 2014 | B233: 654 | C233: Roquettefrø | D233: Omdrift | E233: Ja | F233: Ja | G233: 3500 | H233: 110
A234: 2014 | B234: 655 | C234: Radissefrø | D234: Omdrift | E234: Ja | F234: Ja | G234: 3500 | H234: 120
... A248: 2014 | B248: 669 | C248: Andet havefrø | D248: Omdrift | E248: Ja | F248: Ja | G248: 3500 | H248: 110
A249: 2014 | B249: 900 | C249: Øvrige afgrøder | D249: Ikke Støtteberettiget | E249: Nej | F249: Nej | G249: 0 | H249: 60 | I249: Støttesatsen bør nok afgøres i hvert enkelt tilfælde. Der findes ikke mange marker med denne kode.
A250: 2014 | B250: 903 | C250: Lysåbne arealer | D250: Ikke Støtteberettiget | E250: Nej | F250: Nej | G250: 1800 | H250: 0
A251: 2014 | B251: 905 | C251: Anden anvendelse | D251: Ikke Støtteberettiget | E251: Nej | F251: Nej | G251: 0 | H251: 0 | I251: dette er ofte arealer der er udgået af produktion, fx når der er bygget en gylletank på et areal med øko tilsagn.
A252: 2014 | B252: 906 | C252: Afmeldte arealer | D252: Ikke Støtteberettiget | E252: Nej | F252: Nej | G252: 300 | H252: 0
A253: 2014 | B253: 907 | C253: Økologisk naturarealer | D253: Ikke Støtteberettiget | E253: Nej | F253: Nej | G253: 300 | H253: 0
A254: 2014 | B254: 908 | C254: Naturarealer, ansøgning om miljøtilsagn | D254: Ikke Støtteberettiget | E254: Nej | F254: Nej | G254: 300 | H254: 0
A255: 2014 | B255: 910 | C255: Ikke anmeldt mark | D255: Ikke Støtteberettiget | E255: Nej | F255: Nej | G255: 1800 | H255: 0
A256: 2014 | B256: 998 | C256: Ukendt afgrøde | D256: Ikke Støtteberettiget | E256: Nej | F256: Nej | G256: 0 | H256: 0
A257: 2014 | B257: 999 | C257: Ugyldig afgrøde | D257: Ikke Støtteberettiget | E257: Nej | F257: Nej | G257: 0 | H257: 0
A258: 2014 | B258: 9996 | C258: Ukendt skov | D258: Skov | E258: Ja | F258: Ja | G258: 0 | H258: 0
A259: 2014 | B259: 9997 | C259: Ukendt afgrøde | D259: Omdrift | E259: Ja | F259: Ja | G259: 3500 | H259: 110
A260: 2014 | B260: 9998 | C260: Ukendt græs u. for omdrift | D260: Permanent Græs | E260: Ja | F260: Ja | G260: 1800 | H260: 70
