Workbook

Sheet Introduktion
A1: Introduktion, Regneark til beregning af CO2 udledning - drivhusgaseffekten ved udtagning af organiske lavbundsjorder, Version 2.0.1
A2: 7 november 2017
B4: Dette regneark er udarbejdet til at beregne CO2 effekten ved udtagning af organiske jorde/etablering af vådområder under Lavbundsordningen.
B6: Regnarket består følgende sider:
B7: Aktiv udtag - CO2 beregning
B8: Faneblad til indtastning af jordprøver
B9: Faneblad til indtastning af tørvelagets tykkelse
B10: Liste over afgrøder med GLR afgrødekoder i 2014 (Afgrøder 2014)
B11: Anvendte emissionsfaktorer
B13: Indtastningsfelterne er opbygget som en matrice hvor de forskellige arealkombinationer SKAL passe sammen. Hvis ikke, vil der fremkomme en meddelelse om "FEJL i AREALER"
B14: Der anvendes forskellige farvekoder:
B15: Indtastningsfelter
B16: Mellemregninger
B17: CO2 beregninger
... B66: Steen Gyldenkærne, Inst. for Miljøvidenskab, DCE, Aarhus Universitet
B67: =A2 -> 7 november 2017
B68: e-mail: sgy@envs.au.dk
B69: tlf. 871 58543
A72: Ændring i forhold til version 2.0.
B73: Korrigering af arealberegningen for ikke støtteberettigede GLR koder i del 2. (Ekstra linje med ha angivelse indført)
B74: Afgrødekode 312 (udyrket med 20-årig udtagning) indgår nu i emissionsberegningen for nu-drift med en emission som fuldt drænet permanent græs.
B75: Afgrødekode 906 (afmeldte arealer) indgår ikke i emissionsberegningen.

Sheet Aktiv udtag - CO2 beregning
A1: Aktiv udtagning - CO2 beregning - drivhusgaseffekten ved udtagning af organiske lavbundsjorde, Version 2.0.1
H3: Dato for oprettelse:
H4: Dato for sidste lagring:
A5: Projektansøgnings ID: | D5: Venø Nord efu
A6: Total projektareal, ha | D6: 17.9888
A8: Del 1
A9: Før omlægning
A10: Løbenummer | B10: Evt. Markblok- nummer | C10: GLR Afgrødekode | D10: Afgrødetekst | E10: Afgrødetype | F10: Areal i alt | G10: Areal på => 12% OC, ha | H10: Areal på 6-12 % OC (JB11), ha | I10: Mineraljord, 0-6% OC, ha | J10: Areal kontrol tjek | K10: CO2-ækv., tons i alt/år
C11: 254 | D11: =IF(ISBLANK(C11)," ",IFERROR(IF(MATCH(C11,'Afgrøder 2014'!$B$2:$B$260,0),VLOOKUP(C11,'Afgrøder 2014'!$B$2:$H$260,2)),"Ukendt")) -> Miljøgræs Mvj-t | E11: =IF(ISBLANK(C11)," ",IFERROR(IF(MATCH(C11,'Afgrøder 2014'!$B$2:$B$260,0),VLOOKUP(C11,'Afgrøder 2014'!$B$2:$H$260,3)),"Ukendt")) -> Permanent Græs | F11: 6.0987 | G11: 0 | H11: 1.9613 | I11: 4.1374 | J11: =IF(SUM(G11:I11)<>F11,"Fejl i arealer",IF(SUM(G11:I11)=0, "", "OK")) -> OK | K11: =IF(ISBLANK(F11),"",IF(D11=FALSE," ", SUM(beregninger!A9:G9))) -> 34.36192
C12: 264 | D12: =IF(ISBLANK(C12)," ",IFERROR(IF(MATCH(C12,'Afgrøder 2014'!$B$2:$B$260,0),VLOOKUP(C12,'Afgrøder 2014'!$B$2:$H$260,2)),"Ukendt")) -> Græs/kløvergræs | E12: =IF(ISBLANK(C12)," ",IFERROR(IF(MATCH(C12,'Afgrøder 2014'!$B$2:$B$260,0),VLOOKUP(C12,'Afgrøder 2014'!$B$2:$H$260,3)),"Ukendt")) -> Omdrift | F12: 7.1426 | G12: 0 | H12: 1.6197 | I12: 5.5229 | J12: =IF(SUM(G12:I12)<>F12,"Fejl i arealer",IF(SUM(G12:I12)=0, "", "OK")) -> OK | K12: =IF(ISBLANK(F12),"",IF(D12=FALSE," ", SUM(beregninger!A10:G10))) -> 39.07881
C13: 271 | D13: =IF(ISBLANK(C13)," ",IFERROR(IF(MATCH(C13,'Afgrøder 2014'!$B$2:$B$260,0),VLOOKUP(C13,'Afgrøder 2014'!$B$2:$H$260,2)),"Ukendt")) -> Rekreative form | E13: =IF(ISBLANK(C13)," ",IFERROR(IF(MATCH(C13,'Afgrøder 2014'!$B$2:$B$260,0),VLOOKUP(C13,'Afgrøder 2014'!$B$2:$H$260,3)),"Ukendt")) -> Permanent Græs | F13: 1.0277 | G13: 0 | H13: 0.4546 | I13: 0.5731 | J13: =IF(SUM(G13:I13)<>F13,"Fejl i arealer",IF(SUM(G13:I13)=0, "", "OK")) -> OK | K13: =IF(ISBLANK(F13),"",IF(D13=FALSE," ", SUM(beregninger!A11:G11))) -> 7.964579
D14: =IF(ISBLANK(C14)," ",IFERROR(IF(MATCH(C14,'Afgrøder 2014'!$B$2:$B$260,0),VLOOKUP(C14,'Afgrøder 2014'!$B$2:$H$260,2)),"Findes ikke i GLR 2014")) | E14: =IF(ISBLANK(C14)," ",IFERROR(IF(MATCH(C14,'Afgrøder 2014'!$B$2:$B$260,0),VLOOKUP(C14,'Afgrøder 2014'!$B$2:$H$260,3)),"Findes ikke i GLR 2014")) | J14: =IF(SUM(G14:I14)<>F14,"Fejl i arealer",IF(SUM(G14:I14)=0, "", "OK")) | K14: =IF(ISBLANK(F14),"",IF(D14=FALSE," ", SUM(beregninger!A12:G12)))
D15: =IF(ISBLANK(C15)," ",IFERROR(IF(MATCH(C15,'Afgrøder 2014'!$B$2:$B$260,0),VLOOKUP(C15,'Afgrøder 2014'!$B$2:$H$260,2)),"Ukendt")) | E15: =IF(ISBLANK(C15)," ",IFERROR(IF(MATCH(C15,'Afgrøder 2014'!$B$2:$B$260,0),VLOOKUP(C15,'Afgrøder 2014'!$B$2:$H$260,3)),"Ukendt")) | J15: =IF(SUM(G15:I15)<>F15,"Fejl i arealer",IF(SUM(G15:I15)=0, "", "OK")) | K15: =IF(ISBLANK(F15),"",IF(D15=FALSE," ", SUM(beregninger!A13:G13)))
D16: =IF(ISBLANK(C16)," ",IFERROR(IF(MATCH(C16,'Afgrøder 2014'!$B$2:$B$260,0),VLOOKUP(C16,'Afgrøder 2014'!$B$2:$H$260,2)),"Ukendt")) | E16: =IF(ISBLANK(C16)," ",IFERROR(IF(MATCH(C16,'Afgrøder 2014'!$B$2:$B$260,0),VLOOKUP(C16,'Afgrøder 2014'!$B$2:$H$260,3)),"Ukendt")) | J16: =IF(SUM(G16:I16)<>F16,"Fejl i arealer",IF(SUM(G16:I16)=0, "", "OK")) | K16: =IF(ISBLANK(F16),"",IF(D16=FALSE," ", SUM(beregninger!A14:G14)))
D17: =IF(ISBLANK(C17)," ",IFERROR(IF(MATCH(C17,'Afgrøder 2014'!$B$2:$B$260,0),VLOOKUP(C17,'Afgrøder 2014'!$B$2:$H$260,2)),"Ukendt")) | E17: =IF(ISBLANK(C17)," ",IFERROR(IF(MATCH(C17,'Afgrøder 2014'!$B$2:$B$260,0),VLOOKUP(C17,'Afgrøder 2014'!$B$2:$H$260,3)),"Ukendt")) | J17: =IF(SUM(G17:I17)<>F17,"Fejl i arealer",IF(SUM(G17:I17)=0, "", "OK")) | K17: =IF(ISBLANK(F17),"",IF(D17=FALSE," ", SUM(beregninger!A15:G15)))
D18: =IF(ISBLANK(C18)," ",IFERROR(IF(MATCH(C18,'Afgrøder 2014'!$B$2:$B$260,0),VLOOKUP(C18,'Afgrøder 2014'!$B$2:$H$260,2)),"Ukendt")) | E18: =IF(ISBLANK(C18)," ",IFERROR(IF(MATCH(C18,'Afgrøder 2014'!$B$2:$B$260,0),VLOOKUP(C18,'Afgrøder 2014'!$B$2:$H$260,3)),"Ukendt")) | J18: =IF(SUM(G18:I18)<>F18,"Fejl i arealer",IF(SUM(G18:I18)=0, "", "OK")) | K18: =IF(ISBLANK(F18),"",IF(D18=FALSE," ", SUM(beregninger!A16:G16)))
D19: =IF(ISBLANK(C19)," ",IFERROR(IF(MATCH(C19,'Afgrøder 2014'!$B$2:$B$260,0),VLOOKUP(C19,'Afgrøder 2014'!$B$2:$H$260,2)),"Ukendt")) | E19: =IF(ISBLANK(C19)," ",IFERROR(IF(MATCH(C19,'Afgrøder 2014'!$B$2:$B$260,0),VLOOKUP(C19,'Afgrøder 2014'!$B$2:$H$260,3)),"Ukendt")) | J19: =IF(SUM(G19:I19)<>F19,"Fejl i arealer",IF(SUM(G19:I19)=0, "", "OK")) | K19: =IF(ISBLANK(F19),"",IF(D19=FALSE," ", SUM(beregninger!A17:G17)))
D20: =IF(ISBLANK(C20)," ",IFERROR(IF(MATCH(C20,'Afgrøder 2014'!$B$2:$B$260,0),VLOOKUP(C20,'Afgrøder 2014'!$B$2:$H$260,2)),"Ukendt")) | E20: =IF(ISBLANK(C20)," ",IFERROR(IF(MATCH(C20,'Afgrøder 2014'!$B$2:$B$260,0),VLOOKUP(C20,'Afgrøder 2014'!$B$2:$H$260,3)),"Ukendt")) | J20: =IF(SUM(G20:I20)<>F20,"Fejl i arealer",IF(SUM(G20:I20)=0, "", "OK")) | K20: =IF(ISBLANK(F20),"",IF(D20=FALSE," ", SUM(beregninger!A18:G18)))
D21: =IF(ISBLANK(C21)," ",IFERROR(IF(MATCH(C21,'Afgrøder 2014'!$B$2:$B$260,0),VLOOKUP(C21,'Afgrøder 2014'!$B$2:$H$260,2)),"Ukendt")) | E21: =IF(ISBLANK(C21)," ",IFERROR(IF(MATCH(C21,'Afgrøder 2014'!$B$2:$B$260,0),VLOOKUP(C21,'Afgrøder 2014'!$B$2:$H$260,3)),"Ukendt")) | J21: =IF(SUM(G21:I21)<>F21,"Fejl i arealer",IF(SUM(G21:I21)=0, "", "OK")) | K21: =IF(ISBLANK(F21),"",IF(D21=FALSE," ", SUM(beregninger!A19:G19)))
D22: =IF(ISBLANK(C22)," ",IFERROR(IF(MATCH(C22,'Afgrøder 2014'!$B$2:$B$260,0),VLOOKUP(C22,'Afgrøder 2014'!$B$2:$H$260,2)),"Ukendt")) | E22: =IF(ISBLANK(C22)," ",IFERROR(IF(MATCH(C22,'Afgrøder 2014'!$B$2:$B$260,0),VLOOKUP(C22,'Afgrøder 2014'!$B$2:$H$260,3)),"Ukendt")) | J22: =IF(SUM(G22:I22)<>F22,"Fejl i arealer",IF(SUM(G22:I22)=0, "", "OK")) | K22: =IF(ISBLANK(F22),"",IF(D22=FALSE," ", SUM(beregninger!A20:G20)))
D23: =IF(ISBLANK(C23)," ",IFERROR(IF(MATCH(C23,'Afgrøder 2014'!$B$2:$B$260,0),VLOOKUP(C23,'Afgrøder 2014'!$B$2:$H$260,2)),"Ukendt")) | E23: =IF(ISBLANK(C23)," ",IFERROR(IF(MATCH(C23,'Afgrøder 2014'!$B$2:$B$260,0),VLOOKUP(C23,'Afgrøder 2014'!$B$2:$H$260,3)),"Ukendt")) | J23: =IF(SUM(G23:I23)<>F23,"Fejl i arealer",IF(SUM(G23:I23)=0, "", "OK")) | K23: =IF(ISBLANK(F23),"",IF(D23=FALSE," ", SUM(beregninger!A21:G21)))
D24: =IF(ISBLANK(C24)," ",IFERROR(IF(MATCH(C24,'Afgrøder 2014'!$B$2:$B$260,0),VLOOKUP(C24,'Afgrøder 2014'!$B$2:$H$260,2)),"Ukendt")) | E24: =IF(ISBLANK(C24)," ",IFERROR(IF(MATCH(C24,'Afgrøder 2014'!$B$2:$B$260,0),VLOOKUP(C24,'Afgrøder 2014'!$B$2:$H$260,3)),"Ukendt")) | J24: =IF(SUM(G24:I24)<>F24,"Fejl i arealer",IF(SUM(G24:I24)=0, "", "OK")) | K24: =IF(ISBLANK(F24),"",IF(D24=FALSE," ", SUM(beregninger!A22:G22)))
D25: =IF(ISBLANK(C25)," ",IFERROR(IF(MATCH(C25,'Afgrøder 2014'!$B$2:$B$260,0),VLOOKUP(C25,'Afgrøder 2014'!$B$2:$H$260,2)),"Ukendt")) | E25: =IF(ISBLANK(C25)," ",IFERROR(IF(MATCH(C25,'Afgrøder 2014'!$B$2:$B$260,0),VLOOKUP(C25,'Afgrøder 2014'!$B$2:$H$260,3)),"Ukendt")) | J25: =IF(SUM(G25:I25)<>F25,"Fejl i arealer",IF(SUM(G25:I25)=0, "", "OK")) | K25: =IF(ISBLANK(F25),"",IF(D25=FALSE," ", SUM(beregninger!A23:G23)))
D26: =IF(ISBLANK(C26)," ",IFERROR(IF(MATCH(C26,'Afgrøder 2014'!$B$2:$B$260,0),VLOOKUP(C26,'Afgrøder 2014'!$B$2:$H$260,2)),"Ukendt")) | E26: =IF(ISBLANK(C26)," ",IFERROR(IF(MATCH(C26,'Afgrøder 2014'!$B$2:$B$260,0),VLOOKUP(C26,'Afgrøder 2014'!$B$2:$H$260,3)),"Ukendt")) | J26: =IF(SUM(G26:I26)<>F26,"Fejl i arealer",IF(SUM(G26:I26)=0, "", "OK")) | K26: =IF(ISBLANK(F26),"",IF(D26=FALSE," ", SUM(beregninger!A24:G24)))
... D31: =IF(ISBLANK(C31)," ",IFERROR(IF(MATCH(C31,'Afgrøder 2014'!$B$2:$B$260,0),VLOOKUP(C31,'Afgrøder 2014'!$B$2:$H$260,2)),"Ukendt")) | E31: =IF(ISBLANK(C31)," ",IFERROR(IF(MATCH(C31,'Afgrøder 2014'!$B$2:$B$260,0),VLOOKUP(C31,'Afgrøder 2014'!$B$2:$H$260,3)),"Ukendt")) | J31: =IF(SUM(G31:I31)<>F31,"Fejl i arealer",IF(SUM(G31:I31)=0, "", "OK")) | K31: =IF(ISBLANK(F31),"",IF(D31=FALSE," ", SUM(beregninger!A29:G29)))
A32: Arealer med GLR koder, ha | F32: =SUM(F11:F31) -> 14.269 | G32: =SUM(G11:G31) -> 0 | H32: =SUM(H11:H31) -> 4.0356 | I32: =SUM(I11:I31) -> 10.2334
A33: Naturarealer, ha (ej vanddækket) | D33: Uspecificeret | F33: 3.7198 | G33: 0 | H33: 0.3151 | I33: 3.4047 | J33: =IF(SUM(G33:I33)<>F33,"Fejl i arealer",IF(SUM(G33:I33)=0, "", "OK")) -> OK | K33: Disse arealer indgår ikke i CO2 opgørelsen for nudrift
A34: Vanddækket areal, ha | D34: Vanddækket | J34: OK
A35: Areal sum | F35: =SUM(F11:F31)+F33+F34 -> 17.9888 | G35: =SUM(G11:G31)+G33 -> 0 | H35: =SUM(H11:H31)+H33 -> 4.3507 | I35: =SUM(I11:I31)+I33 -> 13.6381 | J35: =IF(SUM(G35:I35)+F34<>D6,"Fejl i arealer",IF(SUM(G35:I35)=0, "", "OK")) -> OK
K38: Tons CO2-ækvivalenter/år
A39: I alt for arealer med GLR-koder for projektområdet inden omlægning | K39: =IF(D6<(F32),"Fejl i arealer", SUM(K11:K31)) -> 81.405309
A40: Gennemsnit per ha inden for projektområdet ved nudrift, uden evt. emission fra naturarealer | K40: =K39/D6 -> 4.525333
A42: Del 2
B43: CO2 udledning efter omlægning, tons CO2-ækv./projektområde
G44: Areal, =>12 %OC, ha | H44: Areal, 6-12 %OC, ha | I44: Areal, Mineraljord, 0-6 % OC, ha | J44: Hektar i alt, ha | K44: CO2-ækv. tons i alt/år/projektområde, efter omlægning
B45: Løbenummer | C45: Tidligere fuldt vanddækket | F45: =F34 -> 0
A46: Hektar med GLR koder | B46: 1 | D46: Nyt fuldt vanddækket | G46: 0 | H46: 1.514 | I46: 1.9317 | J46: =SUM(G46:I46) -> 3.4457 | K46: =G46*Emissionsfaktorer!H12+H46*Emissionsfaktorer!H26+'Aktiv udtag - CO2 beregning'!I46*Emissionsfaktorer!H41 -> 0
B47: 1 | D47: 0-25 cm til mættet zone | G47: 0 | H47: 0.2286 | I47: 1.0537 | J47: =SUM(G47:I47) -> 1.2823 | K47: =G47*Emissionsfaktorer!H13+H47*Emissionsfaktorer!H27+'Aktiv udtag - CO2 beregning'!I47*Emissionsfaktorer!H42 -> 0.82296
B48: 1 | D48: 25-50 cm til mættet zone | G48: 0 | H48: 0.0977 | I48: 1.0884 | J48: =SUM(G48:I48) -> 1.1861 | K48: =G48*Emissionsfaktorer!H14+H48*Emissionsfaktorer!H28+'Aktiv udtag - CO2 beregning'!I48*Emissionsfaktorer!H43 -> 0.7920204
B49: 1 | D49: 50-75 cm til mættet zone | G49: 0 | H49: 0.5673 | I49: 1.787 | J49: =SUM(G49:I49) -> 2.3543 | K49: =G49*Emissionsfaktorer!H15+H49*Emissionsfaktorer!H29+'Aktiv udtag - CO2 beregning'!I49*Emissionsfaktorer!H44 -> 7.2689932
...

Sheet Jordprøver
A1: Udtagning af jordprøver
A3: Projekt nummer:
A4: Adresse:
A7: Løbe- nummer | B7: Prøve- nummer | C7: Løbenummer | D7: Udtagningsdato | E7: Prøveudtager | F7: Sendt til laboratorie, dato, format: dato-måned-år | G7: UTM 32, X-Koordinat | H7: UTM 32, Y-Koordinat | I7: Afgrøde, bevoksning (skriv tekst) | J7: Prøve- udtagnings- dybde, cm | K7: Tykkelse af organisk lag, cm, se vejledning | L7: Prøveudtagningsmetode (spade, bor,, diameter og andet) | M7: Vandstand ved prøveudtagning | N7: Bemærkninger
A8: 1
A9: 2
A10: 3
A11: 4
A12: 5
A13: 6
A14: 7
A15: 8
A16: 9
A17: 10
A18: 11
A19: 12
... A22: 15

Sheet beregninger
F7: EF som skov
A8: Omdrift | B8: Perm græs | C8: Vådområde | D8: Skov | E8: Naturområde | F8: Buske og Frugttræer | G8: Energiafgrøde | I8: Støtte- berettiget | J8: Ha, Øvrige GLR koder
A9: =IF(ISBLANK('Aktiv udtag - CO2 beregning'!F11),"",IF('Aktiv udtag - CO2 beregning'!D11=FALSE," ", IF('Aktiv udtag - CO2 beregning'!J11="OK",IF('Aktiv udtag - CO2 beregning'!E11<>"Omdrift","",(IF(beregninger!I9="Nej",0,IF(beregninger!I9="Ja",IF('Aktiv udtag - CO2 beregning'!E11="Omdrift", 'Aktiv udtag - CO2 beregning'!G11*Emissionsfaktorer!$H$6+'Aktiv udtag - CO2 beregning'!$H11*Emissionsfaktorer!$H$20+'Aktiv udtag - CO2 beregning'!$I11*Emissionsfaktorer!$H$35))+((IF('Aktiv udtag - CO2 beregning'!C11<1," ",VLOOKUP('Aktiv udtag - CO2 beregning'!C11,'Afgrøder 2014'!$B$2:$H$260,7))*0.01*44/28)*298/1000+(IF('Aktiv udtag - CO2 beregning'!C11<1," ",VLOOKUP('Aktiv udtag - CO2 beregning'!C11,'Afgrøder 2014'!$B$2:$H$260,7))*0.34*0.0025*44/28)*298/1000+(IF('Aktiv udtag - CO2 beregning'!C11<1," ",VLOOKUP('Aktiv udtag - CO2 beregning'!C11,'Afgrøder 2014'!$B$2:$H$260,7))*0.34*0.6*0.0025*44/28)*298/1000)*SUM('Aktiv udtag - CO2 beregning'!G11:I11)))),""))) | B9: =IF(ISBLANK('Aktiv udtag - CO2 beregning'!F11),"",IF('Aktiv udtag - CO2 beregning'!D11=FALSE," ", IF('Aktiv udtag - CO2 beregning'!J11="OK",IF('Aktiv udtag - CO2 beregning'!E11<>"Permanent Græs","",(IF(beregninger!I9="Nej",0,IF(beregninger!I9="Ja",IF('Aktiv udtag - CO2 beregning'!E11="Permanent Græs", Emissionsfaktorer!$H$7*'Aktiv udtag - CO2 beregning'!$G11+'Aktiv udtag - CO2 beregning'!$H11*Emissionsfaktorer!$H$21+'Aktiv udtag - CO2 beregning'!$I11*Emissionsfaktorer!$H$36))+((IF('Aktiv udtag - CO2 beregning'!C11<1," ",VLOOKUP('Aktiv udtag - CO2 beregning'!C11,'Afgrøder 2014'!$B$2:$H$260,7))*0.01*44/28)*298/1000+(IF('Aktiv udtag - CO2 beregning'!C11<1," ",VLOOKUP('Aktiv udtag - CO2 beregning'!C11,'Afgrøder 2014'!$B$2:$H$260,7))*0.34*0.0025*44/28)*298/1000+(IF('Aktiv udtag - CO2 beregning'!C11<1," ",VLOOKUP('Aktiv udtag - CO2 beregning'!C11,'Afgrøder 2014'!$B$2:$H$260,7))*0.34*0.6*0.0025*44/28)*298/1000)*SUM('Aktiv udtag - CO2 beregning'!G11:I11)))),""))) -> 34.36192 | C9: =IF(ISBLANK('Aktiv udtag - CO2 beregning'!F11),"",IF('Aktiv udtag - CO2 beregning'!D11=FALSE," ", IF('Aktiv udtag - CO2 beregning'!J11="OK",IF('Aktiv udtag - CO2 beregning'!E11<>"Vådområde","",(IF(beregninger!I9="Nej",0,IF(beregninger!I9="Ja",IF('Aktiv udtag - CO2 beregning'!E11="Vådområde", Emissionsfaktorer!$H$9*'Aktiv udtag - CO2 beregning'!$G11+'Aktiv udtag - CO2 beregning'!$H11*Emissionsfaktorer!$H$23+'Aktiv udtag - CO2 beregning'!$I11*Emissionsfaktorer!$H$38))+((IF('Aktiv udtag - CO2 beregning'!C11<1," ",VLOOKUP('Aktiv udtag - CO2 beregning'!C11,'Afgrøder 2014'!$B$2:$H$260,7))*0.01*44/28)*298/1000+(IF('Aktiv udtag - CO2 beregning'!C11<1," ",VLOOKUP('Aktiv udtag - CO2 beregning'!C11,'Afgrøder 2014'!$B$2:$H$260,7))*0.34*0.0025*44/28)*298/1000+(IF('Aktiv udtag - CO2 beregning'!C11<1," ",VLOOKUP('Aktiv udtag - CO2 beregning'!C11,'Afgrøder 2014'!$B$2:$H$260,7))*0.34*0.6*0.0025*44/28)*298/1000)*SUM('Aktiv udtag - CO2 beregning'!G11:I11)))),""))) | D9: =IF(ISBLANK('Aktiv udtag - CO2 beregning'!F11),"",IF('Aktiv udtag - CO2 beregning'!D11=FALSE," ", IF('Aktiv udtag - CO2 beregning'!J11="OK",IF('Aktiv udtag - CO2 beregning'!E11<>"Skov","",(IF(beregninger!I9="Nej",0,IF(beregninger!I9="Ja",IF('Aktiv udtag - CO2 beregning'!E11="Skov", Emissionsfaktorer!$H$9*'Aktiv udtag - CO2 beregning'!$G11+'Aktiv udtag - CO2 beregning'!$H11*Emissionsfaktorer!$H$23+'Aktiv udtag - CO2 beregning'!$I11*Emissionsfaktorer!$H$38))+((IF('Aktiv udtag - CO2 beregning'!C11<1," ",VLOOKUP('Aktiv udtag - CO2 beregning'!C11,'Afgrøder 2014'!$B$2:$H$260,7))*0.01*44/28)*298/1000+(IF('Aktiv udtag - CO2 beregning'!C11<1," ",VLOOKUP('Aktiv udtag - CO2 beregning'!C11,'Afgrøder 2014'!$B$2:$H$260,7))*0.34*0.0025*44/28)*298/1000+(IF('Aktiv udtag - CO2 beregning'!C11<1," ",VLOOKUP('Aktiv udtag - CO2 beregning'!C11,'Afgrøder 2014'!$B$2:$H$260,7))*0.34*0.6*0.0025*44/28)*298/1000)*SUM('Aktiv udtag - CO2 beregning'!G11:I11)))),""))) | E9: =IF(ISBLANK('Aktiv udtag - CO2 beregning'!F11),"",IF('Aktiv udtag - CO2 beregning'!D11=FALSE," ", IF('Aktiv udtag - CO2 beregning'!J11="OK",IF('Aktiv udtag - CO2 beregning'!E11<>"Naturområde","",(IF(beregninger!I9="Nej",0,IF(beregninger!I9="Ja",IF('Aktiv udtag - CO2 beregning'!E11="Naturområde", Emissionsfaktorer!$H$8*'Aktiv udtag - CO2 beregning'!$G11+'Aktiv udtag - CO2 beregning'!$H11*Emissionsfaktorer!$H$22+'Aktiv udtag - CO2 beregning'!$I11*Emissionsfaktorer!$H$37))+((IF('Aktiv udtag - CO2 beregning'!C11<1," ",VLOOKUP('Aktiv udtag - CO2 beregning'!C11,'Afgrøder 2014'!$B$2:$H$260,7))*0.01*44/28)*298/1000+(IF('Aktiv udtag - CO2 beregning'!C11<1," ",VLOOKUP('Aktiv udtag - CO2 beregning'!C11,'Afgrøder 2014'!$B$2:$H$260,7))*0.34*0.0025*44/28)*298/1000+(IF('Aktiv udtag - CO2 beregning'!C11<1," ",VLOOKUP('Aktiv udtag - CO2 beregning'!C11,'Afgrøder 2014'!$B$2:$H$260,7))*0.34*0.6*0.0025*44/28)*298/1000)*SUM('Aktiv udtag - CO2 beregning'!G11:I11)))),""))) | F9: =IF(ISBLANK('Aktiv udtag - CO2 beregning'!F11),"",IF('Aktiv udtag - CO2 beregning'!D11=FALSE," ", IF('Aktiv udtag - CO2 beregning'!J11="OK",IF('Aktiv udtag - CO2 beregning'!E11<>"Buske og Frugttræer","",(IF(beregninger!I9="Nej",0,IF(beregninger!I9="Ja",IF('Aktiv udtag - CO2 beregning'!E11="Buske og Frugttræer", Emissionsfaktorer!$H$11*'Aktiv udtag - CO2 beregning'!$G11+'Aktiv udtag - CO2 beregning'!$H11*Emissionsfaktorer!$H$25+'Aktiv udtag - CO2 beregning'!$I11*Emissionsfaktorer!$H$40))+((IF('Aktiv udtag - CO2 beregning'!C11<1," ",VLOOKUP('Aktiv udtag - CO2 beregning'!C11,'Afgrøder 2014'!$B$2:$H$260,7))*0.01*44/28)*298/1000+(IF('Aktiv udtag - CO2 beregning'!C11<1," ",VLOOKUP('Aktiv udtag - CO2 beregning'!C11,'Afgrøder 2014'!$B$2:$H$260,7))*0.34*0.0025*44/28)*298/1000+(IF('Aktiv udtag - CO2 beregning'!C11<1," ",VLOOKUP('Aktiv udtag - CO2 beregning'!C11,'Afgrøder 2014'!$B$2:$H$260,7))*0.34*0.6*0.0025*44/28)*298/1000)*SUM('Aktiv udtag - CO2 beregning'!G11:I11)))),""))) | G9: =IF(ISBLANK('Aktiv udtag - CO2 beregning'!F11),"",IF('Aktiv udtag - CO2 beregning'!D11=FALSE," ", IF('Aktiv udtag - CO2 beregning'!J11="OK",IF('Aktiv udtag - CO2 beregning'!E11<>"Energiafgrøde","",(IF(beregninger!I9="Nej",0,IF(beregninger!I9="Ja",IF('Aktiv udtag - CO2 beregning'!E11="Energiafgrøde", Emissionsfaktorer!$H$11*'Aktiv udtag - CO2 beregning'!$G11+'Aktiv udtag - CO2 beregning'!$H11*Emissionsfaktorer!$H$25+'Aktiv udtag - CO2 beregning'!$I11*Emissionsfaktorer!$H$40))+((IF('Aktiv udtag - CO2 beregning'!C11<1," ",VLOOKUP('Aktiv udtag - CO2 beregning'!C11,'Afgrøder 2014'!$B$2:$H$260,7))*0.01*44/28)*298/1000+(IF('Aktiv udtag - CO2 beregning'!C11<1," ",VLOOKUP('Aktiv udtag - CO2 beregning'!C11,'Afgrøder 2014'!$B$2:$H$260,7))*0.34*0.0025*44/28)*298/1000+(IF('Aktiv udtag - CO2 beregning'!C11<1," ",VLOOKUP('Aktiv udtag - CO2 beregning'!C11,'Afgrøder 2014'!$B$2:$H$260,7))*0.34*0.6*0.0025*44/28)*298/1000)*SUM('Aktiv udtag - CO2 beregning'!G11:I11)))),""))) | I9: =IF(ISBLANK('Aktiv udtag - CO2 beregning'!C11)," ",IFERROR(IF(MATCH('Aktiv udtag - CO2 beregning'!C11,'Afgrøder 2014'!$B$2:$B$261,0),VLOOKUP('Aktiv udtag - CO2 beregning'!C11,'Afgrøder 2014'!$B$2:$H$261,4)),"Ukendt")) -> Ja | J9: =IF((I9="ja"),0,'Aktiv udtag - CO2 beregning'!F11) -> 0
A10: =IF(ISBLANK('Aktiv udtag - CO2 beregning'!F12),"",IF('Aktiv udtag - CO2 beregning'!D12=FALSE," ", IF('Aktiv udtag - CO2 beregning'!J12="OK",IF('Aktiv udtag - CO2 beregning'!E12<>"Omdrift","",(IF(beregninger!I10="Nej",0,IF(beregninger!I10="Ja",IF('Aktiv udtag - CO2 beregning'!E12="Omdrift", 'Aktiv udtag - CO2 beregning'!G12*Emissionsfaktorer!$H$6+'Aktiv udtag - CO2 beregning'!$H12*Emissionsfaktorer!$H$20+'Aktiv udtag - CO2 beregning'!$I12*Emissionsfaktorer!$H$35))+((IF('Aktiv udtag - CO2 beregning'!C12<1," ",VLOOKUP('Aktiv udtag - CO2 beregning'!C12,'Afgrøder 2014'!$B$2:$H$260,7))*0.01*44/28)*298/1000+(IF('Aktiv udtag - CO2 beregning'!C12<1," ",VLOOKUP('Aktiv udtag - CO2 beregning'!C12,'Afgrøder 2014'!$B$2:$H$260,7))*0.34*0.0025*44/28)*298/1000+(IF('Aktiv udtag - CO2 beregning'!C12<1," ",VLOOKUP('Aktiv udtag - CO2 beregning'!C12,'Afgrøder 2014'!$B$2:$H$260,7))*0.34*0.6*0.0025*44/28)*298/1000)*SUM('Aktiv udtag - CO2 beregning'!G12:I12)))),""))) -> 39.07881 | B10: =IF(ISBLANK('Aktiv udtag - CO2 beregning'!F12),"",IF('Aktiv udtag - CO2 beregning'!D12=FALSE," ", IF('Aktiv udtag - CO2 beregning'!J12="OK",IF('Aktiv udtag - CO2 beregning'!E12<>"Permanent Græs","",(IF(beregninger!I10="Nej",0,IF(beregninger!I10="Ja",IF('Aktiv udtag - CO2 beregning'!E12="Permanent Græs", Emissionsfaktorer!$H$7*'Aktiv udtag - CO2 beregning'!$G12+'Aktiv udtag - CO2 beregning'!$H12*Emissionsfaktorer!$H$21+'Aktiv udtag - CO2 beregning'!$I12*Emissionsfaktorer!$H$36))+((IF('Aktiv udtag - CO2 beregning'!C12<1," ",VLOOKUP('Aktiv udtag - CO2 beregning'!C12,'Afgrøder 2014'!$B$2:$H$260,7))*0.01*44/28)*298/1000+(IF('Aktiv udtag - CO2 beregning'!C12<1," ",VLOOKUP('Aktiv udtag - CO2 beregning'!C12,'Afgrøder 2014'!$B$2:$H$260,7))*0.34*0.0025*44/28)*298/1000+(IF('Aktiv udtag - CO2 beregning'!C12<1," ",VLOOKUP('Aktiv udtag - CO2 beregning'!C12,'Afgrøder 2014'!$B$2:$H$260,7))*0.34*0.6*0.0025*44/28)*298/1000)*SUM('Aktiv udtag - CO2 beregning'!G12:I12)))),""))) | C10: =IF(ISBLANK('Aktiv udtag - CO2 beregning'!F12),"",IF('Aktiv udtag - CO2 beregning'!D12=FALSE," ", IF('Aktiv udtag - CO2 beregning'!J12="OK",IF('Aktiv udtag - CO2 beregning'!E12<>"Vådområde","",(IF(beregninger!I10="Nej",0,IF(beregninger!I10="Ja",IF('Aktiv udtag - CO2 beregning'!E12="Vådområde", Emissionsfaktorer!$H$9*'Aktiv udtag - CO2 beregning'!$G12+'Aktiv udtag - CO2 beregning'!$H12*Emissionsfaktorer!$H$23+'Aktiv udtag - CO2 beregning'!$I12*Emissionsfaktorer!$H$38))+((IF('Aktiv udtag - CO2 beregning'!C12<1," ",VLOOKUP('Aktiv udtag - CO2 beregning'!C12,'Afgrøder 2014'!$B$2:$H$260,7))*0.01*44/28)*298/1000+(IF('Aktiv udtag - CO2 beregning'!C12<1," ",VLOOKUP('Aktiv udtag - CO2 beregning'!C12,'Afgrøder 2014'!$B$2:$H$260,7))*0.34*0.0025*44/28)*298/1000+(IF('Aktiv udtag - CO2 beregning'!C12<1," ",VLOOKUP('Aktiv udtag - CO2 beregning'!C12,'Afgrøder 2014'!$B$2:$H$260,7))*0.34*0.6*0.0025*44/28)*298/1000)*SUM('Aktiv udtag - CO2 beregning'!G12:I12)))),""))) | D10: =IF(ISBLANK('Aktiv udtag - CO2 beregning'!F12),"",IF('Aktiv udtag - CO2 beregning'!D12=FALSE," ", IF('Aktiv udtag - CO2 beregning'!J12="OK",IF('Aktiv udtag - CO2 beregning'!E12<>"Skov","",(IF(beregninger!I10="Nej",0,IF(beregninger!I10="Ja",IF('Aktiv udtag - CO2 beregning'!E12="Skov", Emissionsfaktorer!$H$9*'Aktiv udtag - CO2 beregning'!$G12+'Aktiv udtag - CO2 beregning'!$H12*Emissionsfaktorer!$H$23+'Aktiv udtag - CO2 beregning'!$I12*Emissionsfaktorer!$H$38))+((IF('Aktiv udtag - CO2 beregning'!C12<1," ",VLOOKUP('Aktiv udtag - CO2 beregning'!C12,'Afgrøder 2014'!$B$2:$H$260,7))*0.01*44/28)*298/1000+(IF('Aktiv udtag - CO2 beregning'!C12<1," ",VLOOKUP('Aktiv udtag - CO2 beregning'!C12,'Afgrøder 2014'!$B$2:$H$260,7))*0.34*0.0025*44/28)*298/1000+(IF('Aktiv udtag - CO2 beregning'!C12<1," ",VLOOKUP('Aktiv udtag - CO2 beregning'!C12,'Afgrøder 2014'!$B$2:$H$260,7))*0.34*0.6*0.0025*44/28)*298/1000)*SUM('Aktiv udtag - CO2 beregning'!G12:I12)))),""))) | E10: =IF(ISBLANK('Aktiv udtag - CO2 beregning'!F12),"",IF('Aktiv udtag - CO2 beregning'!D12=FALSE," ", IF('Aktiv udtag - CO2 beregning'!J12="OK",IF('Aktiv udtag - CO2 beregning'!E12<>"Naturområde","",(IF(beregninger!I10="Nej",0,IF(beregninger!I10="Ja",IF('Aktiv udtag - CO2 beregning'!E12="Naturområde", Emissionsfaktorer!$H$8*'Aktiv udtag - CO2 beregning'!$G12+'Aktiv udtag - CO2 beregning'!$H12*Emissionsfaktorer!$H$22+'Aktiv udtag - CO2 beregning'!$I12*Emissionsfaktorer!$H$37))+((IF('Aktiv udtag - CO2 beregning'!C12<1," ",VLOOKUP('Aktiv udtag - CO2 beregning'!C12,'Afgrøder 2014'!$B$2:$H$260,7))*0.01*44/28)*298/1000+(IF('Aktiv udtag - CO2 beregning'!C12<1," ",VLOOKUP('Aktiv udtag - CO2 beregning'!C12,'Afgrøder 2014'!$B$2:$H$260,7))*0.34*0.0025*44/28)*298/1000+(IF('Aktiv udtag - CO2 beregning'!C12<1," ",VLOOKUP('Aktiv udtag - CO2 beregning'!C12,'Afgrøder 2014'!$B$2:$H$260,7))*0.34*0.6*0.0025*44/28)*298/1000)*SUM('Aktiv udtag - CO2 beregning'!G12:I12)))),""))) | F10: =IF(ISBLANK('Aktiv udtag - CO2 beregning'!F12),"",IF('Aktiv udtag - CO2 beregning'!D12=FALSE," ", IF('Aktiv udtag - CO2 beregning'!J12="OK",IF('Aktiv udtag - CO2 beregning'!E12<>"Buske og Frugttræer","",(IF(beregninger!I10="Nej",0,IF(beregninger!I10="Ja",IF('Aktiv udtag - CO2 beregning'!E12="Buske og Frugttræer", Emissionsfaktorer!$H$11*'Aktiv udtag - CO2 beregning'!$G12+'Aktiv udtag - CO2 beregning'!$H12*Emissionsfaktorer!$H$25+'Aktiv udtag - CO2 beregning'!$I12*Emissionsfaktorer!$H$40))+((IF('Aktiv udtag - CO2 beregning'!C12<1," ",VLOOKUP('Aktiv udtag - CO2 beregning'!C12,'Afgrøder 2014'!$B$2:$H$260,7))*0.01*44/28)*298/1000+(IF('Aktiv udtag - CO2 beregning'!C12<1," ",VLOOKUP('Aktiv udtag - CO2 beregning'!C12,'Afgrøder 2014'!$B$2:$H$260,7))*0.34*0.0025*44/28)*298/1000+(IF('Aktiv udtag - CO2 beregning'!C12<1," ",VLOOKUP('Aktiv udtag - CO2 beregning'!C12,'Afgrøder 2014'!$B$2:$H$260,7))*0.34*0.6*0.0025*44/28)*298/1000)*SUM('Aktiv udtag - CO2 beregning'!G12:I12)))),""))) | G10: =IF(ISBLANK('Aktiv udtag - CO2 beregning'!F12),"",IF('Aktiv udtag - CO2 beregning'!D12=FALSE," ", IF('Aktiv udtag - CO2 beregning'!J12="OK",IF('Aktiv udtag - CO2 beregning'!E12<>"Energiafgrøde","",(IF(beregninger!I10="Nej",0,IF(beregninger!I10="Ja",IF('Aktiv udtag - CO2 beregning'!E12="Energiafgrøde", Emissionsfaktorer!$H$11*'Aktiv udtag - CO2 beregning'!$G12+'Aktiv udtag - CO2 beregning'!$H12*Emissionsfaktorer!$H$25+'Aktiv udtag - CO2 beregning'!$I12*Emissionsfaktorer!$H$40))+((IF('Aktiv udtag - CO2 beregning'!C12<1," ",VLOOKUP('Aktiv udtag - CO2 beregning'!C12,'Afgrøder 2014'!$B$2:$H$260,7))*0.01*44/28)*298/1000+(IF('Aktiv udtag - CO2 beregning'!C12<1," ",VLOOKUP('Aktiv udtag - CO2 beregning'!C12,'Afgrøder 2014'!$B$2:$H$260,7))*0.34*0.0025*44/28)*298/1000+(IF('Aktiv udtag - CO2 beregning'!C12<1," ",VLOOKUP('Aktiv udtag - CO2 beregning'!C12,'Afgrøder 2014'!$B$2:$H$260,7))*0.34*0.6*0.0025*44/28)*298/1000)*SUM('Aktiv udtag - CO2 beregning'!G12:I12)))),""))) | I10: =IF(ISBLANK('Aktiv udtag - CO2 beregning'!C12)," ",IFERROR(IF(MATCH('Aktiv udtag - CO2 beregning'!C12,'Afgrøder 2014'!$B$2:$B$261,0),VLOOKUP('Aktiv udtag - CO2 beregning'!C12,'Afgrøder 2014'!$B$2:$H$261,4)),"Ukendt")) -> Ja | J10: =IF((I10="ja"),0,'Aktiv udtag - CO2 beregning'!F12) -> 0
A11: =IF(ISBLANK('Aktiv udtag - CO2 beregning'!F13),"",IF('Aktiv udtag - CO2 beregning'!D13=FALSE," ", IF('Aktiv udtag - CO2 beregning'!J13="OK",IF('Aktiv udtag - CO2 beregning'!E13<>"Omdrift","",(IF(beregninger!I11="Nej",0,IF(beregninger!I11="Ja",IF('Aktiv udtag - CO2 beregning'!E13="Omdrift", 'Aktiv udtag - CO2 beregning'!G13*Emissionsfaktorer!$H$6+'Aktiv udtag - CO2 beregning'!$H13*Emissionsfaktorer!$H$20+'Aktiv udtag - CO2 beregning'!$I13*Emissionsfaktorer!$H$35))+((IF('Aktiv udtag - CO2 beregning'!C13<1," ",VLOOKUP('Aktiv udtag - CO2 beregning'!C13,'Afgrøder 2014'!$B$2:$H$260,7))*0.01*44/28)*298/1000+(IF('Aktiv udtag - CO2 beregning'!C13<1," ",VLOOKUP('Aktiv udtag - CO2 beregning'!C13,'Afgrøder 2014'!$B$2:$H$260,7))*0.34*0.0025*44/28)*298/1000+(IF('Aktiv udtag - CO2 beregning'!C13<1," ",VLOOKUP('Aktiv udtag - CO2 beregning'!C13,'Afgrøder 2014'!$B$2:$H$260,7))*0.34*0.6*0.0025*44/28)*298/1000)*SUM('Aktiv udtag - CO2 beregning'!G13:I13)))),""))) | B11: =IF(ISBLANK('Aktiv udtag - CO2 beregning'!F13),"",IF('Aktiv udtag - CO2 beregning'!D13=FALSE," ", IF('Aktiv udtag - CO2 beregning'!J13="OK",IF('Aktiv udtag - CO2 beregning'!E13<>"Permanent Græs","",(IF(beregninger!I11="Nej",0,IF(beregninger!I11="Ja",IF('Aktiv udtag - CO2 beregning'!E13="Permanent Græs", Emissionsfaktorer!$H$7*'Aktiv udtag - CO2 beregning'!$G13+'Aktiv udtag - CO2 beregning'!$H13*Emissionsfaktorer!$H$21+'Aktiv udtag - CO2 beregning'!$I13*Emissionsfaktorer!$H$36))+((IF('Aktiv udtag - CO2 beregning'!C13<1," ",VLOOKUP('Aktiv udtag - CO2 beregning'!C13,'Afgrøder 2014'!$B$2:$H$260,7))*0.01*44/28)*298/1000+(IF('Aktiv udtag - CO2 beregning'!C13<1," ",VLOOKUP('Aktiv udtag - CO2 beregning'!C13,'Afgrøder 2014'!$B$2:$H$260,7))*0.34*0.0025*44/28)*298/1000+(IF('Aktiv udtag - CO2 beregning'!C13<1," ",VLOOKUP('Aktiv udtag - CO2 beregning'!C13,'Afgrøder 2014'!$B$2:$H$260,7))*0.34*0.6*0.0025*44/28)*298/1000)*SUM('Aktiv udtag - CO2 beregning'!G13:I13)))),""))) -> 7.964579 | C11: =IF(ISBLANK('Aktiv udtag - CO2 beregning'!F13),"",IF('Aktiv udtag - CO2 beregning'!D13=FALSE," ", IF('Aktiv udtag - CO2 beregning'!J13="OK",IF('Aktiv udtag - CO2 beregning'!E13<>"Vådområde","",(IF(beregninger!I11="Nej",0,IF(beregninger!I11="Ja",IF('Aktiv udtag - CO2 beregning'!E13="Vådområde", Emissionsfaktorer!$H$9*'Aktiv udtag - CO2 beregning'!$G13+'Aktiv udtag - CO2 beregning'!$H13*Emissionsfaktorer!$H$23+'Aktiv udtag - CO2 beregning'!$I13*Emissionsfaktorer!$H$38))+((IF('Aktiv udtag - CO2 beregning'!C13<1," ",VLOOKUP('Aktiv udtag - CO2 beregning'!C13,'Afgrøder 2014'!$B$2:$H$260,7))*0.01*44/28)*298/1000+(IF('Aktiv udtag - CO2 beregning'!C13<1," ",VLOOKUP('Aktiv udtag - CO2 beregning'!C13,'Afgrøder 2014'!$B$2:$H$260,7))*0.34*0.0025*44/28)*298/1000+(IF('Aktiv udtag - CO2 beregning'!C13<1," ",VLOOKUP('Aktiv udtag - CO2 beregning'!C13,'Afgrøder 2014'!$B$2:$H$260,7))*0.34*0.6*0.0025*44/28)*298/1000)*SUM('Aktiv udtag - CO2 beregning'!G13:I13)))),""))) | D11: =IF(ISBLANK('Aktiv udtag - CO2 beregning'!F13),"",IF('Aktiv udtag - CO2 beregning'!D13=FALSE," ", IF('Aktiv udtag - CO2 beregning'!J13="OK",IF('Aktiv udtag - CO2 beregning'!E13<>"Skov","",(IF(beregninger!I11="Nej",0,IF(beregninger!I11="Ja",IF('Aktiv udtag - CO2 beregning'!E13="Skov", Emissionsfaktorer!$H$9*'Aktiv udtag - CO2 beregning'!$G13+'Aktiv udtag - CO2 beregning'!$H13*Emissionsfaktorer!$H$23+'Aktiv udtag - CO2 beregning'!$I13*Emissionsfaktorer!$H$38))+((IF('Aktiv udtag - CO2 beregning'!C13<1," ",VLOOKUP('Aktiv udtag - CO2 beregning'!C13,'Afgrøder 2014'!$B$2:$H$260,7))*0.01*44/28)*298/1000+(IF('Aktiv udtag - CO2 beregning'!C13<1," ",VLOOKUP('Aktiv udtag - CO2 beregning'!C13,'Afgrøder 2014'!$B$2:$H$260,7))*0.34*0.0025*44/28)*298/1000+(IF('Aktiv udtag - CO2 beregning'!C13<1," ",VLOOKUP('Aktiv udtag - CO2 beregning'!C13,'Afgrøder 2014'!$B$2:$H$260,7))*0.34*0.6*0.0025*44/28)*298/1000)*SUM('Aktiv udtag - CO2 beregning'!G13:I13)))),""))) | E11: =IF(ISBLANK('Aktiv udtag - CO2 beregning'!F13),"",IF('Aktiv udtag - CO2 beregning'!D13=FALSE," ", IF('Aktiv udtag - CO2 beregning'!J13="OK",IF('Aktiv udtag - CO2 beregning'!E13<>"Naturområde","",(IF(beregninger!I11="Nej",0,IF(beregninger!I11="Ja",IF('Aktiv udtag - CO2 beregning'!E13="Naturområde", Emissionsfaktorer!$H$8*'Aktiv udtag - CO2 beregning'!$G13+'Aktiv udtag - CO2 beregning'!$H13*Emissionsfaktorer!$H$22+'Aktiv udtag - CO2 beregning'!$I13*Emissionsfaktorer!$H$37))+((IF('Aktiv udtag - CO2 beregning'!C13<1," ",VLOOKUP('Aktiv udtag - CO2 beregning'!C13,'Afgrøder 2014'!$B$2:$H$260,7))*0.01*44/28)*298/1000+(IF('Aktiv udtag - CO2 beregning'!C13<1," ",VLOOKUP('Aktiv udtag - CO2 beregning'!C13,'Afgrøder 2014'!$B$2:$H$260,7))*0.34*0.0025*44/28)*298/1000+(IF('Aktiv udtag - CO2 beregning'!C13<1," ",VLOOKUP('Aktiv udtag - CO2 beregning'!C13,'Afgrøder 2014'!$B$2:$H$260,7))*0.34*0.6*0.0025*44/28)*298/1000)*SUM('Aktiv udtag - CO2 beregning'!G13:I13)))),""))) | F11: =IF(ISBLANK('Aktiv udtag - CO2 beregning'!F13),"",IF('Aktiv udtag - CO2 beregning'!D13=FALSE," ", IF('Aktiv udtag - CO2 beregning'!J13="OK",IF('Aktiv udtag - CO2 beregning'!E13<>"Buske og Frugttræer","",(IF(beregninger!I11="Nej",0,IF(beregninger!I11="Ja",IF('Aktiv udtag - CO2 beregning'!E13="Buske og Frugttræer", Emissionsfaktorer!$H$11*'Aktiv udtag - CO2 beregning'!$G13+'Aktiv udtag - CO2 beregning'!$H13*Emissionsfaktorer!$H$25+'Aktiv udtag - CO2 beregning'!$I13*Emissionsfaktorer!$H$40))+((IF('Aktiv udtag - CO2 beregning'!C13<1," ",VLOOKUP('Aktiv udtag - CO2 beregning'!C13,'Afgrøder 2014'!$B$2:$H$260,7))*0.01*44/28)*298/1000+(IF('Aktiv udtag - CO2 beregning'!C13<1," ",VLOOKUP('Aktiv udtag - CO2 beregning'!C13,'Afgrøder 2014'!$B$2:$H$260,7))*0.34*0.0025*44/28)*298/1000+(IF('Aktiv udtag - CO2 beregning'!C13<1," ",VLOOKUP('Aktiv udtag - CO2 beregning'!C13,'Afgrøder 2014'!$B$2:$H$260,7))*0.34*0.6*0.0025*44/28)*298/1000)*SUM('Aktiv udtag - CO2 beregning'!G13:I13)))),""))) | G11: =IF(ISBLANK('Aktiv udtag - CO2 beregning'!F13),"",IF('Aktiv udtag - CO2 beregning'!D13=FALSE," ", IF('Aktiv udtag - CO2 beregning'!J13="OK",IF('Aktiv udtag - CO2 beregning'!E13<>"Energiafgrøde","",(IF(beregninger!I11="Nej",0,IF(beregninger!I11="Ja",IF('Aktiv udtag - CO2 beregning'!E13="Energiafgrøde", Emissionsfaktorer!$H$11*'Aktiv udtag - CO2 beregning'!$G13+'Aktiv udtag - CO2 beregning'!$H13*Emissionsfaktorer!$H$25+'Aktiv udtag - CO2 beregning'!$I13*Emissionsfaktorer!$H$40))+((IF('Aktiv udtag - CO2 beregning'!C13<1," ",VLOOKUP('Aktiv udtag - CO2 beregning'!C13,'Afgrøder 2014'!$B$2:$H$260,7))*0.01*44/28)*298/1000+(IF('Aktiv udtag - CO2 beregning'!C13<1," ",VLOOKUP('Aktiv udtag - CO2 beregning'!C13,'Afgrøder 2014'!$B$2:$H$260,7))*0.34*0.0025*44/28)*298/1000+(IF('Aktiv udtag - CO2 beregning'!C13<1," ",VLOOKUP('Aktiv udtag - CO2 beregning'!C13,'Afgrøder 2014'!$B$2:$H$260,7))*0.34*0.6*0.0025*44/28)*298/1000)*SUM('Aktiv udtag - CO2 beregning'!G13:I13)))),""))) | I11: =IF(ISBLANK('Aktiv udtag - CO2 beregning'!C13)," ",IFERROR(IF(MATCH('Aktiv udtag - CO2 beregning'!C13,'Afgrøder 2014'!$B$2:$B$261,0),VLOOKUP('Aktiv udtag - CO2 beregning'!C13,'Afgrøder 2014'!$B$2:$H$261,4)),"Ukendt")) -> Ja | J11: =IF((I11="ja"),0,'Aktiv udtag - CO2 beregning'!F13) -> 0
A12: =IF(ISBLANK('Aktiv udtag - CO2 beregning'!F14),"",IF('Aktiv udtag - CO2 beregning'!D14=FALSE," ", IF('Aktiv udtag - CO2 beregning'!J14="OK",IF('Aktiv udtag - CO2 beregning'!E14<>"Omdrift","",(IF(beregninger!I12="Nej",0,IF(beregninger!I12="Ja",IF('Aktiv udtag - CO2 beregning'!E14="Omdrift", 'Aktiv udtag - CO2 beregning'!G14*Emissionsfaktorer!$H$6+'Aktiv udtag - CO2 beregning'!$H14*Emissionsfaktorer!$H$20+'Aktiv udtag - CO2 beregning'!$I14*Emissionsfaktorer!$H$35))+((IF('Aktiv udtag - CO2 beregning'!C14<1," ",VLOOKUP('Aktiv udtag - CO2 beregning'!C14,'Afgrøder 2014'!$B$2:$H$260,7))*0.01*44/28)*298/1000+(IF('Aktiv udtag - CO2 beregning'!C14<1," ",VLOOKUP('Aktiv udtag - CO2 beregning'!C14,'Afgrøder 2014'!$B$2:$H$260,7))*0.34*0.0025*44/28)*298/1000+(IF('Aktiv udtag - CO2 beregning'!C14<1," ",VLOOKUP('Aktiv udtag - CO2 beregning'!C14,'Afgrøder 2014'!$B$2:$H$260,7))*0.34*0.6*0.0025*44/28)*298/1000)*SUM('Aktiv udtag - CO2 beregning'!G14:I14)))),""))) | B12: =IF(ISBLANK('Aktiv udtag - CO2 beregning'!F14),"",IF('Aktiv udtag - CO2 beregning'!D14=FALSE," ", IF('Aktiv udtag - CO2 beregning'!J14="OK",IF('Aktiv udtag - CO2 beregning'!E14<>"Permanent Græs","",(IF(beregninger!I12="Nej",0,IF(beregninger!I12="Ja",IF('Aktiv udtag - CO2 beregning'!E14="Permanent Græs", Emissionsfaktorer!$H$7*'Aktiv udtag - CO2 beregning'!$G14+'Aktiv udtag - CO2 beregning'!$H14*Emissionsfaktorer!$H$21+'Aktiv udtag - CO2 beregning'!$I14*Emissionsfaktorer!$H$36))+((IF('Aktiv udtag - CO2 beregning'!C14<1," ",VLOOKUP('Aktiv udtag - CO2 beregning'!C14,'Afgrøder 2014'!$B$2:$H$260,7))*0.01*44/28)*298/1000+(IF('Aktiv udtag - CO2 beregning'!C14<1," ",VLOOKUP('Aktiv udtag - CO2 beregning'!C14,'Afgrøder 2014'!$B$2:$H$260,7))*0.34*0.0025*44/28)*298/1000+(IF('Aktiv udtag - CO2 beregning'!C14<1," ",VLOOKUP('Aktiv udtag - CO2 beregning'!C14,'Afgrøder 2014'!$B$2:$H$260,7))*0.34*0.6*0.0025*44/28)*298/1000)*SUM('Aktiv udtag - CO2 beregning'!G14:I14)))),""))) | C12: =IF(ISBLANK('Aktiv udtag - CO2 beregning'!F14),"",IF('Aktiv udtag - CO2 beregning'!D14=FALSE," ", IF('Aktiv udtag - CO2 beregning'!J14="OK",IF('Aktiv udtag - CO2 beregning'!E14<>"Vådområde","",(IF(beregninger!I12="Nej",0,IF(beregninger!I12="Ja",IF('Aktiv udtag - CO2 beregning'!E14="Vådområde", Emissionsfaktorer!$H$9*'Aktiv udtag - CO2 beregning'!$G14+'Aktiv udtag - CO2 beregning'!$H14*Emissionsfaktorer!$H$23+'Aktiv udtag - CO2 beregning'!$I14*Emissionsfaktorer!$H$38))+((IF('Aktiv udtag - CO2 beregning'!C14<1," ",VLOOKUP('Aktiv udtag - CO2 beregning'!C14,'Afgrøder 2014'!$B$2:$H$260,7))*0.01*44/28)*298/1000+(IF('Aktiv udtag - CO2 beregning'!C14<1," ",VLOOKUP('Aktiv udtag - CO2 beregning'!C14,'Afgrøder 2014'!$B$2:$H$260,7))*0.34*0.0025*44/28)*298/1000+(IF('Aktiv udtag - CO2 beregning'!C14<1," ",VLOOKUP('Aktiv udtag - CO2 beregning'!C14,'Afgrøder 2014'!$B$2:$H$260,7))*0.34*0.6*0.0025*44/28)*298/1000)*SUM('Aktiv udtag - CO2 beregning'!G14:I14)))),""))) | D12: =IF(ISBLANK('Aktiv udtag - CO2 beregning'!F14),"",IF('Aktiv udtag - CO2 beregning'!D14=FALSE," ", IF('Aktiv udtag - CO2 beregning'!J14="OK",IF('Aktiv udtag - CO2 beregning'!E14<>"Skov","",(IF(beregninger!I12="Nej",0,IF(beregninger!I12="Ja",IF('Aktiv udtag - CO2 beregning'!E14="Skov", Emissionsfaktorer!$H$9*'Aktiv udtag - CO2 beregning'!$G14+'Aktiv udtag - CO2 beregning'!$H14*Emissionsfaktorer!$H$23+'Aktiv udtag - CO2 beregning'!$I14*Emissionsfaktorer!$H$38))+((IF('Aktiv udtag - CO2 beregning'!C14<1," ",VLOOKUP('Aktiv udtag - CO2 beregning'!C14,'Afgrøder 2014'!$B$2:$H$260,7))*0.01*44/28)*298/1000+(IF('Aktiv udtag - CO2 beregning'!C14<1," ",VLOOKUP('Aktiv udtag - CO2 beregning'!C14,'Afgrøder 2014'!$B$2:$H$260,7))*0.34*0.0025*44/28)*298/1000+(IF('Aktiv udtag - CO2 beregning'!C14<1," ",VLOOKUP('Aktiv udtag - CO2 beregning'!C14,'Afgrøder 2014'!$B$2:$H$260,7))*0.34*0.6*0.0025*44/28)*298/1000)*SUM('Aktiv udtag - CO2 beregning'!G14:I14)))),""))) | E12: =IF(ISBLANK('Aktiv udtag - CO2 beregning'!F14),"",IF('Aktiv udtag - CO2 beregning'!D14=FALSE," ", IF('Aktiv udtag - CO2 beregning'!J14="OK",IF('Aktiv udtag - CO2 beregning'!E14<>"Naturområde","",(IF(beregninger!I12="Nej",0,IF(beregninger!I12="Ja",IF('Aktiv udtag - CO2 beregning'!E14="Naturområde", Emissionsfaktorer!$H$8*'Aktiv udtag - CO2 beregning'!$G14+'Aktiv udtag - CO2 beregning'!$H14*Emissionsfaktorer!$H$22+'Aktiv udtag - CO2 beregning'!$I14*Emissionsfaktorer!$H$37))+((IF('Aktiv udtag - CO2 beregning'!C14<1," ",VLOOKUP('Aktiv udtag - CO2 beregning'!C14,'Afgrøder 2014'!$B$2:$H$260,7))*0.01*44/28)*298/1000+(IF('Aktiv udtag - CO2 beregning'!C14<1," ",VLOOKUP('Aktiv udtag - CO2 beregning'!C14,'Afgrøder 2014'!$B$2:$H$260,7))*0.34*0.0025*44/28)*298/1000+(IF('Aktiv udtag - CO2 beregning'!C14<1," ",VLOOKUP('Aktiv udtag - CO2 beregning'!C14,'Afgrøder 2014'!$B$2:$H$260,7))*0.34*0.6*0.0025*44/28)*298/1000)*SUM('Aktiv udtag - CO2 beregning'!G14:I14)))),""))) | F12: =IF(ISBLANK('Aktiv udtag - CO2 beregning'!F14),"",IF('Aktiv udtag - CO2 beregning'!D14=FALSE," ", IF('Aktiv udtag - CO2 beregning'!J14="OK",IF('Aktiv udtag - CO2 beregning'!E14<>"Buske og Frugttræer","",(IF(beregninger!I12="Nej",0,IF(beregninger!I12="Ja",IF('Aktiv udtag - CO2 beregning'!E14="Buske og Frugttræer", Emissionsfaktorer!$H$11*'Aktiv udtag - CO2 beregning'!$G14+'Aktiv udtag - CO2 beregning'!$H14*Emissionsfaktorer!$H$25+'Aktiv udtag - CO2 beregning'!$I14*Emissionsfaktorer!$H$40))+((IF('Aktiv udtag - CO2 beregning'!C14<1," ",VLOOKUP('Aktiv udtag - CO2 beregning'!C14,'Afgrøder 2014'!$B$2:$H$260,7))*0.01*44/28)*298/1000+(IF('Aktiv udtag - CO2 beregning'!C14<1," ",VLOOKUP('Aktiv udtag - CO2 beregning'!C14,'Afgrøder 2014'!$B$2:$H$260,7))*0.34*0.0025*44/28)*298/1000+(IF('Aktiv udtag - CO2 beregning'!C14<1," ",VLOOKUP('Aktiv udtag - CO2 beregning'!C14,'Afgrøder 2014'!$B$2:$H$260,7))*0.34*0.6*0.0025*44/28)*298/1000)*SUM('Aktiv udtag - CO2 beregning'!G14:I14)))),""))) | G12: =IF(ISBLANK('Aktiv udtag - CO2 beregning'!F14),"",IF('Aktiv udtag - CO2 beregning'!D14=FALSE," ", IF('Aktiv udtag - CO2 beregning'!J14="OK",IF('Aktiv udtag - CO2 beregning'!E14<>"Energiafgrøde","",(IF(beregninger!I12="Nej",0,IF(beregninger!I12="Ja",IF('Aktiv udtag - CO2 beregning'!E14="Energiafgrøde", Emissionsfaktorer!$H$11*'Aktiv udtag - CO2 beregning'!$G14+'Aktiv udtag - CO2 beregning'!$H14*Emissionsfaktorer!$H$25+'Aktiv udtag - CO2 beregning'!$I14*Emissionsfaktorer!$H$40))+((IF('Aktiv udtag - CO2 beregning'!C14<1," ",VLOOKUP('Aktiv udtag - CO2 beregning'!C14,'Afgrøder 2014'!$B$2:$H$260,7))*0.01*44/28)*298/1000+(IF('Aktiv udtag - CO2 beregning'!C14<1," ",VLOOKUP('Aktiv udtag - CO2 beregning'!C14,'Afgrøder 2014'!$B$2:$H$260,7))*0.34*0.0025*44/28)*298/1000+(IF('Aktiv udtag - CO2 beregning'!C14<1," ",VLOOKUP('Aktiv udtag - CO2 beregning'!C14,'Afgrøder 2014'!$B$2:$H$260,7))*0.34*0.6*0.0025*44/28)*298/1000)*SUM('Aktiv udtag - CO2 beregning'!G14:I14)))),""))) | I12: =IF(ISBLANK('Aktiv udtag - CO2 beregning'!C14)," ",IFERROR(IF(MATCH('Aktiv udtag - CO2 beregning'!C14,'Afgrøder 2014'!$B$2:$B$261,0),VLOOKUP('Aktiv udtag - CO2 beregning'!C14,'Afgrøder 2014'!$B$2:$H$261,4)),"Ukendt")) | J12: =IF((I12="ja"),0,'Aktiv udtag - CO2 beregning'!F14) -> 0
A13: =IF(ISBLANK('Aktiv udtag - CO2 beregning'!F15),"",IF('Aktiv udtag - CO2 beregning'!D15=FALSE," ", IF('Aktiv udtag - CO2 beregning'!J15="OK",IF('Aktiv udtag - CO2 beregning'!E15<>"Omdrift","",(IF(beregninger!I13="Nej",0,IF(beregninger!I13="Ja",IF('Aktiv udtag - CO2 beregning'!E15="Omdrift", 'Aktiv udtag - CO2 beregning'!G15*Emissionsfaktorer!$H$6+'Aktiv udtag - CO2 beregning'!$H15*Emissionsfaktorer!$H$20+'Aktiv udtag - CO2 beregning'!$I15*Emissionsfaktorer!$H$35))+((IF('Aktiv udtag - CO2 beregning'!C15<1," ",VLOOKUP('Aktiv udtag - CO2 beregning'!C15,'Afgrøder 2014'!$B$2:$H$260,7))*0.01*44/28)*298/1000+(IF('Aktiv udtag - CO2 beregning'!C15<1," ",VLOOKUP('Aktiv udtag - CO2 beregning'!C15,'Afgrøder 2014'!$B$2:$H$260,7))*0.34*0.0025*44/28)*298/1000+(IF('Aktiv udtag - CO2 beregning'!C15<1," ",VLOOKUP('Aktiv udtag - CO2 beregning'!C15,'Afgrøder 2014'!$B$2:$H$260,7))*0.34*0.6*0.0025*44/28)*298/1000)*SUM('Aktiv udtag - CO2 beregning'!G15:I15)))),""))) | B13: =IF(ISBLANK('Aktiv udtag - CO2 beregning'!F15),"",IF('Aktiv udtag - CO2 beregning'!D15=FALSE," ", IF('Aktiv udtag - CO2 beregning'!J15="OK",IF('Aktiv udtag - CO2 beregning'!E15<>"Permanent Græs","",(IF(beregninger!I13="Nej",0,IF(beregninger!I13="Ja",IF('Aktiv udtag - CO2 beregning'!E15="Permanent Græs", Emissionsfaktorer!$H$7*'Aktiv udtag - CO2 beregning'!$G15+'Aktiv udtag - CO2 beregning'!$H15*Emissionsfaktorer!$H$21+'Aktiv udtag - CO2 beregning'!$I15*Emissionsfaktorer!$H$36))+((IF('Aktiv udtag - CO2 beregning'!C15<1," ",VLOOKUP('Aktiv udtag - CO2 beregning'!C15,'Afgrøder 2014'!$B$2:$H$260,7))*0.01*44/28)*298/1000+(IF('Aktiv udtag - CO2 beregning'!C15<1," ",VLOOKUP('Aktiv udtag - CO2 beregning'!C15,'Afgrøder 2014'!$B$2:$H$260,7))*0.34*0.0025*44/28)*298/1000+(IF('Aktiv udtag - CO2 beregning'!C15<1," ",VLOOKUP('Aktiv udtag - CO2 beregning'!C15,'Afgrøder 2014'!$B$2:$H$260,7))*0.34*0.6*0.0025*44/28)*298/1000)*SUM('Aktiv udtag - CO2 beregning'!G15:I15)))),""))) | C13: =IF(ISBLANK('Aktiv udtag - CO2 beregning'!F15),"",IF('Aktiv udtag - CO2 beregning'!D15=FALSE," ", IF('Aktiv udtag - CO2 beregning'!J15="OK",IF('Aktiv udtag - CO2 beregning'!E15<>"Vådområde","",(IF(beregninger!I13="Nej",0,IF(beregninger!I13="Ja",IF('Aktiv udtag - CO2 beregning'!E15="Vådområde", Emissionsfaktorer!$H$9*'Aktiv udtag - CO2 beregning'!$G15+'Aktiv udtag - CO2 beregning'!$H15*Emissionsfaktorer!$H$23+'Aktiv udtag - CO2 beregning'!$I15*Emissionsfaktorer!$H$38))+((IF('Aktiv udtag - CO2 beregning'!C15<1," ",VLOOKUP('Aktiv udtag - CO2 beregning'!C15,'Afgrøder 2014'!$B$2:$H$260,7))*0.01*44/28)*298/1000+(IF('Aktiv udtag - CO2 beregning'!C15<1," ",VLOOKUP('Aktiv udtag - CO2 beregning'!C15,'Afgrøder 2014'!$B$2:$H$260,7))*0.34*0.0025*44/28)*298/1000+(IF('Aktiv udtag - CO2 beregning'!C15<1," ",VLOOKUP('Aktiv udtag - CO2 beregning'!C15,'Afgrøder 2014'!$B$2:$H$260,7))*0.34*0.6*0.0025*44/28)*298/1000)*SUM('Aktiv udtag - CO2 beregning'!G15:I15)))),""))) | D13: =IF(ISBLANK('Aktiv udtag - CO2 beregning'!F15),"",IF('Aktiv udtag - CO2 beregning'!D15=FALSE," ", IF('Aktiv udtag - CO2 beregning'!J15="OK",IF('Aktiv udtag - CO2 beregning'!E15<>"Skov","",(IF(beregninger!I13="Nej",0,IF(beregninger!I13="Ja",IF('Aktiv udtag - CO2 beregning'!E15="Skov", Emissionsfaktorer!$H$9*'Aktiv udtag - CO2 beregning'!$G15+'Aktiv udtag - CO2 beregning'!$H15*Emissionsfaktorer!$H$23+'Aktiv udtag - CO2 beregning'!$I15*Emissionsfaktorer!$H$38))+((IF('Aktiv udtag - CO2 beregning'!C15<1," ",VLOOKUP('Aktiv udtag - CO2 beregning'!C15,'Afgrøder 2014'!$B$2:$H$260,7))*0.01*44/28)*298/1000+(IF('Aktiv udtag - CO2 beregning'!C15<1," ",VLOOKUP('Aktiv udtag - CO2 beregning'!C15,'Afgrøder 2014'!$B$2:$H$260,7))*0.34*0.0025*44/28)*298/1000+(IF('Aktiv udtag - CO2 beregning'!C15<1," ",VLOOKUP('Aktiv udtag - CO2 beregning'!C15,'Afgrøder 2014'!$B$2:$H$260,7))*0.34*0.6*0.0025*44/28)*298/1000)*SUM('Aktiv udtag - CO2 beregning'!G15:I15)))),""))) | E13: =IF(ISBLANK('Aktiv udtag - CO2 beregning'!F15),"",IF('Aktiv udtag - CO2 beregning'!D15=FALSE," ", IF('Aktiv udtag - CO2 beregning'!J15="OK",IF('Aktiv udtag - CO2 beregning'!E15<>"Naturområde","",(IF(beregninger!I13="Nej",0,IF(beregninger!I13="Ja",IF('Aktiv udtag - CO2 beregning'!E15="Naturområde", Emissionsfaktorer!$H$8*'Aktiv udtag - CO2 beregning'!$G15+'Aktiv udtag - CO2 beregning'!$H15*Emissionsfaktorer!$H$22+'Aktiv udtag - CO2 beregning'!$I15*Emissionsfaktorer!$H$37))+((IF('Aktiv udtag - CO2 beregning'!C15<1," ",VLOOKUP('Aktiv udtag - CO2 beregning'!C15,'Afgrøder 2014'!$B$2:$H$260,7))*0.01*44/28)*298/1000+(IF('Aktiv udtag - CO2 beregning'!C15<1," ",VLOOKUP('Aktiv udtag - CO2 beregning'!C15,'Afgrøder 2014'!$B$2:$H$260,7))*0.34*0.0025*44/28)*298/1000+(IF('Aktiv udtag - CO2 beregning'!C15<1," ",VLOOKUP('Aktiv udtag - CO2 beregning'!C15,'Afgrøder 2014'!$B$2:$H$260,7))*0.34*0.6*0.0025*44/28)*298/1000)*SUM('Aktiv udtag - CO2 beregning'!G15:I15)))),""))) | F13: =IF(ISBLANK('Aktiv udtag - CO2 beregning'!F15),"",IF('Aktiv udtag - CO2 beregning'!D15=FALSE," ", IF('Aktiv udtag - CO2 beregning'!J15="OK",IF('Aktiv udtag - CO2 beregning'!E15<>"Buske og Frugttræer","",(IF(beregninger!I13="Nej",0,IF(beregninger!I13="Ja",IF('Aktiv udtag - CO2 beregning'!E15="Buske og Frugttræer", Emissionsfaktorer!$H$11*'Aktiv udtag - CO2 beregning'!$G15+'Aktiv udtag - CO2 beregning'!$H15*Emissionsfaktorer!$H$25+'Aktiv udtag - CO2 beregning'!$I15*Emissionsfaktorer!$H$40))+((IF('Aktiv udtag - CO2 beregning'!C15<1," ",VLOOKUP('Aktiv udtag - CO2 beregning'!C15,'Afgrøder 2014'!$B$2:$H$260,7))*0.01*44/28)*298/1000+(IF('Aktiv udtag - CO2 beregning'!C15<1," ",VLOOKUP('Aktiv udtag - CO2 beregning'!C15,'Afgrøder 2014'!$B$2:$H$260,7))*0.34*0.0025*44/28)*298/1000+(IF('Aktiv udtag - CO2 beregning'!C15<1," ",VLOOKUP('Aktiv udtag - CO2 beregning'!C15,'Afgrøder 2014'!$B$2:$H$260,7))*0.34*0.6*0.0025*44/28)*298/1000)*SUM('Aktiv udtag - CO2 beregning'!G15:I15)))),""))) | G13: =IF(ISBLANK('Aktiv udtag - CO2 beregning'!F15),"",IF('Aktiv udtag - CO2 beregning'!D15=FALSE," ", IF('Aktiv udtag - CO2 beregning'!J15="OK",IF('Aktiv udtag - CO2 beregning'!E15<>"Energiafgrøde","",(IF(beregninger!I13="Nej",0,IF(beregninger!I13="Ja",IF('Aktiv udtag - CO2 beregning'!E15="Energiafgrøde", Emissionsfaktorer!$H$11*'Aktiv udtag - CO2 beregning'!$G15+'Aktiv udtag - CO2 beregning'!$H15*Emissionsfaktorer!$H$25+'Aktiv udtag - CO2 beregning'!$I15*Emissionsfaktorer!$H$40))+((IF('Aktiv udtag - CO2 beregning'!C15<1," ",VLOOKUP('Aktiv udtag - CO2 beregning'!C15,'Afgrøder 2014'!$B$2:$H$260,7))*0.01*44/28)*298/1000+(IF('Aktiv udtag - CO2 beregning'!C15<1," ",VLOOKUP('Aktiv udtag - CO2 beregning'!C15,'Afgrøder 2014'!$B$2:$H$260,7))*0.34*0.0025*44/28)*298/1000+(IF('Aktiv udtag - CO2 beregning'!C15<1," ",VLOOKUP('Aktiv udtag - CO2 beregning'!C15,'Afgrøder 2014'!$B$2:$H$260,7))*0.34*0.6*0.0025*44/28)*298/1000)*SUM('Aktiv udtag - CO2 beregning'!G15:I15)))),""))) | I13: =IF(ISBLANK('Aktiv udtag - CO2 beregning'!C15)," ",IFERROR(IF(MATCH('Aktiv udtag - CO2 beregning'!C15,'Afgrøder 2014'!$B$2:$B$261,0),VLOOKUP('Aktiv udtag - CO2 beregning'!C15,'Afgrøder 2014'!$B$2:$H$261,4)),"Ukendt")) | J13: =IF((I13="ja"),0,'Aktiv udtag - CO2 beregning'!F15) -> 0
A14: =IF(ISBLANK('Aktiv udtag - CO2 beregning'!F16),"",IF('Aktiv udtag - CO2 beregning'!D16=FALSE," ", IF('Aktiv udtag - CO2 beregning'!J16="OK",IF('Aktiv udtag - CO2 beregning'!E16<>"Omdrift","",(IF(beregninger!I14="Nej",0,IF(beregninger!I14="Ja",IF('Aktiv udtag - CO2 beregning'!E16="Omdrift", 'Aktiv udtag - CO2 beregning'!G16*Emissionsfaktorer!$H$6+'Aktiv udtag - CO2 beregning'!$H16*Emissionsfaktorer!$H$20+'Aktiv udtag - CO2 beregning'!$I16*Emissionsfaktorer!$H$35))+((IF('Aktiv udtag - CO2 beregning'!C16<1," ",VLOOKUP('Aktiv udtag - CO2 beregning'!C16,'Afgrøder 2014'!$B$2:$H$260,7))*0.01*44/28)*298/1000+(IF('Aktiv udtag - CO2 beregning'!C16<1," ",VLOOKUP('Aktiv udtag - CO2 beregning'!C16,'Afgrøder 2014'!$B$2:$H$260,7))*0.34*0.0025*44/28)*298/1000+(IF('Aktiv udtag - CO2 beregning'!C16<1," ",VLOOKUP('Aktiv udtag - CO2 beregning'!C16,'Afgrøder 2014'!$B$2:$H$260,7))*0.34*0.6*0.0025*44/28)*298/1000)*SUM('Aktiv udtag - CO2 beregning'!G16:I16)))),""))) | B14: =IF(ISBLANK('Aktiv udtag - CO2 beregning'!F16),"",IF('Aktiv udtag - CO2 beregning'!D16=FALSE," ", IF('Aktiv udtag - CO2 beregning'!J16="OK",IF('Aktiv udtag - CO2 beregning'!E16<>"Permanent Græs","",(IF(beregninger!I14="Nej",0,IF(beregninger!I14="Ja",IF('Aktiv udtag - CO2 beregning'!E16="Permanent Græs", Emissionsfaktorer!$H$7*'Aktiv udtag - CO2 beregning'!$G16+'Aktiv udtag - CO2 beregning'!$H16*Emissionsfaktorer!$H$21+'Aktiv udtag - CO2 beregning'!$I16*Emissionsfaktorer!$H$36))+((IF('Aktiv udtag - CO2 beregning'!C16<1," ",VLOOKUP('Aktiv udtag - CO2 beregning'!C16,'Afgrøder 2014'!$B$2:$H$260,7))*0.01*44/28)*298/1000+(IF('Aktiv udtag - CO2 beregning'!C16<1," ",VLOOKUP('Aktiv udtag - CO2 beregning'!C16,'Afgrøder 2014'!$B$2:$H$260,7))*0.34*0.0025*44/28)*298/1000+(IF('Aktiv udtag - CO2 beregning'!C16<1," ",VLOOKUP('Aktiv udtag - CO2 beregning'!C16,'Afgrøder 2014'!$B$2:$H$260,7))*0.34*0.6*0.0025*44/28)*298/1000)*SUM('Aktiv udtag - CO2 beregning'!G16:I16)))),""))) | C14: =IF(ISBLANK('Aktiv udtag - CO2 beregning'!F16),"",IF('Aktiv udtag - CO2 beregning'!D16=FALSE," ", IF('Aktiv udtag - CO2 beregning'!J16="OK",IF('Aktiv udtag - CO2 beregning'!E16<>"Vådområde","",(IF(beregninger!I14="Nej",0,IF(beregninger!I14="Ja",IF('Aktiv udtag - CO2 beregning'!E16="Vådområde", Emissionsfaktorer!$H$9*'Aktiv udtag - CO2 beregning'!$G16+'Aktiv udtag - CO2 beregning'!$H16*Emissionsfaktorer!$H$23+'Aktiv udtag - CO2 beregning'!$I16*Emissionsfaktorer!$H$38))+((IF('Aktiv udtag - CO2 beregning'!C16<1," ",VLOOKUP('Aktiv udtag - CO2 beregning'!C16,'Afgrøder 2014'!$B$2:$H$260,7))*0.01*44/28)*298/1000+(IF('Aktiv udtag - CO2 beregning'!C16<1," ",VLOOKUP('Aktiv udtag - CO2 beregning'!C16,'Afgrøder 2014'!$B$2:$H$260,7))*0.34*0.0025*44/28)*298/1000+(IF('Aktiv udtag - CO2 beregning'!C16<1," ",VLOOKUP('Aktiv udtag - CO2 beregning'!C16,'Afgrøder 2014'!$B$2:$H$260,7))*0.34*0.6*0.0025*44/28)*298/1000)*SUM('Aktiv udtag - CO2 beregning'!G16:I16)))),""))) | D14: =IF(ISBLANK('Aktiv udtag - CO2 beregning'!F16),"",IF('Aktiv udtag - CO2 beregning'!D16=FALSE," ", IF('Aktiv udtag - CO2 beregning'!J16="OK",IF('Aktiv udtag - CO2 beregning'!E16<>"Skov","",(IF(beregninger!I14="Nej",0,IF(beregninger!I14="Ja",IF('Aktiv udtag - CO2 beregning'!E16="Skov", Emissionsfaktorer!$H$9*'Aktiv udtag - CO2 beregning'!$G16+'Aktiv udtag - CO2 beregning'!$H16*Emissionsfaktorer!$H$23+'Aktiv udtag - CO2 beregning'!$I16*Emissionsfaktorer!$H$38))+((IF('Aktiv udtag - CO2 beregning'!C16<1," ",VLOOKUP('Aktiv udtag - CO2 beregning'!C16,'Afgrøder 2014'!$B$2:$H$260,7))*0.01*44/28)*298/1000+(IF('Aktiv udtag - CO2 beregning'!C16<1," ",VLOOKUP('Aktiv udtag - CO2 beregning'!C16,'Afgrøder 2014'!$B$2:$H$260,7))*0.34*0.0025*44/28)*298/1000+(IF('Aktiv udtag - CO2 beregning'!C16<1," ",VLOOKUP('Aktiv udtag - CO2 beregning'!C16,'Afgrøder 2014'!$B$2:$H$260,7))*0.34*0.6*0.0025*44/28)*298/1000)*SUM('Aktiv udtag - CO2 beregning'!G16:I16)))),""))) | E14: =IF(ISBLANK('Aktiv udtag - CO2 beregning'!F16),"",IF('Aktiv udtag - CO2 beregning'!D16=FALSE," ", IF('Aktiv udtag - CO2 beregning'!J16="OK",IF('Aktiv udtag - CO2 beregning'!E16<>"Naturområde","",(IF(beregninger!I14="Nej",0,IF(beregninger!I14="Ja",IF('Aktiv udtag - CO2 beregning'!E16="Naturområde", Emissionsfaktorer!$H$8*'Aktiv udtag - CO2 beregning'!$G16+'Aktiv udtag - CO2 beregning'!$H16*Emissionsfaktorer!$H$22+'Aktiv udtag - CO2 beregning'!$I16*Emissionsfaktorer!$H$37))+((IF('Aktiv udtag - CO2 beregning'!C16<1," ",VLOOKUP('Aktiv udtag - CO2 beregning'!C16,'Afgrøder 2014'!$B$2:$H$260,7))*0.01*44/28)*298/1000+(IF('Aktiv udtag - CO2 beregning'!C16<1," ",VLOOKUP('Aktiv udtag - CO2 beregning'!C16,'Afgrøder 2014'!$B$2:$H$260,7))*0.34*0.0025*44/28)*298/1000+(IF('Aktiv udtag - CO2 beregning'!C16<1," ",VLOOKUP('Aktiv udtag - CO2 beregning'!C16,'Afgrøder 2014'!$B$2:$H$260,7))*0.34*0.6*0.0025*44/28)*298/1000)*SUM('Aktiv udtag - CO2 beregning'!G16:I16)))),""))) | F14: =IF(ISBLANK('Aktiv udtag - CO2 beregning'!F16),"",IF('Aktiv udtag - CO2 beregning'!D16=FALSE," ", IF('Aktiv udtag - CO2 beregning'!J16="OK",IF('Aktiv udtag - CO2 beregning'!E16<>"Buske og Frugttræer","",(IF(beregninger!I14="Nej",0,IF(beregninger!I14="Ja",IF('Aktiv udtag - CO2 beregning'!E16="Buske og Frugttræer", Emissionsfaktorer!$H$11*'Aktiv udtag - CO2 beregning'!$G16+'Aktiv udtag - CO2 beregning'!$H16*Emissionsfaktorer!$H$25+'Aktiv udtag - CO2 beregning'!$I16*Emissionsfaktorer!$H$40))+((IF('Aktiv udtag - CO2 beregning'!C16<1," ",VLOOKUP('Aktiv udtag - CO2 beregning'!C16,'Afgrøder 2014'!$B$2:$H$260,7))*0.01*44/28)*298/1000+(IF('Aktiv udtag - CO2 beregning'!C16<1," ",VLOOKUP('Aktiv udtag - CO2 beregning'!C16,'Afgrøder 2014'!$B$2:$H$260,7))*0.34*0.0025*44/28)*298/1000+(IF('Aktiv udtag - CO2 beregning'!C16<1," ",VLOOKUP('Aktiv udtag - CO2 beregning'!C16,'Afgrøder 2014'!$B$2:$H$260,7))*0.34*0.6*0.0025*44/28)*298/1000)*SUM('Aktiv udtag - CO2 beregning'!G16:I16)))),""))) | G14: =IF(ISBLANK('Aktiv udtag - CO2 beregning'!F16),"",IF('Aktiv udtag - CO2 beregning'!D16=FALSE," ", IF('Aktiv udtag - CO2 beregning'!J16="OK",IF('Aktiv udtag - CO2 beregning'!E16<>"Energiafgrøde","",(IF(beregninger!I14="Nej",0,IF(beregninger!I14="Ja",IF('Aktiv udtag - CO2 beregning'!E16="Energiafgrøde", Emissionsfaktorer!$H$11*'Aktiv udtag - CO2 beregning'!$G16+'Aktiv udtag - CO2 beregning'!$H16*Emissionsfaktorer!$H$25+'Aktiv udtag - CO2 beregning'!$I16*Emissionsfaktorer!$H$40))+((IF('Aktiv udtag - CO2 beregning'!C16<1," ",VLOOKUP('Aktiv udtag - CO2 beregning'!C16,'Afgrøder 2014'!$B$2:$H$260,7))*0.01*44/28)*298/1000+(IF('Aktiv udtag - CO2 beregning'!C16<1," ",VLOOKUP('Aktiv udtag - CO2 beregning'!C16,'Afgrøder 2014'!$B$2:$H$260,7))*0.34*0.0025*44/28)*298/1000+(IF('Aktiv udtag - CO2 beregning'!C16<1," ",VLOOKUP('Aktiv udtag - CO2 beregning'!C16,'Afgrøder 2014'!$B$2:$H$260,7))*0.34*0.6*0.0025*44/28)*298/1000)*SUM('Aktiv udtag - CO2 beregning'!G16:I16)))),""))) | I14: =IF(ISBLANK('Aktiv udtag - CO2 beregning'!C16)," ",IFERROR(IF(MATCH('Aktiv udtag - CO2 beregning'!C16,'Afgrøder 2014'!$B$2:$B$261,0),VLOOKUP('Aktiv udtag - CO2 beregning'!C16,'Afgrøder 2014'!$B$2:$H$261,4)),"Ukendt")) | J14: =IF((I14="ja"),0,'Aktiv udtag - CO2 beregning'!F16) -> 0
